PDS_VERSION_ID = PDS3
/* FILE DATA ELEMENTS */
RECORD_TYPE = UNDEFINED
/* POINTERS TO DATA OBJECTS */
^IMAGE = ("HN425_0000_P14.TIF")
/* IDENTIFICATION DATA ELEMENTS */
DATA_SET_ID = "MEX-M-HRSC-4-REFDR-MAPPROJECT-EXT8-V4.0"
DATA_SET_NAME = "MARS EXPRESS HRSC MAP PROJECTED REFDR EXTENSION8 V4.0"
DETECTOR_ID = MEX_HRSC_P1
EVENT_TYPE = "MARS-REGIONAL-MAPPING-Gl-Pf-La"
INSTRUMENT_HOST_ID = MEX
INSTRUMENT_HOST_NAME = "MARS EXPRESS"
INSTRUMENT_ID = HRSC
INSTRUMENT_NAME = "HIGH RESOLUTION STEREO CAMERA"
MISSION_NAME = "MARS EXPRESS"
MISSION_PHASE_NAME = ME_Phase_47
PROCESSING_LEVEL_ID = 4
PRODUCT_CREATION_TIME = 2023-01-28T22:22:56.000Z
PRODUCT_ID = "HN425_0000_P14.TIF"
RELEASE_ID = 0004
REVISION_ID = 0000
/* QUALITY DATA ELEMENTS */
DATA_QUALITY_ID = 1
DATA_QUALITY_DESC = "Data calculated based on original SPICE kernels"
/* TIME DATA ELEMENTS */
SPACECRAFT_CLOCK_START_COUNT = "1/0606235635.25701"
SPACECRAFT_CLOCK_STOP_COUNT = "1/0606235914.59372"
START_TIME = 2022-07-18T14:48:44.459Z
STOP_TIME = 2022-07-18T14:52:11.974Z
/* ORBITAL DATA ELEMENTS */
ASCENDING_NODE_LONGITUDE = 137.67
MAXIMUM_RESOLUTION = 0.0297
FOOTPRINT_POINT_LATITUDE = (-83.5037,-83.3391,-83.156,-82.9155, -82.9088,-82.9261,-82.4765,-82.1089, -81.7922,-81.5674,-81.3411,-81.1127, -80.8835,-80.5371,-80.3046,-79.9541, -79.7198,-79.484,-79.2467,-78.8923, -78.6555,-78.2988,-77.9376,-77.6977, -77.4579,-77.2194,-76.8606,-76.502, -76.1409,-75.901,-75.6546,-75.2858, -75.0396,-74.7931,-74.5424,-74.2897, -74.037,-73.6582,-73.4018,-73.1433, -72.885,-72.6267,-72.3652,-72.1012, -71.8374,-71.5738,-71.1708,-71.0362, -70.9936,-71.0843,-71.1224,-71.1777, -71.2253,-71.227,-71.2282,-71.5007, -71.9069,-72.1737,-72.4414,-72.8417, -73.1036,-73.3658,-73.628,-73.8893, -74.1457,-74.4024,-74.6595,-75.0435, -75.2941,-75.547,-75.7983,-76.0503, -76.2999,-76.55,-76.7948,-77.0388, -77.2839,-77.6564,-78.0183,-78.2651, -78.5149,-78.8839,-79.13,-79.375, -79.6203,-79.8654,-80.1102,-80.4751, -80.7183,-81.0825,-81.4479,-81.6911, -82.0506,-82.4146,-82.6422,-82.8419, -83.1389,-83.4333,-83.5311,-83.5037)
FOOTPRINT_POINT_LONGITUDE = (368.774,365.861,363.055,359.869, 359.787,359.077,361.492,363.209,364.536 ,365.407,366.228,367.014,367.75,368.789 ,369.442,370.359,370.927,371.478, 372.013,372.74,373.198,373.853,374.472, 374.869,375.246,375.596,376.101,376.572 ,377.032,377.315,377.598,377.998, 378.255,378.504,378.747,378.984,379.212 ,379.541,379.753,379.96,380.159,380.353 ,380.541,380.725,380.903,381.075, 381.327,381.408,381.434,383.054,383.814 ,385.046,386.274,386.321,386.337,386.21 ,386.013,385.878,385.739,385.522, 385.374,385.221,385.062,384.899,384.733 ,384.562,384.384,384.106,383.916, 383.719,383.515,383.303,383.084,382.859 ,382.627,382.386,382.135,381.737, 381.319,381.021,380.705,380.212,379.864 ,379.499,379.117,378.714,378.292, 377.618,377.137,376.366,375.522,374.917 ,373.946,372.864,372.127,371.437, 370.329,369.118,368.689,368.774)
ORBIT_NUMBER = 23425
ORBITAL_ECCENTRICITY = 0.575
ORBITAL_INCLINATION = 87.02
ORBITAL_SEMIMAJOR_AXIS = 8753.25
PERIAPSIS_ALTITUDE = 343.74
PERIAPSIS_ARGUMENT_ANGLE = 267.02
PERIAPSIS_TIME = 2022-07-18T14:46:10.000Z
SPACECRAFT_ORIENTATION = (0.0,1.0,0.0)
^MEX_ORIENTATION_DESC = "MEX_ORIENTATION_DESC.TXT"
SPACECRAFT_POINTING_MODE = ACROSSTRACK
^MEX_POINTING_DESC = "MEX_POINTING_DESC.TXT"
RIGHT_ASCENSION = -1e+32
DECLINATION = -1e+32
OFFSET_ANGLE = 0.539
SPACECRAFT_SOLAR_DISTANCE = 2.07428e+08
TARGET_NAME = MARS
/* CAMERA DATA ELEMENTS */
DETECTOR_TEMPERATURE = 15.5159
FOCAL_PLANE_TEMPERATURE = 7.7677
INST_CMPRS_NAME = "DISCRETE COSINE TRANSFORMATION (DCT)"
INST_CMPRS_RATIO = 15.4198
INST_CMPRS_QUALITY = 0
INST_CMPRS_QUANTZ_TBL_ID = 0
INSTRUMENT_TEMPERATURE = 11.0301
LENS_TEMPERATURE = 8.1755
MACROPIXEL_SIZE = 2
MISSING_FRAMES = 1
PIXEL_SUBSAMPLING_FLAG = N
SIGNAL_CHAIN_ID = 3
/* RADIOMETRIC DATA ELEMENTS */
BANDWIDTH = 174.0
CENTER_FILTER_WAVELENGTH = 675.0
RADIANCE_OFFSET = 6.49917
RADIANCE_SCALING_FACTOR = 0.0346166
REFLECTANCE_SCALING_FACTOR = 0.000801135
MEX:REFLECTANCE_OFFSET = 0.150411
/* IMAGE OBJECT DEFINITIONS */
OBJECT = IMAGE
  INTERCHANGE_FORMAT = BINARY
  LINES = 29882
  LINE_SAMPLES = 11777
  SAMPLE_TYPE = UNSIGNED_INTEGER
  SAMPLE_BITS = 8
  BANDS = 1
  BAND_STORAGE_TYPE = BAND_SEQUENTIAL
  MAXIMUM = 255
  MEAN = 121.145
  MINIMUM = 1
  STANDARD_DEVIATION = 77.2701
END_OBJECT = IMAGE
/* MAP OBJECT DEFINITIONS */
OBJECT = IMAGE_MAP_PROJECTION
  ^DATA_SET_MAP_PROJECTION_CATALOG= "DSMAP.CAT"
  A_AXIS_RADIUS = 3396.0
  B_AXIS_RADIUS = 3396.0
  C_AXIS_RADIUS = 3396.0
  CENTER_LATITUDE = 0.0
  CENTER_LONGITUDE = 18.0
  COORDINATE_SYSTEM_NAME = PLANETOGRAPHIC
  COORDINATE_SYSTEM_TYPE = "BODY-FIXED ROTATING"
  EASTERNMOST_LONGITUDE = 26.337
  FIRST_STANDARD_PARALLEL = "N/A"
  LINE_FIRST_PIXEL = 1
  LINE_LAST_PIXEL = 29882
  LINE_PROJECTION_OFFSET = -168300.25
  MAP_PROJECTION_ROTATION = 0.0
  MAP_PROJECTION_TYPE = SINUSOIDAL
  MAP_RESOLUTION = 2370.85521546667
  MAP_SCALE = 0.025
  MAXIMUM_LATITUDE = -70.9936
  MINIMUM_LATITUDE = -83.5311
  POSITIVE_LONGITUDE_DIRECTION = EAST
  REFERENCE_LATITUDE = "N/A"
  REFERENCE_LONGITUDE = "N/A"
  SAMPLE_FIRST_PIXEL = 1
  SAMPLE_LAST_PIXEL = 11777
  SAMPLE_PROJECTION_OFFSET = 5509.25
  SECOND_STANDARD_PARALLEL = "N/A"
  WESTERNMOST_LONGITUDE = -0.923
END_OBJECT = IMAGE_MAP_PROJECTION
END
