PDS_VERSION_ID = PDS3
/* FILE DATA ELEMENTS */
RECORD_TYPE = UNDEFINED
/* POINTERS TO DATA OBJECTS */
^IMAGE = ("HN411_0000_IR4.TIF")
/* IDENTIFICATION DATA ELEMENTS */
DATA_SET_ID = "MEX-M-HRSC-4-REFDR-MAPPROJECT-EXT8-V4.0"
DATA_SET_NAME = "MARS EXPRESS HRSC MAP PROJECTED REFDR EXTENSION8 V4.0"
DETECTOR_ID = MEX_HRSC_IR
EVENT_TYPE = "MARS-REGIONAL-MAPPING-Gl-Pf-La"
INSTRUMENT_HOST_ID = MEX
INSTRUMENT_HOST_NAME = "MARS EXPRESS"
INSTRUMENT_ID = HRSC
INSTRUMENT_NAME = "HIGH RESOLUTION STEREO CAMERA"
MISSION_NAME = "MARS EXPRESS"
MISSION_PHASE_NAME = ME_Phase_47
PROCESSING_LEVEL_ID = 4
PRODUCT_CREATION_TIME = 2023-01-28T22:22:56.000Z
PRODUCT_ID = "HN411_0000_IR4.TIF"
RELEASE_ID = 0004
REVISION_ID = 0000
/* QUALITY DATA ELEMENTS */
DATA_QUALITY_ID = 1
DATA_QUALITY_DESC = "Data calculated based on original SPICE kernels"
/* TIME DATA ELEMENTS */
SPACECRAFT_CLOCK_START_COUNT = "1/0605883633.24896"
SPACECRAFT_CLOCK_STOP_COUNT = "1/0605883907.41513"
START_TIME = 2022-07-14T13:02:06.548Z
STOP_TIME = 2022-07-14T13:05:33.117Z
/* ORBITAL DATA ELEMENTS */
ASCENDING_NODE_LONGITUDE = 137.92
MAXIMUM_RESOLUTION = 0.0594
FOOTPRINT_POINT_LATITUDE = (-82.6399,-82.4931,-82.3347,-82.1934, -82.1885,-82.2413,-81.9386,-81.5323, -81.2228,-80.9135,-80.7061,-80.4982, -80.0806,-79.7662,-79.3172,-79.065, -78.8131,-78.4346,-78.1818,-77.9298, -77.677,-77.2962,-77.0439,-76.7902, -76.5381,-76.1588,-75.9069,-75.6541, -75.4017,-75.0234,-74.7711,-74.3929, -74.0147,-73.7635,-73.3867,-73.1305, -72.8734,-72.4876,-72.2307,-71.9702, -71.7072,-71.4446,-71.182,-70.7834, -70.5171,-70.2494,-70.1157,-70.0299, -70.099,-70.1522,-70.186,-70.2242, -70.2256,-70.227,-70.4967,-70.7667, -71.0373,-71.3059,-71.5707,-71.8359, -72.1015,-72.367,-72.6266,-72.8864, -73.1468,-73.4074,-73.6652,-73.9198, -74.1749,-74.4299,-74.8132,-75.1966, -75.4529,-75.7097,-75.9666,-76.2226, -76.606,-76.8627,-77.2482,-77.6374, -77.8984,-78.1569,-78.5444,-78.8022, -79.059,-79.4509,-79.7108,-79.9502, -80.3838,-80.6017,-80.9267,-81.1438, -81.3594,-81.5765,-81.7921,-82.0082, -82.331,-82.5462,-82.6536,-82.6399)
FOOTPRINT_POINT_LONGITUDE = (366.406,363.267,360.406,358.171, 358.098,357.641,358.716,360.02,360.93, 361.764,362.29,362.791,363.728,364.379, 365.232,365.68,366.104,366.703,367.08, 367.437,367.779,368.271,368.575,368.871 ,369.15,369.55,369.801,370.045,370.279, 370.613,370.826,371.131,371.42,371.602, 371.865,372.037,372.202,372.441,372.594 ,372.743,372.889,373.03,373.167,373.365 ,373.491,373.615,373.675,373.713, 375.054,376.236,377.083,378.189,378.232 ,378.245,378.156,378.063,377.967, 377.869,377.77,377.667,377.561,377.452, 377.342,377.227,377.11,376.987,376.862, 376.735,376.604,376.467,376.253,376.026 ,375.868,375.705,375.534,375.356, 375.074,374.877,374.565,374.236,374.006 ,373.762,373.374,373.099,372.81,372.354 ,372.029,371.712,371.095,370.765, 370.239,369.867,369.474,369.061,368.625 ,368.166,367.426,366.897,366.621, 366.406)
ORBIT_NUMBER = 23411
ORBITAL_ECCENTRICITY = 0.575
ORBITAL_INCLINATION = 87.02
ORBITAL_SEMIMAJOR_AXIS = 8752.85
PERIAPSIS_ALTITUDE = 343.35
PERIAPSIS_ARGUMENT_ANGLE = 269.37
PERIAPSIS_TIME = 2022-07-14T12:59:47.000Z
SPACECRAFT_ORIENTATION = (0.0,1.0,0.0)
^MEX_ORIENTATION_DESC = "MEX_ORIENTATION_DESC.TXT"
SPACECRAFT_POINTING_MODE = NADIR
^MEX_POINTING_DESC = "MEX_POINTING_DESC.TXT"
RIGHT_ASCENSION = -1e+32
DECLINATION = -1e+32
OFFSET_ANGLE = -1e+32
SPACECRAFT_SOLAR_DISTANCE = 2.0721e+08
TARGET_NAME = MARS
/* CAMERA DATA ELEMENTS */
DETECTOR_TEMPERATURE = 16.7393
FOCAL_PLANE_TEMPERATURE = 8.1755
INST_CMPRS_NAME = "DISCRETE COSINE TRANSFORMATION (DCT)"
INST_CMPRS_RATIO = 25.355
INST_CMPRS_QUALITY = 0
INST_CMPRS_QUANTZ_TBL_ID = 0
INSTRUMENT_TEMPERATURE = 11.0301
LENS_TEMPERATURE = 8.3794
MACROPIXEL_SIZE = 4
MISSING_FRAMES = 0
PIXEL_SUBSAMPLING_FLAG = N
SIGNAL_CHAIN_ID = 2
/* RADIOMETRIC DATA ELEMENTS */
BANDWIDTH = 81.0
CENTER_FILTER_WAVELENGTH = 955.5
RADIANCE_OFFSET = 1.36713
RADIANCE_SCALING_FACTOR = 0.0120046
REFLECTANCE_SCALING_FACTOR = 0.00111199
MEX:REFLECTANCE_OFFSET = 0.126637
/* IMAGE OBJECT DEFINITIONS */
OBJECT = IMAGE
  INTERCHANGE_FORMAT = BINARY
  LINES = 15068
  LINE_SAMPLES = 4759
  SAMPLE_TYPE = UNSIGNED_INTEGER
  SAMPLE_BITS = 8
  BANDS = 1
  BAND_STORAGE_TYPE = BAND_SEQUENTIAL
  MAXIMUM = 255
  MEAN = 146.743
  MINIMUM = 1
  STANDARD_DEVIATION = 80.5405
END_OBJECT = IMAGE
/* MAP OBJECT DEFINITIONS */
OBJECT = IMAGE_MAP_PROJECTION
  ^DATA_SET_MAP_PROJECTION_CATALOG= "DSMAP.CAT"
  A_AXIS_RADIUS = 3396.0
  B_AXIS_RADIUS = 3396.0
  C_AXIS_RADIUS = 3396.0
  CENTER_LATITUDE = 0.0
  CENTER_LONGITUDE = 12.0
  COORDINATE_SYSTEM_NAME = PLANETOGRAPHIC
  COORDINATE_SYSTEM_TYPE = "BODY-FIXED ROTATING"
  EASTERNMOST_LONGITUDE = 18.245
  FIRST_STANDARD_PARALLEL = "N/A"
  LINE_FIRST_PIXEL = 1
  LINE_LAST_PIXEL = 15068
  LINE_PROJECTION_OFFSET = -83007.375
  MAP_PROJECTION_ROTATION = 0.0
  MAP_PROJECTION_TYPE = SINUSOIDAL
  MAP_RESOLUTION = 1185.42760773333
  MAP_SCALE = 0.05
  MAXIMUM_LATITUDE = -70.0299
  MINIMUM_LATITUDE = -82.6536
  POSITIVE_LONGITUDE_DIRECTION = EAST
  REFERENCE_LATITUDE = "N/A"
  REFERENCE_LONGITUDE = "N/A"
  SAMPLE_FIRST_PIXEL = 1
  SAMPLE_LAST_PIXEL = 4759
  SAMPLE_PROJECTION_OFFSET = 2296.625
  SECOND_STANDARD_PARALLEL = "N/A"
  WESTERNMOST_LONGITUDE = -2.359
END_OBJECT = IMAGE_MAP_PROJECTION
END
