PDS_VERSION_ID = PDS3
/* FILE DATA ELEMENTS */
RECORD_TYPE = UNDEFINED
/* POINTERS TO DATA OBJECTS */
^IMAGE = ("HN406_0000_IR4.TIF")
/* IDENTIFICATION DATA ELEMENTS */
DATA_SET_ID = "MEX-M-HRSC-4-REFDR-MAPPROJECT-EXT8-V4.0"
DATA_SET_NAME = "MARS EXPRESS HRSC MAP PROJECTED REFDR EXTENSION8 V4.0"
DETECTOR_ID = MEX_HRSC_IR
EVENT_TYPE = "MARS-LOCAL-MAPPING-Im"
INSTRUMENT_HOST_ID = MEX
INSTRUMENT_HOST_NAME = "MARS EXPRESS"
INSTRUMENT_ID = HRSC
INSTRUMENT_NAME = "HIGH RESOLUTION STEREO CAMERA"
MISSION_NAME = "MARS EXPRESS"
MISSION_PHASE_NAME = ME_Phase_47
PROCESSING_LEVEL_ID = 4
PRODUCT_CREATION_TIME = 2023-01-28T22:22:56.000Z
PRODUCT_ID = "HN406_0000_IR4.TIF"
RELEASE_ID = 0004
REVISION_ID = 0000
/* QUALITY DATA ELEMENTS */
DATA_QUALITY_ID = 1
DATA_QUALITY_DESC = "Data calculated based on original SPICE kernels"
/* TIME DATA ELEMENTS */
SPACECRAFT_CLOCK_START_COUNT = "1/0605759109.24913"
SPACECRAFT_CLOCK_STOP_COUNT = "1/0605759784.37771"
START_TIME = 2022-07-13T02:36:12.828Z
STOP_TIME = 2022-07-13T02:47:49.923Z
/* ORBITAL DATA ELEMENTS */
ASCENDING_NODE_LONGITUDE = 138.0
MAXIMUM_RESOLUTION = 0.2068
FOOTPRINT_POINT_LATITUDE = (-11.9839,-12.0149,-12.0361,-12.0579, -12.0801,-12.1029,-12.1261,-12.1499, -12.1741,-12.1989,-12.2242,-12.25, -12.3033,-12.3587,-12.4162,-12.4757, -12.5141,-12.5693,-12.6261,-12.6678, -12.6762,-12.7048,-12.3201,-11.8182, -11.3296,-10.8511,-10.3837,-9.92648, -9.48142,-9.04511,-8.61906,-8.20371, -7.7972,-7.39946,-7.01117,-6.63193, -6.26084,-5.89896,-5.54498,-5.19984, -4.86296,-4.53211,-3.97257,-3.58747, -2.99211,-2.91963,-2.91882,-2.80809, -2.72196,-2.63846,-2.55759,-2.47917, -2.4031,-2.32998,-2.2594,-2.1914, -2.12551,-2.06211,-2.00113,-1.9424, -1.88619,-1.8316,-1.78047,-1.73274, -1.68672,-1.64226,-1.61242,-1.57376, -1.53665,-1.50984,-1.48532,-1.45437, -1.42632,-1.41874,-1.41638,-1.99126, -2.32712,-2.67091,-3.02286,-3.38199, -3.84567,-4.22063,-4.60439,-4.9974, -5.39721,-5.80549,-6.22454,-6.65277, -7.09232,-7.54126,-7.99339,-8.4602, -9.05152,-9.53451,-10.0321,-10.5428, -11.0667,-11.8723,-12.0092,-11.9839)
FOOTPRINT_POINT_LONGITUDE = (175.702,175.168,174.814,174.462,174.11 ,173.76,173.411,173.063,172.716,172.369 ,172.024,171.679,170.991,170.306, 169.623,168.941,168.515,167.918,167.321 ,166.895,166.81,166.779,166.702,166.599 ,166.496,166.393,166.29,166.188,166.085 ,165.983,165.881,165.78,165.678,165.577 ,165.476,165.376,165.275,165.175, 165.075,164.976,164.876,164.777,164.605 ,164.482,164.287,164.263,164.262, 164.869,165.357,165.845,166.333,166.82, 167.307,167.794,168.281,168.769,169.257 ,169.746,170.236,170.727,171.22,171.713 ,172.209,172.706,173.205,173.705, 174.082,174.587,175.093,175.474,175.858 ,176.371,176.888,177.017,177.064, 176.957,176.895,176.834,176.774,176.715 ,176.644,176.585,176.528,176.471, 176.415,176.359,176.305,176.252,176.201 ,176.151,176.098,176.048,175.984, 175.932,175.884,175.838,175.795,175.731 ,175.721,175.702)
ORBIT_NUMBER = 23406
ORBITAL_ECCENTRICITY = 0.575
ORBITAL_INCLINATION = 87.02
ORBITAL_SEMIMAJOR_AXIS = 8753.38
PERIAPSIS_ALTITUDE = 343.58
PERIAPSIS_ARGUMENT_ANGLE = 270.23
PERIAPSIS_TIME = 2022-07-13T02:04:42.000Z
SPACECRAFT_ORIENTATION = (0.0,1.0,0.0)
^MEX_ORIENTATION_DESC = "MEX_ORIENTATION_DESC.TXT"
SPACECRAFT_POINTING_MODE = ACROSSTRACK
^MEX_POINTING_DESC = "MEX_POINTING_DESC.TXT"
RIGHT_ASCENSION = -1e+32
DECLINATION = -1e+32
OFFSET_ANGLE = -1.603
SPACECRAFT_SOLAR_DISTANCE = 2.07141e+08
TARGET_NAME = MARS
/* CAMERA DATA ELEMENTS */
DETECTOR_TEMPERATURE = 17.7588
FOCAL_PLANE_TEMPERATURE = 9.195
INST_CMPRS_NAME = "DISCRETE COSINE TRANSFORMATION (DCT)"
INST_CMPRS_RATIO = 8.24763
INST_CMPRS_QUALITY = 0
INST_CMPRS_QUANTZ_TBL_ID = 0
INSTRUMENT_TEMPERATURE = 11.6418
LENS_TEMPERATURE = 9.3989
MACROPIXEL_SIZE = 2
MISSING_FRAMES = 0
PIXEL_SUBSAMPLING_FLAG = N
SIGNAL_CHAIN_ID = 3
/* RADIOMETRIC DATA ELEMENTS */
BANDWIDTH = 81.0
CENTER_FILTER_WAVELENGTH = 955.5
RADIANCE_OFFSET = 2.28266
RADIANCE_SCALING_FACTOR = 0.00742328
REFLECTANCE_SCALING_FACTOR = 0.000687163
MEX:REFLECTANCE_OFFSET = 0.211303
/* IMAGE OBJECT DEFINITIONS */
OBJECT = IMAGE
  INTERCHANGE_FORMAT = BINARY
  LINES = 6508
  LINE_SAMPLES = 4855
  SAMPLE_TYPE = UNSIGNED_INTEGER
  SAMPLE_BITS = 8
  BANDS = 1
  BAND_STORAGE_TYPE = BAND_SEQUENTIAL
  MAXIMUM = 255
  MEAN = 190.792
  MINIMUM = 1
  STANDARD_DEVIATION = 23.8148
END_OBJECT = IMAGE
/* MAP OBJECT DEFINITIONS */
OBJECT = IMAGE_MAP_PROJECTION
  ^DATA_SET_MAP_PROJECTION_CATALOG= "DSMAP.CAT"
  A_AXIS_RADIUS = 3396.0
  B_AXIS_RADIUS = 3396.0
  C_AXIS_RADIUS = 3396.0
  CENTER_LATITUDE = 0.0
  CENTER_LONGITUDE = 171.0
  COORDINATE_SYSTEM_NAME = PLANETOGRAPHIC
  COORDINATE_SYSTEM_TYPE = "BODY-FIXED ROTATING"
  EASTERNMOST_LONGITUDE = 177.064
  FIRST_STANDARD_PARALLEL = "N/A"
  LINE_FIRST_PIXEL = 1
  LINE_LAST_PIXEL = 6508
  LINE_PROJECTION_OFFSET = -850.75
  MAP_PROJECTION_ROTATION = 0.0
  MAP_PROJECTION_TYPE = SINUSOIDAL
  MAP_RESOLUTION = 592.713803866667
  MAP_SCALE = 0.1
  MAXIMUM_LATITUDE = -1.41638
  MINIMUM_LATITUDE = -12.7048
  POSITIVE_LONGITUDE_DIRECTION = EAST
  REFERENCE_LATITUDE = "N/A"
  REFERENCE_LONGITUDE = "N/A"
  SAMPLE_FIRST_PIXEL = 1
  SAMPLE_LAST_PIXEL = 4855
  SAMPLE_PROJECTION_OFFSET = 2962.75
  SECOND_STANDARD_PARALLEL = "N/A"
  WESTERNMOST_LONGITUDE = 164.262
END_OBJECT = IMAGE_MAP_PROJECTION
END
