PDS_VERSION_ID = PDS3
/* FILE DATA ELEMENTS */
RECORD_TYPE = UNDEFINED
/* POINTERS TO DATA OBJECTS */
^IMAGE = ("HN405_0009_GR4.TIF")
/* IDENTIFICATION DATA ELEMENTS */
DATA_SET_ID = "MEX-M-HRSC-4-REFDR-MAPPROJECT-EXT8-V4.0"
DATA_SET_NAME = "MARS EXPRESS HRSC MAP PROJECTED REFDR EXTENSION8 V4.0"
DETECTOR_ID = MEX_HRSC_GREEN
EVENT_TYPE = "MARS-TERMINATOR-CALIBRATION-Tc"
INSTRUMENT_HOST_ID = MEX
INSTRUMENT_HOST_NAME = "MARS EXPRESS"
INSTRUMENT_ID = HRSC
INSTRUMENT_NAME = "HIGH RESOLUTION STEREO CAMERA"
MISSION_NAME = "MARS EXPRESS"
MISSION_PHASE_NAME = ME_Phase_47
PROCESSING_LEVEL_ID = 4
PRODUCT_CREATION_TIME = 2023-01-28T22:22:56.000Z
PRODUCT_ID = "HN405_0009_GR4.TIF"
RELEASE_ID = 0004
REVISION_ID = 0000
/* QUALITY DATA ELEMENTS */
DATA_QUALITY_ID = 1
DATA_QUALITY_DESC = "Data calculated based on original SPICE kernels"
/* TIME DATA ELEMENTS */
SPACECRAFT_CLOCK_START_COUNT = "1/0605733831.25699"
SPACECRAFT_CLOCK_STOP_COUNT = "1/0605734425.54626"
START_TIME = 2022-07-12T19:27:36.434Z
STOP_TIME = 2022-07-12T19:32:29.421Z
/* ORBITAL DATA ELEMENTS */
ASCENDING_NODE_LONGITUDE = 138.03
MAXIMUM_RESOLUTION = 0.1884
FOOTPRINT_POINT_LATITUDE = (-6.88236,-6.37128,-6.06587,-5.71509, -5.3035,-4.80538,-4.17209,-3.77387, -3.28432,-2.6303,-2.17823,-1.50473, -1.87438,-1.08646,-2.38629,-3.71136, -4.81235,-5.83052,-6.74883,-7.48013, -8.31237,-8.71185,-9.01058,-9.72043, -10.2262,-10.8692,-11.1962,-11.7681, -12.0918,-12.6431,-13.506,-13.6487, -14.1635,-14.3403,-14.8046,-14.9974, -15.4394,-15.6338,-16.0713,-17.0742, -17.3454,-18.0617,-18.3822,-19.0606, -19.4313,-19.7688,-20.7334,-21.2172, -22.5035,-24.5441,-26.0514,-27.3739, -27.9894,-27.738,-28.7247,-29.3275, -29.1808,-30.366,-30.252,-31.6548, -31.4644,-32.2172,-32.1335,-32.9156, -32.8581,-33.7179,-33.8562,-33.0082, -32.4948,-31.7811,-31.1878,-30.6891, -30.2481,-29.8466,-29.1466,-28.5334, -27.9837,-27.4809,-27.0155,-26.1771, -25.7002,-25.0019,-24.3641,-23.7755, -23.2878,-23.2186,-23.1937,-21.2554, -19.8523,-18.5444,-17.3104,-16.1243, -14.2485,-12.3726,-11.1794,-9.92528, -8.57367,-7.26749,-7.06856,-6.88236)
FOOTPRINT_POINT_LONGITUDE = (245.133,243.414,242.44,241.366,240.157 ,238.76,237.075,236.06,234.855,233.311, 232.282,230.802,231.509,229.096,229.719 ,229.77,229.312,228.585,227.433,225.386 ,227.391,226.416,224.895,226.708, 224.403,226.149,224.311,225.876,223.722 ,225.348,224.514,222.853,224.609, 223.025,224.538,222.85,224.327,222.303, 223.926,224.328,222.235,224.349,222.265 ,224.065,220.711,222.55,224.363,221.463 ,223.675,224.458,224.072,222.872, 221.499,225.093,223.969,222.919,225.495 ,223.725,225.929,223.513,225.911, 224.614,226.464,225.159,226.835,225.356 ,225.067,227.894,229.517,231.684, 233.404,234.804,236.01,237.082,238.904, 240.451,241.804,243.015,244.114,246.05, 247.126,248.673,250.059,251.316,252.339 ,252.482,252.533,251.741,251.143, 250.572,250.011,249.466,248.614,247.799 ,247.281,246.737,246.144,245.548, 245.456,245.133)
ORBIT_NUMBER = 23405
ORBITAL_ECCENTRICITY = 0.575
ORBITAL_INCLINATION = 87.02
ORBITAL_SEMIMAJOR_AXIS = 8753.11
PERIAPSIS_ALTITUDE = 342.87
PERIAPSIS_ARGUMENT_ANGLE = 270.4
PERIAPSIS_TIME = 2022-07-12T19:05:41.000Z
SPACECRAFT_ORIENTATION = (0.0,1.0,0.0)
^MEX_ORIENTATION_DESC = "MEX_ORIENTATION_DESC.TXT"
SPACECRAFT_POINTING_MODE = FIXED
^MEX_POINTING_DESC = "MEX_POINTING_DESC.TXT"
RIGHT_ASCENSION = -1e+32
DECLINATION = -1e+32
OFFSET_ANGLE = -1e+32
SPACECRAFT_SOLAR_DISTANCE = 2.07128e+08
TARGET_NAME = MARS
/* CAMERA DATA ELEMENTS */
DETECTOR_TEMPERATURE = 21.6329
FOCAL_PLANE_TEMPERATURE = 8.7872
INST_CMPRS_NAME = "DISCRETE COSINE TRANSFORMATION (DCT)"
INST_CMPRS_RATIO = 10.157
INST_CMPRS_QUALITY = 0
INST_CMPRS_QUANTZ_TBL_ID = 0
INSTRUMENT_TEMPERATURE = 15.5159
LENS_TEMPERATURE = 9.195
MACROPIXEL_SIZE = 2
MISSING_FRAMES = 1
PIXEL_SUBSAMPLING_FLAG = N
SIGNAL_CHAIN_ID = 2
/* RADIOMETRIC DATA ELEMENTS */
BANDWIDTH = 88.0
CENTER_FILTER_WAVELENGTH = 538.0
RADIANCE_OFFSET = 0.0
RADIANCE_SCALING_FACTOR = 0.0199358
REFLECTANCE_SCALING_FACTOR = 0.00073638
MEX:REFLECTANCE_OFFSET = 0.0
/* IMAGE OBJECT DEFINITIONS */
OBJECT = IMAGE
  INTERCHANGE_FORMAT = BINARY
  LINES = 7013
  LINE_SAMPLES = 7954
  SAMPLE_TYPE = UNSIGNED_INTEGER
  SAMPLE_BITS = 8
  BANDS = 1
  BAND_STORAGE_TYPE = BAND_SEQUENTIAL
  MAXIMUM = 255
  MEAN = 218.186
  MINIMUM = 149
  STANDARD_DEVIATION = 16.3484
END_OBJECT = IMAGE
/* MAP OBJECT DEFINITIONS */
OBJECT = IMAGE_MAP_PROJECTION
  ^DATA_SET_MAP_PROJECTION_CATALOG= "DSMAP.CAT"
  A_AXIS_RADIUS = 3396.0
  B_AXIS_RADIUS = 3396.0
  C_AXIS_RADIUS = 3396.0
  CENTER_LATITUDE = -15.5386
  CENTER_LONGITUDE = 242.152
  COORDINATE_SYSTEM_NAME = PLANETOGRAPHIC
  COORDINATE_SYSTEM_TYPE = "BODY-FIXED ROTATING"
  EASTERNMOST_LONGITUDE = 252.533
  FIRST_STANDARD_PARALLEL = "N/A"
  LINE_FIRST_PIXEL = 1
  LINE_LAST_PIXEL = 7013
  LINE_PROJECTION_OFFSET = 3222.0
  MAP_PROJECTION_ROTATION = 0.0
  MAP_PROJECTION_TYPE = ORTHOGRAPHIC
  MAP_RESOLUTION = 296.356901933333
  MAP_SCALE = 0.2
  MAXIMUM_LATITUDE = -1.08646
  MINIMUM_LATITUDE = -33.8562
  POSITIVE_LONGITUDE_DIRECTION = EAST
  REFERENCE_LATITUDE = "N/A"
  REFERENCE_LONGITUDE = "N/A"
  SAMPLE_FIRST_PIXEL = 1
  SAMPLE_LAST_PIXEL = 7954
  SAMPLE_PROJECTION_OFFSET = 5046.0
  SECOND_STANDARD_PARALLEL = "N/A"
  WESTERNMOST_LONGITUDE = 220.711
END_OBJECT = IMAGE_MAP_PROJECTION
END
