PDS_VERSION_ID = PDS3
/* FILE DATA ELEMENTS */
RECORD_TYPE = UNDEFINED
/* POINTERS TO DATA OBJECTS */
^IMAGE = ("HN399_0000_RE4.TIF")
/* IDENTIFICATION DATA ELEMENTS */
DATA_SET_ID = "MEX-M-HRSC-4-REFDR-MAPPROJECT-EXT8-V4.0"
DATA_SET_NAME = "MARS EXPRESS HRSC MAP PROJECTED REFDR EXTENSION8 V4.0"
DETECTOR_ID = MEX_HRSC_RED
EVENT_TYPE = "MARS-REGIONAL-MAPPING-Gl-Pf-La"
INSTRUMENT_HOST_ID = MEX
INSTRUMENT_HOST_NAME = "MARS EXPRESS"
INSTRUMENT_ID = HRSC
INSTRUMENT_NAME = "HIGH RESOLUTION STEREO CAMERA"
MISSION_NAME = "MARS EXPRESS"
MISSION_PHASE_NAME = ME_Phase_47
PROCESSING_LEVEL_ID = 4
PRODUCT_CREATION_TIME = 2023-01-28T22:22:56.000Z
PRODUCT_ID = "HN399_0000_RE4.TIF"
RELEASE_ID = 0004
REVISION_ID = 0000
/* QUALITY DATA ELEMENTS */
DATA_QUALITY_ID = 1
DATA_QUALITY_DESC = "Data calculated based on original SPICE kernels"
/* TIME DATA ELEMENTS */
SPACECRAFT_CLOCK_START_COUNT = "1/0605582035.25686"
SPACECRAFT_CLOCK_STOP_COUNT = "1/0605582281.42813"
START_TIME = 2022-07-11T01:14:36.092Z
STOP_TIME = 2022-07-11T01:17:12.672Z
/* ORBITAL DATA ELEMENTS */
ASCENDING_NODE_LONGITUDE = 138.13
MAXIMUM_RESOLUTION = 0.031
FOOTPRINT_POINT_LATITUDE = (-74.4599,-74.4222,-74.3914,-74.3289, -74.2688,-74.2664,-74.1835,-73.8863, -73.6858,-73.4875,-73.2899,-73.0903, -72.8912,-72.691,-72.4927,-72.2941, -71.9967,-71.7966,-71.5961,-71.2001, -70.9032,-70.6027,-70.2052,-70.0064, -69.6111,-69.2146,-69.015,-68.7157, -68.5165,-68.1225,-67.722,-67.5172, -67.3131,-67.0071,-66.8025,-66.6007, -66.2917,-66.084,-65.7728,-65.5644, -65.2518,-65.0405,-64.8263,-64.5035, -64.1831,-64.0756,-64.0327,-64.0704, -64.0994,-64.1199,-64.137,-64.1527, -64.1534,-64.1539,-64.4781,-64.693, -64.9089,-65.2315,-65.4429,-65.6524, -65.8634,-66.0687,-66.384,-66.5954, -66.7992,-67.0032,-67.2074,-67.4123, -67.6175,-67.823,-68.0236,-68.4232, -68.6231,-68.8232,-69.0234,-69.2238, -69.4238,-69.7245,-70.0243,-70.3246, -70.6257,-70.8266,-71.0266,-71.2273, -71.4281,-71.6286,-71.9304,-72.1315, -72.3334,-72.5349,-72.7354,-72.9351, -73.136,-73.3365,-73.5387,-73.7403, -73.942,-74.2441,-74.3445,-74.4599)
FOOTPRINT_POINT_LONGITUDE = (162.494,161.367,160.562,159.146, 157.964,157.921,157.899,158.107,158.241 ,158.372,158.499,158.622,158.742,158.86 ,158.974,159.085,159.247,159.351, 159.453,159.65,159.791,159.927,160.101, 160.185,160.347,160.502,160.576,160.685 ,160.755,160.892,161.022,161.086, 161.149,161.241,161.3,161.359,161.445, 161.502,161.585,161.639,161.717,161.768 ,161.818,161.891,161.963,161.986, 161.995,162.848,163.603,164.188,164.776 ,165.507,165.541,165.554,165.5,165.464, 165.426,165.37,165.332,165.295,165.254, 165.221,165.16,165.115,165.075,165.034, 164.992,164.948,164.903,164.857,164.811 ,164.718,164.669,164.62,164.569,164.517 ,164.465,164.383,164.3,164.214,164.123, 164.061,163.999,163.934,163.868,163.801 ,163.695,163.622,163.546,163.469, 163.392,163.315,163.233,163.15,163.061, 162.972,162.879,162.736,162.688, 162.494)
ORBIT_NUMBER = 23399
ORBITAL_ECCENTRICITY = 0.575
ORBITAL_INCLINATION = 87.02
ORBITAL_SEMIMAJOR_AXIS = 8753.52
PERIAPSIS_ALTITUDE = 343.54
PERIAPSIS_ARGUMENT_ANGLE = 271.41
PERIAPSIS_TIME = 2022-07-11T01:11:29.000Z
SPACECRAFT_ORIENTATION = (0.0,1.0,0.0)
^MEX_ORIENTATION_DESC = "MEX_ORIENTATION_DESC.TXT"
SPACECRAFT_POINTING_MODE = ACROSSTRACK
^MEX_POINTING_DESC = "MEX_POINTING_DESC.TXT"
RIGHT_ASCENSION = -1e+32
DECLINATION = -1e+32
OFFSET_ANGLE = -0.2
SPACECRAFT_SOLAR_DISTANCE = 2.07051e+08
TARGET_NAME = MARS
/* CAMERA DATA ELEMENTS */
DETECTOR_TEMPERATURE = 18.3705
FOCAL_PLANE_TEMPERATURE = 7.9716
INST_CMPRS_NAME = "DISCRETE COSINE TRANSFORMATION (DCT)"
INST_CMPRS_RATIO = 9.63699
INST_CMPRS_QUALITY = 0
INST_CMPRS_QUANTZ_TBL_ID = 0
INSTRUMENT_TEMPERATURE = 11.0301
LENS_TEMPERATURE = 8.5833
MACROPIXEL_SIZE = 2
MISSING_FRAMES = 0
PIXEL_SUBSAMPLING_FLAG = N
SIGNAL_CHAIN_ID = 3
/* RADIOMETRIC DATA ELEMENTS */
BANDWIDTH = 48.0
CENTER_FILTER_WAVELENGTH = 748.0
RADIANCE_OFFSET = 1.74212
RADIANCE_SCALING_FACTOR = 0.0042626
REFLECTANCE_SCALING_FACTOR = 0.000417019
MEX:REFLECTANCE_OFFSET = 0.170435
/* IMAGE OBJECT DEFINITIONS */
OBJECT = IMAGE
  INTERCHANGE_FORMAT = BINARY
  LINES = 24517
  LINE_SAMPLES = 6411
  SAMPLE_TYPE = UNSIGNED_INTEGER
  SAMPLE_BITS = 8
  BANDS = 1
  BAND_STORAGE_TYPE = BAND_SEQUENTIAL
  MAXIMUM = 254
  MEAN = 158.117
  MINIMUM = 1
  STANDARD_DEVIATION = 41.3663
END_OBJECT = IMAGE
/* MAP OBJECT DEFINITIONS */
OBJECT = IMAGE_MAP_PROJECTION
  ^DATA_SET_MAP_PROJECTION_CATALOG= "DSMAP.CAT"
  A_AXIS_RADIUS = 3396.0
  B_AXIS_RADIUS = 3396.0
  C_AXIS_RADIUS = 3396.0
  CENTER_LATITUDE = 0.0
  CENTER_LONGITUDE = 162.0
  COORDINATE_SYSTEM_NAME = PLANETOGRAPHIC
  COORDINATE_SYSTEM_TYPE = "BODY-FIXED ROTATING"
  EASTERNMOST_LONGITUDE = 165.554
  FIRST_STANDARD_PARALLEL = "N/A"
  LINE_FIRST_PIXEL = 1
  LINE_LAST_PIXEL = 24517
  LINE_PROJECTION_OFFSET = -151835.25
  MAP_PROJECTION_ROTATION = 0.0
  MAP_PROJECTION_TYPE = SINUSOIDAL
  MAP_RESOLUTION = 2370.85521546667
  MAP_SCALE = 0.025
  MAXIMUM_LATITUDE = -64.03270000000001
  MINIMUM_LATITUDE = -74.4599
  POSITIVE_LONGITUDE_DIRECTION = EAST
  REFERENCE_LATITUDE = "N/A"
  REFERENCE_LONGITUDE = "N/A"
  SAMPLE_FIRST_PIXEL = 1
  SAMPLE_LAST_PIXEL = 6411
  SAMPLE_PROJECTION_OFFSET = 2684.25
  SECOND_STANDARD_PARALLEL = "N/A"
  WESTERNMOST_LONGITUDE = 157.899
END_OBJECT = IMAGE_MAP_PROJECTION
END
