PDS_VERSION_ID = PDS3
/* FILE DATA ELEMENTS */
RECORD_TYPE = UNDEFINED
/* POINTERS TO DATA OBJECTS */
^IMAGE = ("HN398_0000_RE4.TIF")
/* IDENTIFICATION DATA ELEMENTS */
DATA_SET_ID = "MEX-M-HRSC-4-REFDR-MAPPROJECT-EXT8-V4.0"
DATA_SET_NAME = "MARS EXPRESS HRSC MAP PROJECTED REFDR EXTENSION8 V4.0"
DETECTOR_ID = MEX_HRSC_RED
EVENT_TYPE = "MARS-TERMINATOR-CALIBRATION-Tc"
INSTRUMENT_HOST_ID = MEX
INSTRUMENT_HOST_NAME = "MARS EXPRESS"
INSTRUMENT_ID = HRSC
INSTRUMENT_NAME = "HIGH RESOLUTION STEREO CAMERA"
MISSION_NAME = "MARS EXPRESS"
MISSION_PHASE_NAME = ME_Phase_47
PROCESSING_LEVEL_ID = 4
PRODUCT_CREATION_TIME = 2023-01-28T22:22:56.000Z
PRODUCT_ID = "HN398_0000_RE4.TIF"
RELEASE_ID = 0004
REVISION_ID = 0000
/* QUALITY DATA ELEMENTS */
DATA_QUALITY_ID = 1
DATA_QUALITY_DESC = "Data calculated based on original SPICE kernels"
/* TIME DATA ELEMENTS */
SPACECRAFT_CLOCK_START_COUNT = "1/0605557973.25028"
SPACECRAFT_CLOCK_STOP_COUNT = "1/0605558548.54275"
START_TIME = 2022-07-10T18:38:03.440Z
STOP_TIME = 2022-07-10T18:43:20.048Z
/* ORBITAL DATA ELEMENTS */
ASCENDING_NODE_LONGITUDE = 138.15
MAXIMUM_RESOLUTION = 0.2024
FOOTPRINT_POINT_LATITUDE = (-2.58571,-2.55588,-2.50248,-2.41672, -2.28414,-2.19274,-2.07793,-1.93138, -1.73885,-1.47267,-1.29394,-1.06266, -0.732743,-0.487071,-0.0654905,0.207994 ,-0.658827,-0.856007,-1.51362,-1.70308, -1.72252,-2.53942,-4.57844,-4.70984, -5.2894,-6.21682,-6.44516,-8.61343, -8.92147,-11.0599,-11.4399,-13.6157, -13.898,-14.8452,-15.3819,-15.5951, -16.1638,-16.7523,-17.379,-18.3035, -19.5697,-20.8958,-22.2978,-23.8022, -25.4574,-27.3324,-28.3912,-29.5742, -30.8784,-32.5636,-33.739,-34.0138, -35.7375,-35.9335,-36.5828,-37.4902, -39.6383,-38.5395,-40.2938,-39.5479, -40.6072,-42.7657,-41.2809,-43.0553, -41.2115,-40.0853,-38.6701,-37.5215, -36.5955,-35.7163,-34.3247,-33.1239, -31.4543,-30.3812,-29.616,-28.2469, -27.1582,-25.8275,-25.0596,-23.4072, -23.3046,-23.2672,-22.2928,-20.7738, -19.6825,-18.6657,-17.7016,-16.8036, -15.1377,-13.6036,-12.152,-10.7597, -9.39413,-8.02572,-6.80318,-5.34632, -3.76201,-2.90288,-2.67877,-2.58571)
FOOTPRINT_POINT_LONGITUDE = (240.474,239.135,237.653,235.987, 234.068,232.978,231.772,230.413,228.838 ,226.928,225.772,224.387,222.581, 221.338,219.362,218.144,220.134,219.041 ,220.272,219.061,216.875,219.044, 218.871,216.52,217.852,219.006,216.816, 218.65,215.696,215.486,218.399,216.047, 218.21,216.789,215.46,217.808,219.951, 221.412,222.371,223.667,224.981,225.951 ,226.671,227.165,227.393,227.282,227.04 ,226.599,225.977,224.639,223.289, 225.147,222.772,224.861,225.995,226.669 ,226.423,229.433,228.88,231.158,230.679 ,228.578,231.933,230.536,233.231, 234.755,236.635,238.111,239.283,240.361 ,242.059,243.491,245.476,246.718, 247.602,249.174,250.404,251.928,252.783 ,254.662,254.778,254.82,254.299,253.49, 252.858,252.249,251.669,251.095,249.986 ,248.915,247.889,246.875,245.864, 244.844,243.939,242.851,241.595,240.905 ,240.723,240.474)
ORBIT_NUMBER = 23398
ORBITAL_ECCENTRICITY = 0.575
ORBITAL_INCLINATION = 87.02
ORBITAL_SEMIMAJOR_AXIS = 8753.05
PERIAPSIS_ALTITUDE = 342.63
PERIAPSIS_ARGUMENT_ANGLE = 271.57
PERIAPSIS_TIME = 2022-07-10T18:12:28.000Z
SPACECRAFT_ORIENTATION = (0.0,1.0,0.0)
^MEX_ORIENTATION_DESC = "MEX_ORIENTATION_DESC.TXT"
SPACECRAFT_POINTING_MODE = FIXED
^MEX_POINTING_DESC = "MEX_POINTING_DESC.TXT"
RIGHT_ASCENSION = -1e+32
DECLINATION = -1e+32
OFFSET_ANGLE = -1e+32
SPACECRAFT_SOLAR_DISTANCE = 2.07039e+08
TARGET_NAME = MARS
/* CAMERA DATA ELEMENTS */
DETECTOR_TEMPERATURE = 18.7783
FOCAL_PLANE_TEMPERATURE = 9.195
INST_CMPRS_NAME = "DISCRETE COSINE TRANSFORMATION (DCT)"
INST_CMPRS_RATIO = 11.6209
INST_CMPRS_QUALITY = 0
INST_CMPRS_QUANTZ_TBL_ID = 0
INSTRUMENT_TEMPERATURE = 11.234
LENS_TEMPERATURE = 9.195
MACROPIXEL_SIZE = 2
MISSING_FRAMES = 0
PIXEL_SUBSAMPLING_FLAG = N
SIGNAL_CHAIN_ID = 1
/* RADIOMETRIC DATA ELEMENTS */
BANDWIDTH = 48.0
CENTER_FILTER_WAVELENGTH = 748.0
RADIANCE_OFFSET = 0.0
RADIANCE_SCALING_FACTOR = 0.0181298
REFLECTANCE_SCALING_FACTOR = 0.00177348
MEX:REFLECTANCE_OFFSET = 0.0
/* IMAGE OBJECT DEFINITIONS */
OBJECT = IMAGE
  INTERCHANGE_FORMAT = BINARY
  LINES = 9516
  LINE_SAMPLES = 9829
  SAMPLE_TYPE = UNSIGNED_INTEGER
  SAMPLE_BITS = 8
  BANDS = 1
  BAND_STORAGE_TYPE = BAND_SEQUENTIAL
  MAXIMUM = 255
  MEAN = 209.974
  MINIMUM = 114
  STANDARD_DEVIATION = 18.6693
END_OBJECT = IMAGE
/* MAP OBJECT DEFINITIONS */
OBJECT = IMAGE_MAP_PROJECTION
  ^DATA_SET_MAP_PROJECTION_CATALOG= "DSMAP.CAT"
  A_AXIS_RADIUS = 3396.0
  B_AXIS_RADIUS = 3396.0
  C_AXIS_RADIUS = 3396.0
  CENTER_LATITUDE = -14.5917
  CENTER_LONGITUDE = 239.393
  COORDINATE_SYSTEM_NAME = PLANETOGRAPHIC
  COORDINATE_SYSTEM_TYPE = "BODY-FIXED ROTATING"
  EASTERNMOST_LONGITUDE = 254.82
  FIRST_STANDARD_PARALLEL = "N/A"
  LINE_FIRST_PIXEL = 1
  LINE_LAST_PIXEL = 9516
  LINE_PROJECTION_OFFSET = 4164.0
  MAP_PROJECTION_ROTATION = 0.0
  MAP_PROJECTION_TYPE = ORTHOGRAPHIC
  MAP_RESOLUTION = 296.356901933333
  MAP_SCALE = 0.2
  MAXIMUM_LATITUDE = 0.207994
  MINIMUM_LATITUDE = -43.0553
  POSITIVE_LONGITUDE_DIRECTION = EAST
  REFERENCE_LATITUDE = "N/A"
  REFERENCE_LONGITUDE = "N/A"
  SAMPLE_FIRST_PIXEL = 1
  SAMPLE_LAST_PIXEL = 9829
  SAMPLE_PROJECTION_OFFSET = 6452.0
  SECOND_STANDARD_PARALLEL = "N/A"
  WESTERNMOST_LONGITUDE = 215.46
END_OBJECT = IMAGE_MAP_PROJECTION
END
