PDS_VERSION_ID = PDS3
/* FILE DATA ELEMENTS */
RECORD_TYPE = UNDEFINED
/* POINTERS TO DATA OBJECTS */
^IMAGE = ("HN350_0000_P24.TIF")
/* IDENTIFICATION DATA ELEMENTS */
DATA_SET_ID = "MEX-M-HRSC-4-REFDR-MAPPROJECT-EXT8-V4.0"
DATA_SET_NAME = "MARS EXPRESS HRSC MAP PROJECTED REFDR EXTENSION8 V4.0"
DETECTOR_ID = MEX_HRSC_P2
EVENT_TYPE = "MARS-REGIONAL-MAPPING-Gl-Pf-La"
INSTRUMENT_HOST_ID = MEX
INSTRUMENT_HOST_NAME = "MARS EXPRESS"
INSTRUMENT_ID = HRSC
INSTRUMENT_NAME = "HIGH RESOLUTION STEREO CAMERA"
MISSION_NAME = "MARS EXPRESS"
MISSION_PHASE_NAME = ME_Phase_46
PROCESSING_LEVEL_ID = 4
PRODUCT_CREATION_TIME = 2023-01-28T22:22:56.000Z
PRODUCT_ID = "HN350_0000_P24.TIF"
RELEASE_ID = 0004
REVISION_ID = 0000
/* QUALITY DATA ELEMENTS */
DATA_QUALITY_ID = 1
DATA_QUALITY_DESC = "Data calculated based on original SPICE kernels"
/* TIME DATA ELEMENTS */
SPACECRAFT_CLOCK_START_COUNT = "1/0604349846.23960"
SPACECRAFT_CLOCK_STOP_COUNT = "1/0604350050.55104"
START_TIME = 2022-06-26T18:58:12.459Z
STOP_TIME = 2022-06-26T19:00:31.604Z
/* ORBITAL DATA ELEMENTS */
ASCENDING_NODE_LONGITUDE = 138.99
MAXIMUM_RESOLUTION = 0.0278
FOOTPRINT_POINT_LATITUDE = (-84.159,-84.082,-84.0204,-83.8839, -83.7314,-83.7264,-83.6667,-83.3479, -82.8607,-82.3665,-82.0334,-81.8657, -81.6974,-81.5284,-81.3587,-81.1882, -80.9309,-80.7585,-80.4154,-80.0713, -79.8978,-79.7235,-79.5501,-79.3765, -79.2017,-79.0267,-78.8514,-78.6756, -78.4995,-78.3214,-78.1441,-77.9673, -77.7904,-77.6132,-77.4362,-77.1703, -76.8174,-76.5498,-76.3712,-76.1902, -76.011,-75.8313,-75.6525,-75.4748, -75.2947,-75.115,-75.0257,-75.0094, -75.0505,-75.0832,-75.1144,-75.1348, -75.1604,-75.1614,-75.1622,-75.3423, -75.5262,-75.7983,-75.9797,-76.2521, -76.4336,-76.6147,-76.7962,-77.0682, -77.2497,-77.4304,-77.6105,-77.7912, -77.9719,-78.2427,-78.4231,-78.604, -78.9618,-79.1442,-79.3253,-79.5052, -79.6838,-79.8629,-80.0422,-80.2211, -80.3999,-80.5783,-80.7564,-80.9347, -81.2018,-81.3806,-81.5583,-81.7354, -82.0008,-82.1776,-82.4422,-82.618, -82.7936,-83.1436,-83.4918,-83.6656, -83.8398,-84.0126,-84.0987,-84.159)
FOOTPRINT_POINT_LONGITUDE = (117.051,114.698,113.043,109.875, 106.896,106.806,107.043,108.504,110.449 ,112.138,113.146,113.618,114.071, 114.506,114.924,115.326,115.901,116.267 ,116.953,117.589,117.892,118.184, 118.465,118.736,119.0,119.255,119.501, 119.739,119.971,120.197,120.414,120.624 ,120.828,121.025,121.217,121.493, 121.841,122.092,122.253,122.412,122.564 ,122.713,122.857,122.996,123.134, 123.267,123.332,123.343,124.359,125.207 ,126.158,126.893,127.962,128.009, 128.026,127.953,127.862,127.737,127.651 ,127.515,127.421,127.325,127.226,127.07 ,126.962,126.853,126.745,126.629, 126.509,126.323,126.193,126.056,125.791 ,125.628,125.467,125.307,125.15,124.983 ,124.806,124.625,124.436,124.243, 124.043,123.831,123.497,123.254,123.009 ,122.755,122.353,122.068,121.616, 121.298,120.963,120.246,119.454,119.02, 118.55,118.065,117.813,117.051)
ORBIT_NUMBER = 23350
ORBITAL_ECCENTRICITY = 0.575
ORBITAL_INCLINATION = 87.02
ORBITAL_SEMIMAJOR_AXIS = 8755.7
PERIAPSIS_ALTITUDE = 341.89
PERIAPSIS_ARGUMENT_ANGLE = 279.63
PERIAPSIS_TIME = 2022-06-26T18:59:35.000Z
SPACECRAFT_ORIENTATION = (0.0,1.0,0.0)
^MEX_ORIENTATION_DESC = "MEX_ORIENTATION_DESC.TXT"
SPACECRAFT_POINTING_MODE = ACROSSTRACK
^MEX_POINTING_DESC = "MEX_POINTING_DESC.TXT"
RIGHT_ASCENSION = -1e+32
DECLINATION = -1e+32
OFFSET_ANGLE = -0.539
SPACECRAFT_SOLAR_DISTANCE = 2.0667e+08
TARGET_NAME = MARS
/* CAMERA DATA ELEMENTS */
DETECTOR_TEMPERATURE = 18.5744
FOCAL_PLANE_TEMPERATURE = 7.9716
INST_CMPRS_NAME = "DISCRETE COSINE TRANSFORMATION (DCT)"
INST_CMPRS_RATIO = 7.45456
INST_CMPRS_QUALITY = 0
INST_CMPRS_QUANTZ_TBL_ID = 0
INSTRUMENT_TEMPERATURE = 10.8262
LENS_TEMPERATURE = 8.5833
MACROPIXEL_SIZE = 2
MISSING_FRAMES = 0
PIXEL_SUBSAMPLING_FLAG = N
SIGNAL_CHAIN_ID = 3
/* RADIOMETRIC DATA ELEMENTS */
BANDWIDTH = 177.0
CENTER_FILTER_WAVELENGTH = 676.5
RADIANCE_OFFSET = 5.11117
RADIANCE_SCALING_FACTOR = 0.0258342
REFLECTANCE_SCALING_FACTOR = 0.000585072
MEX:REFLECTANCE_OFFSET = 0.115753
/* IMAGE OBJECT DEFINITIONS */
OBJECT = IMAGE
  INTERCHANGE_FORMAT = BINARY
  LINES = 21649
  LINE_SAMPLES = 7550
  SAMPLE_TYPE = UNSIGNED_INTEGER
  SAMPLE_BITS = 8
  BANDS = 1
  BAND_STORAGE_TYPE = BAND_SEQUENTIAL
  MAXIMUM = 255
  MEAN = 55.0984
  MINIMUM = 1
  STANDARD_DEVIATION = 30.7095
END_OBJECT = IMAGE
/* MAP OBJECT DEFINITIONS */
OBJECT = IMAGE_MAP_PROJECTION
  ^DATA_SET_MAP_PROJECTION_CATALOG= "DSMAP.CAT"
  A_AXIS_RADIUS = 3396.0
  B_AXIS_RADIUS = 3396.0
  C_AXIS_RADIUS = 3396.0
  CENTER_LATITUDE = 0.0
  CENTER_LONGITUDE = 122.0
  COORDINATE_SYSTEM_NAME = PLANETOGRAPHIC
  COORDINATE_SYSTEM_TYPE = "BODY-FIXED ROTATING"
  EASTERNMOST_LONGITUDE = 128.026
  FIRST_STANDARD_PARALLEL = "N/A"
  LINE_FIRST_PIXEL = 1
  LINE_LAST_PIXEL = 21649
  LINE_PROJECTION_OFFSET = -177762.25
  MAP_PROJECTION_ROTATION = 0.0
  MAP_PROJECTION_TYPE = SINUSOIDAL
  MAP_RESOLUTION = 2370.85521546667
  MAP_SCALE = 0.025
  MAXIMUM_LATITUDE = -75.0094
  MINIMUM_LATITUDE = -84.15900000000001
  POSITIVE_LONGITUDE_DIRECTION = EAST
  REFERENCE_LATITUDE = "N/A"
  REFERENCE_LONGITUDE = "N/A"
  SAMPLE_FIRST_PIXEL = 1
  SAMPLE_LAST_PIXEL = 7550
  SAMPLE_PROJECTION_OFFSET = 3884.75
  SECOND_STANDARD_PARALLEL = "N/A"
  WESTERNMOST_LONGITUDE = 106.806
END_OBJECT = IMAGE_MAP_PROJECTION
END
