PDS_VERSION_ID = PDS3
/* FILE DATA ELEMENTS */
RECORD_TYPE = UNDEFINED
/* POINTERS TO DATA OBJECTS */
^IMAGE = ("HN342_0009_IR4.TIF")
/* IDENTIFICATION DATA ELEMENTS */
DATA_SET_ID = "MEX-M-HRSC-4-REFDR-MAPPROJECT-EXT8-V4.0"
DATA_SET_NAME = "MARS EXPRESS HRSC MAP PROJECTED REFDR EXTENSION8 V4.0"
DETECTOR_ID = MEX_HRSC_IR
EVENT_TYPE = "MARS-LOCAL-CARTOGRAPHY-Gl-La-Ts"
INSTRUMENT_HOST_ID = MEX
INSTRUMENT_HOST_NAME = "MARS EXPRESS"
INSTRUMENT_ID = HRSC
INSTRUMENT_NAME = "HIGH RESOLUTION STEREO CAMERA"
MISSION_NAME = "MARS EXPRESS"
MISSION_PHASE_NAME = ME_Phase_46
PROCESSING_LEVEL_ID = 4
PRODUCT_CREATION_TIME = 2023-01-28T22:22:56.000Z
PRODUCT_ID = "HN342_0009_IR4.TIF"
RELEASE_ID = 0004
REVISION_ID = 0000
/* QUALITY DATA ELEMENTS */
DATA_QUALITY_ID = 1
DATA_QUALITY_DESC = "Data calculated based on original SPICE kernels"
/* TIME DATA ELEMENTS */
SPACECRAFT_CLOCK_START_COUNT = "1/0604148679.25690"
SPACECRAFT_CLOCK_STOP_COUNT = "1/0604149108.31724"
START_TIME = 2022-06-24T11:06:13.013Z
STOP_TIME = 2022-06-24T11:12:14.720Z
/* ORBITAL DATA ELEMENTS */
ASCENDING_NODE_LONGITUDE = 139.13
MAXIMUM_RESOLUTION = 0.0562
FOOTPRINT_POINT_LATITUDE = (-85.6363,-84.936,-84.9287,-84.9614, -84.6259,-84.2731,-83.9061,-83.5275, -83.1392,-82.7429,-82.3397,-81.9309, -81.5177,-81.0995,-80.6782,-80.2541, -79.6154,-79.185,-78.5387,-78.1027, -77.6691,-77.2345,-76.7976,-76.3615, -75.7052,-75.0481,-74.6094,-74.1714, -73.7331,-73.2949,-72.8569,-72.4191, -71.9817,-71.5444,-71.1062,-70.4551, -70.0194,-69.5844,-68.9326,-68.0553, -67.5406,-66.7718,-66.0037,-65.4928, -64.983,-64.4744,-63.9654,-63.2081, -62.9556,-62.9384,-62.9934,-63.0528, -63.0537,-63.0549,-63.5615,-64.0692, -64.5791,-65.0901,-65.8606,-66.3737, -67.1475,-67.6641,-68.4158,-69.284, -69.7236,-70.1632,-70.6008,-71.0406, -71.4815,-71.9231,-72.3649,-72.8059, -73.2574,-73.9157,-74.5874,-75.2523, -75.6969,-76.3654,-76.8109,-77.4784, -77.9233,-78.3682,-78.8135,-79.2587, -79.7032,-80.1483,-80.5902,-81.0319, -81.4727,-81.9119,-82.3492,-82.7842, -83.2166,-83.6456,-84.0708,-84.4909, -84.9038,-85.5071,-85.7031,-85.6363)
FOOTPRINT_POINT_LONGITUDE = (199.472,188.575,188.487,187.652, 191.093,194.115,196.777,199.125,201.206 ,203.057,204.711,206.194,207.527, 208.737,209.833,210.829,212.155,212.957 ,214.032,214.692,215.291,215.847, 216.368,216.85,217.515,218.118,218.489, 218.836,219.162,219.47,219.759,220.032, 220.29,220.534,220.767,221.084,221.286, 221.477,221.747,222.087,222.266,222.514 ,222.744,222.887,223.023,223.152, 223.275,223.444,223.499,223.502,224.76, 226.544,226.573,226.582,226.497,226.408 ,226.316,226.218,226.064,225.953, 225.777,225.651,225.467,225.22,225.092, 224.956,224.811,224.66,224.502,224.335, 224.159,223.971,223.782,223.459,223.117 ,222.735,222.461,222.015,221.69,221.158 ,220.768,220.348,219.894,219.401, 218.863,218.277,217.632,216.922,216.137 ,215.266,214.292,213.199,211.964, 210.559,208.95,207.091,204.925,200.934, 199.354,199.472)
ORBIT_NUMBER = 23342
ORBITAL_ECCENTRICITY = 0.575
ORBITAL_INCLINATION = 87.03
ORBITAL_SEMIMAJOR_AXIS = 8754.25
PERIAPSIS_ALTITUDE = 340.69
PERIAPSIS_ARGUMENT_ANGLE = 280.98
PERIAPSIS_TIME = 2022-06-24T11:07:41.000Z
SPACECRAFT_ORIENTATION = (0.0,1.0,0.0)
^MEX_ORIENTATION_DESC = "MEX_ORIENTATION_DESC.TXT"
SPACECRAFT_POINTING_MODE = NADIR
^MEX_POINTING_DESC = "MEX_POINTING_DESC.TXT"
RIGHT_ASCENSION = -1e+32
DECLINATION = -1e+32
OFFSET_ANGLE = -1e+32
SPACECRAFT_SOLAR_DISTANCE = 2.06649e+08
TARGET_NAME = MARS
/* CAMERA DATA ELEMENTS */
DETECTOR_TEMPERATURE = 17.7588
FOCAL_PLANE_TEMPERATURE = 7.9716
INST_CMPRS_NAME = "DISCRETE COSINE TRANSFORMATION (DCT)"
INST_CMPRS_RATIO = 9.35059
INST_CMPRS_QUALITY = 0
INST_CMPRS_QUANTZ_TBL_ID = 0
INSTRUMENT_TEMPERATURE = 11.4379
LENS_TEMPERATURE = 8.7872
MACROPIXEL_SIZE = 4
MISSING_FRAMES = 0
PIXEL_SUBSAMPLING_FLAG = N
SIGNAL_CHAIN_ID = 2
/* RADIOMETRIC DATA ELEMENTS */
BANDWIDTH = 81.0
CENTER_FILTER_WAVELENGTH = 955.5
RADIANCE_OFFSET = 1.33286
RADIANCE_SCALING_FACTOR = 0.00912633
REFLECTANCE_SCALING_FACTOR = 0.000840801
MEX:REFLECTANCE_OFFSET = 0.122795
/* IMAGE OBJECT DEFINITIONS */
OBJECT = IMAGE
  INTERCHANGE_FORMAT = BINARY
  LINES = 27022
  LINE_SAMPLES = 6461
  SAMPLE_TYPE = UNSIGNED_INTEGER
  SAMPLE_BITS = 8
  BANDS = 1
  BAND_STORAGE_TYPE = BAND_SEQUENTIAL
  MAXIMUM = 255
  MEAN = 73.3708
  MINIMUM = 1
  STANDARD_DEVIATION = 33.8591
END_OBJECT = IMAGE
/* MAP OBJECT DEFINITIONS */
OBJECT = IMAGE_MAP_PROJECTION
  ^DATA_SET_MAP_PROJECTION_CATALOG= "DSMAP.CAT"
  A_AXIS_RADIUS = 3396.0
  B_AXIS_RADIUS = 3396.0
  C_AXIS_RADIUS = 3396.0
  CENTER_LATITUDE = 0.0
  CENTER_LONGITUDE = 221.0
  COORDINATE_SYSTEM_NAME = PLANETOGRAPHIC
  COORDINATE_SYSTEM_TYPE = "BODY-FIXED ROTATING"
  EASTERNMOST_LONGITUDE = 226.582
  FIRST_STANDARD_PARALLEL = "N/A"
  LINE_FIRST_PIXEL = 1
  LINE_LAST_PIXEL = 27022
  LINE_PROJECTION_OFFSET = -74624.125
  MAP_PROJECTION_ROTATION = 0.0
  MAP_PROJECTION_TYPE = SINUSOIDAL
  MAP_RESOLUTION = 1185.42760773333
  MAP_SCALE = 0.05
  MAXIMUM_LATITUDE = -62.9384
  MINIMUM_LATITUDE = -85.70310000000001
  POSITIVE_LONGITUDE_DIRECTION = EAST
  REFERENCE_LATITUDE = "N/A"
  REFERENCE_LONGITUDE = "N/A"
  SAMPLE_FIRST_PIXEL = 1
  SAMPLE_LAST_PIXEL = 6461
  SAMPLE_PROJECTION_OFFSET = 3500.125
  SECOND_STANDARD_PARALLEL = "N/A"
  WESTERNMOST_LONGITUDE = 187.652
END_OBJECT = IMAGE_MAP_PROJECTION
END
