PDS_VERSION_ID = PDS3
/* FILE DATA ELEMENTS */
RECORD_TYPE = UNDEFINED
/* POINTERS TO DATA OBJECTS */
^IMAGE = ("HN323_0000_P24.TIF")
/* IDENTIFICATION DATA ELEMENTS */
DATA_SET_ID = "MEX-M-HRSC-4-REFDR-MAPPROJECT-EXT8-V4.0"
DATA_SET_NAME = "MARS EXPRESS HRSC MAP PROJECTED REFDR EXTENSION8 V4.0"
DETECTOR_ID = MEX_HRSC_P2
EVENT_TYPE = "MARS-LOCAL-CARTOGRAPHY-Gl-Pf-La"
INSTRUMENT_HOST_ID = MEX
INSTRUMENT_HOST_NAME = "MARS EXPRESS"
INSTRUMENT_ID = HRSC
INSTRUMENT_NAME = "HIGH RESOLUTION STEREO CAMERA"
MISSION_NAME = "MARS EXPRESS"
MISSION_PHASE_NAME = ME_Phase_46
PROCESSING_LEVEL_ID = 4
PRODUCT_CREATION_TIME = 2023-01-28T22:22:56.000Z
PRODUCT_ID = "HN323_0000_P24.TIF"
RELEASE_ID = 0004
REVISION_ID = 0000
/* QUALITY DATA ELEMENTS */
DATA_QUALITY_ID = 1
DATA_QUALITY_DESC = "Data calculated based on original SPICE kernels"
/* TIME DATA ELEMENTS */
SPACECRAFT_CLOCK_START_COUNT = "1/0603671043.25667"
SPACECRAFT_CLOCK_STOP_COUNT = "1/0603671302.01991"
START_TIME = 2022-06-18T22:24:49.803Z
STOP_TIME = 2022-06-18T22:28:02.970Z
/* ORBITAL DATA ELEMENTS */
ASCENDING_NODE_LONGITUDE = 139.47
MAXIMUM_RESOLUTION = 0.025
FOOTPRINT_POINT_LATITUDE = (-83.1496,-83.0389,-82.9263,-82.7978, -82.7936,-82.7315,-82.162,-81.8156, -81.3497,-81.1152,-80.8795,-80.5247, -80.1679,-79.9292,-79.6898,-79.4494, -79.2082,-78.8458,-78.6036,-78.3628, -78.1198,-77.8748,-77.6308,-77.3853, -77.1401,-76.7716,-76.5278,-76.1558, -75.9086,-75.5378,-75.2901,-75.0426, -74.7944,-74.5473,-74.297,-74.0476, -73.7982,-73.5485,-73.1737,-72.9236, -72.6733,-72.4228,-72.1709,-71.9211, -71.67,-71.2923,-71.041,-70.6639, -70.5388,-70.5362,-70.5752,-70.5962, -70.6231,-70.6236,-70.6242,-70.8778, -71.2583,-71.5119,-71.7654,-72.0186, -72.3984,-72.6515,-72.9045,-73.1573, -73.4104,-73.6638,-74.0425,-74.2937, -74.5463,-74.7981,-75.0503,-75.3013, -75.5518,-75.803,-76.0543,-76.4308, -76.6818,-76.9321,-77.1832,-77.4335, -77.8071,-78.1805,-78.4294,-78.6779, -78.9261,-79.2982,-79.671,-79.9182, -80.1644,-80.4111,-80.6573,-80.9032, -81.272,-81.7602,-82.1267,-82.3707, -82.6134,-82.9744,-83.0948,-83.1496)
FOOTPRINT_POINT_LONGITUDE = (358.28,354.629,351.71,348.935,348.851, 349.057,350.857,351.817,352.976,353.508 ,354.013,354.722,355.379,355.79,356.182 ,356.556,356.913,357.418,357.736, 358.037,358.328,358.609,358.876,359.134 ,359.38,359.732,359.953,360.274,360.477 ,360.767,360.952,361.129,361.301, 361.466,361.627,361.782,361.932,362.076 ,362.284,362.417,362.546,362.67,362.792 ,362.908,363.021,363.185,363.29,363.441 ,363.489,363.49,364.736,365.584,367.1, 367.137,367.15,367.094,367.006,366.945, 366.882,366.818,366.718,366.648,366.576 ,366.502,366.424,366.342,366.219, 366.137,366.047,365.956,365.859,365.764 ,365.666,365.562,365.452,365.278, 365.156,365.033,364.898,364.761,364.552 ,364.329,364.17,364.005,363.832,363.556 ,363.251,363.04,362.825,362.592,362.348 ,362.09,361.668,361.067,360.552,360.176 ,359.786,359.171,358.947,358.28)
ORBIT_NUMBER = 23323
ORBITAL_ECCENTRICITY = 0.575
ORBITAL_INCLINATION = 87.02
ORBITAL_SEMIMAJOR_AXIS = 8757.47
PERIAPSIS_ALTITUDE = 341.47
PERIAPSIS_ARGUMENT_ANGLE = 284.17
PERIAPSIS_TIME = 2022-06-18T22:27:06.000Z
SPACECRAFT_ORIENTATION = (0.0,1.0,0.0)
^MEX_ORIENTATION_DESC = "MEX_ORIENTATION_DESC.TXT"
SPACECRAFT_POINTING_MODE = ACROSSTRACK
^MEX_POINTING_DESC = "MEX_POINTING_DESC.TXT"
RIGHT_ASCENSION = -1e+32
DECLINATION = -1e+32
OFFSET_ANGLE = -0.65
SPACECRAFT_SOLAR_DISTANCE = 2.06648e+08
TARGET_NAME = MARS
/* CAMERA DATA ELEMENTS */
DETECTOR_TEMPERATURE = 18.5744
FOCAL_PLANE_TEMPERATURE = 8.5833
INST_CMPRS_NAME = "DISCRETE COSINE TRANSFORMATION (DCT)"
INST_CMPRS_RATIO = 15.4738
INST_CMPRS_QUALITY = 0
INST_CMPRS_QUANTZ_TBL_ID = 0
INSTRUMENT_TEMPERATURE = 11.234
LENS_TEMPERATURE = 8.9911
MACROPIXEL_SIZE = 2
MISSING_FRAMES = 0
PIXEL_SUBSAMPLING_FLAG = N
SIGNAL_CHAIN_ID = 3
/* RADIOMETRIC DATA ELEMENTS */
BANDWIDTH = 177.0
CENTER_FILTER_WAVELENGTH = 676.5
RADIANCE_OFFSET = 6.41736
RADIANCE_SCALING_FACTOR = 0.0338518
REFLECTANCE_SCALING_FACTOR = 0.000766479
MEX:REFLECTANCE_OFFSET = 0.145303
/* IMAGE OBJECT DEFINITIONS */
OBJECT = IMAGE
  INTERCHANGE_FORMAT = BINARY
  LINES = 29830
  LINE_SAMPLES = 7892
  SAMPLE_TYPE = UNSIGNED_INTEGER
  SAMPLE_BITS = 8
  BANDS = 1
  BAND_STORAGE_TYPE = BAND_SEQUENTIAL
  MAXIMUM = 255
  MEAN = 210.524
  MINIMUM = 1
  STANDARD_DEVIATION = 84.6529
END_OBJECT = IMAGE
/* MAP OBJECT DEFINITIONS */
OBJECT = IMAGE_MAP_PROJECTION
  ^DATA_SET_MAP_PROJECTION_CATALOG= "DSMAP.CAT"
  A_AXIS_RADIUS = 3396.0
  B_AXIS_RADIUS = 3396.0
  C_AXIS_RADIUS = 3396.0
  CENTER_LATITUDE = 0.0
  CENTER_LONGITUDE = 2.0
  COORDINATE_SYSTEM_NAME = PLANETOGRAPHIC
  COORDINATE_SYSTEM_TYPE = "BODY-FIXED ROTATING"
  EASTERNMOST_LONGITUDE = 7.15
  FIRST_STANDARD_PARALLEL = "N/A"
  LINE_FIRST_PIXEL = 1
  LINE_LAST_PIXEL = 29830
  LINE_PROJECTION_OFFSET = -167169.25
  MAP_PROJECTION_ROTATION = 0.0
  MAP_PROJECTION_TYPE = SINUSOIDAL
  MAP_RESOLUTION = 2370.85521546667
  MAP_SCALE = 0.025
  MAXIMUM_LATITUDE = -70.53619999999999
  MINIMUM_LATITUDE = -83.14960000000001
  POSITIVE_LONGITUDE_DIRECTION = EAST
  REFERENCE_LATITUDE = "N/A"
  REFERENCE_LONGITUDE = "N/A"
  SAMPLE_FIRST_PIXEL = 1
  SAMPLE_LAST_PIXEL = 7892
  SAMPLE_PROJECTION_OFFSET = 3846.75
  SECOND_STANDARD_PARALLEL = "N/A"
  WESTERNMOST_LONGITUDE = -11.149
END_OBJECT = IMAGE_MAP_PROJECTION
END
