PDS_VERSION_ID = PDS3
/* FILE DATA ELEMENTS */
RECORD_TYPE = UNDEFINED
/* POINTERS TO DATA OBJECTS */
^IMAGE = ("HN323_0000_P14.TIF")
/* IDENTIFICATION DATA ELEMENTS */
DATA_SET_ID = "MEX-M-HRSC-4-REFDR-MAPPROJECT-EXT8-V4.0"
DATA_SET_NAME = "MARS EXPRESS HRSC MAP PROJECTED REFDR EXTENSION8 V4.0"
DETECTOR_ID = MEX_HRSC_P1
EVENT_TYPE = "MARS-LOCAL-CARTOGRAPHY-Gl-Pf-La"
INSTRUMENT_HOST_ID = MEX
INSTRUMENT_HOST_NAME = "MARS EXPRESS"
INSTRUMENT_ID = HRSC
INSTRUMENT_NAME = "HIGH RESOLUTION STEREO CAMERA"
MISSION_NAME = "MARS EXPRESS"
MISSION_PHASE_NAME = ME_Phase_46
PROCESSING_LEVEL_ID = 4
PRODUCT_CREATION_TIME = 2023-01-28T22:22:56.000Z
PRODUCT_ID = "HN323_0000_P14.TIF"
RELEASE_ID = 0004
REVISION_ID = 0000
/* QUALITY DATA ELEMENTS */
DATA_QUALITY_ID = 1
DATA_QUALITY_DESC = "Data calculated based on original SPICE kernels"
/* TIME DATA ELEMENTS */
SPACECRAFT_CLOCK_START_COUNT = "1/0603671043.25667"
SPACECRAFT_CLOCK_STOP_COUNT = "1/0603671302.01991"
START_TIME = 2022-06-18T22:25:32.183Z
STOP_TIME = 2022-06-18T22:28:44.080Z
/* ORBITAL DATA ELEMENTS */
ASCENDING_NODE_LONGITUDE = 139.47
MAXIMUM_RESOLUTION = 0.0248
FOOTPRINT_POINT_LATITUDE = (-83.0108,-82.8815,-82.7569,-82.6195, -82.615,-82.6731,-82.4396,-82.2052, -81.9696,-81.7336,-81.4963,-81.2583, -81.0193,-80.6597,-80.4191,-80.0572, -79.815,-79.5726,-79.3299,-79.0871, -78.8433,-78.5993,-78.3534,-78.1081, -77.7419,-77.4966,-77.252,-77.0066, -76.6381,-76.269,-76.0231,-75.7767, -75.5306,-75.2841,-75.0374,-74.7907, -74.5431,-74.1748,-73.9285,-73.6821, -73.4358,-73.1894,-72.943,-72.6967, -72.2053,-71.9584,-71.7122,-71.3444, -70.8536,-70.6066,-70.4832,-70.4772, -70.5722,-70.6319,-70.6331,-70.634, -71.0048,-71.5004,-71.8724,-72.1206, -72.4931,-72.7415,-73.1145,-73.3631, -73.611,-73.8597,-74.1094,-74.3594, -74.7332,-75.1075,-75.4825,-75.7327, -75.9823,-76.2318,-76.606,-76.9809, -77.2296,-77.479,-77.8554,-78.1061, -78.356,-78.6063,-78.8565,-79.1064, -79.356,-79.6044,-79.8543,-80.1045, -80.3539,-80.7275,-80.9766,-81.2247, -81.4724,-81.7207,-81.971,-82.2176, -82.588,-82.9605,-83.0839,-83.0108)
FOOTPRINT_POINT_LONGITUDE = (358.43,355.003,352.271,349.677,349.599 ,349.414,350.165,350.869,351.53,352.152 ,352.739,353.292,353.816,354.549, 355.006,355.648,356.05,356.432,356.796, 357.143,357.474,357.79,358.093,358.383, 358.792,359.052,359.3,359.538,359.878, 360.198,360.401,360.597,360.785,360.966 ,361.141,361.31,361.472,361.705,361.853 ,361.997,362.136,362.27,362.399,362.525 ,362.763,362.877,362.987,363.146, 363.346,363.442,363.489,363.491,365.525 ,367.125,367.162,367.175,367.089, 366.971,366.876,366.811,366.71,366.639, 366.53,366.453,366.371,366.289,366.206, 366.122,365.985,365.842,365.693,365.589 ,365.479,365.365,365.184,364.994, 364.857,364.716,364.502,364.351,364.19, 364.023,363.848,363.664,363.47,363.261, 363.049,362.828,362.591,362.211,361.941 ,361.651,361.343,361.02,360.688,360.318 ,359.721,359.075,358.841,358.43)
ORBIT_NUMBER = 23323
ORBITAL_ECCENTRICITY = 0.575
ORBITAL_INCLINATION = 87.02
ORBITAL_SEMIMAJOR_AXIS = 8757.47
PERIAPSIS_ALTITUDE = 341.47
PERIAPSIS_ARGUMENT_ANGLE = 284.17
PERIAPSIS_TIME = 2022-06-18T22:27:06.000Z
SPACECRAFT_ORIENTATION = (0.0,1.0,0.0)
^MEX_ORIENTATION_DESC = "MEX_ORIENTATION_DESC.TXT"
SPACECRAFT_POINTING_MODE = ACROSSTRACK
^MEX_POINTING_DESC = "MEX_POINTING_DESC.TXT"
RIGHT_ASCENSION = -1e+32
DECLINATION = -1e+32
OFFSET_ANGLE = -0.65
SPACECRAFT_SOLAR_DISTANCE = 2.06648e+08
TARGET_NAME = MARS
/* CAMERA DATA ELEMENTS */
DETECTOR_TEMPERATURE = 16.1276
FOCAL_PLANE_TEMPERATURE = 8.5833
INST_CMPRS_NAME = "DISCRETE COSINE TRANSFORMATION (DCT)"
INST_CMPRS_RATIO = 16.7263
INST_CMPRS_QUALITY = 0
INST_CMPRS_QUANTZ_TBL_ID = 0
INSTRUMENT_TEMPERATURE = 11.234
LENS_TEMPERATURE = 8.9911
MACROPIXEL_SIZE = 2
MISSING_FRAMES = 0
PIXEL_SUBSAMPLING_FLAG = N
SIGNAL_CHAIN_ID = 3
/* RADIOMETRIC DATA ELEMENTS */
BANDWIDTH = 174.0
CENTER_FILTER_WAVELENGTH = 675.0
RADIANCE_OFFSET = 6.59916
RADIANCE_SCALING_FACTOR = 0.0342784
REFLECTANCE_SCALING_FACTOR = 0.000787349
MEX:REFLECTANCE_OFFSET = 0.151578
/* IMAGE OBJECT DEFINITIONS */
OBJECT = IMAGE
  INTERCHANGE_FORMAT = BINARY
  LINES = 29830
  LINE_SAMPLES = 7892
  SAMPLE_TYPE = UNSIGNED_INTEGER
  SAMPLE_BITS = 8
  BANDS = 1
  BAND_STORAGE_TYPE = BAND_SEQUENTIAL
  MAXIMUM = 255
  MEAN = 209.449
  MINIMUM = 1
  STANDARD_DEVIATION = 84.7088
END_OBJECT = IMAGE
/* MAP OBJECT DEFINITIONS */
OBJECT = IMAGE_MAP_PROJECTION
  ^DATA_SET_MAP_PROJECTION_CATALOG= "DSMAP.CAT"
  A_AXIS_RADIUS = 3396.0
  B_AXIS_RADIUS = 3396.0
  C_AXIS_RADIUS = 3396.0
  CENTER_LATITUDE = 0.0
  CENTER_LONGITUDE = 2.0
  COORDINATE_SYSTEM_NAME = PLANETOGRAPHIC
  COORDINATE_SYSTEM_TYPE = "BODY-FIXED ROTATING"
  EASTERNMOST_LONGITUDE = 7.175
  FIRST_STANDARD_PARALLEL = "N/A"
  LINE_FIRST_PIXEL = 1
  LINE_LAST_PIXEL = 29830
  LINE_PROJECTION_OFFSET = -167169.25
  MAP_PROJECTION_ROTATION = 0.0
  MAP_PROJECTION_TYPE = SINUSOIDAL
  MAP_RESOLUTION = 2370.85521546667
  MAP_SCALE = 0.025
  MAXIMUM_LATITUDE = -70.4772
  MINIMUM_LATITUDE = -83.0839
  POSITIVE_LONGITUDE_DIRECTION = EAST
  REFERENCE_LATITUDE = "N/A"
  REFERENCE_LONGITUDE = "N/A"
  SAMPLE_FIRST_PIXEL = 1
  SAMPLE_LAST_PIXEL = 7892
  SAMPLE_PROJECTION_OFFSET = 3846.75
  SECOND_STANDARD_PARALLEL = "N/A"
  WESTERNMOST_LONGITUDE = -10.586
END_OBJECT = IMAGE_MAP_PROJECTION
END
