PDS_VERSION_ID = PDS3
/* FILE DATA ELEMENTS */
RECORD_TYPE = UNDEFINED
/* POINTERS TO DATA OBJECTS */
^IMAGE = ("HN321_0000_RE4.TIF")
/* IDENTIFICATION DATA ELEMENTS */
DATA_SET_ID = "MEX-M-HRSC-4-REFDR-MAPPROJECT-EXT8-V4.0"
DATA_SET_NAME = "MARS EXPRESS HRSC MAP PROJECTED REFDR EXTENSION8 V4.0"
DETECTOR_ID = MEX_HRSC_RED
EVENT_TYPE = "MARS-TERMINATOR-CALIBRATION-Tc"
INSTRUMENT_HOST_ID = MEX
INSTRUMENT_HOST_NAME = "MARS EXPRESS"
INSTRUMENT_ID = HRSC
INSTRUMENT_NAME = "HIGH RESOLUTION STEREO CAMERA"
MISSION_NAME = "MARS EXPRESS"
MISSION_PHASE_NAME = ME_Phase_46
PROCESSING_LEVEL_ID = 4
PRODUCT_CREATION_TIME = 2023-01-28T22:22:56.000Z
PRODUCT_ID = "HN321_0000_RE4.TIF"
RELEASE_ID = 0004
REVISION_ID = 0000
/* QUALITY DATA ELEMENTS */
DATA_QUALITY_ID = 1
DATA_QUALITY_DESC = "Data calculated based on original SPICE kernels"
/* TIME DATA ELEMENTS */
SPACECRAFT_CLOCK_START_COUNT = "1/0603622823.25684"
SPACECRAFT_CLOCK_STOP_COUNT = "1/0603623214.46804"
START_TIME = 2022-06-18T09:04:39.307Z
STOP_TIME = 2022-06-18T09:07:07.077Z
/* ORBITAL DATA ELEMENTS */
ASCENDING_NODE_LONGITUDE = 139.5
MAXIMUM_RESOLUTION = 0.226
FOOTPRINT_POINT_LATITUDE = (28.3306,27.018,26.2821,25.5552,24.8355 ,24.1232,23.4178,22.719,22.0257,21.3375 ,20.6528,19.2924,19.2077,19.1794, 19.1479,19.1185,19.0443,18.9884,18.9212 ,18.8423,18.7288,18.6311,18.5168, 18.2809,18.0855,17.9471,17.7452,17.4276 ,17.135,16.794,16.4536,16.0729,15.6393, 15.403,15.1534,14.8883,14.6034,14.2948, 13.9634,13.7883,13.7545,14.5266,15.2974 ,16.064,16.8262,17.5827,18.3344,19.0802 ,19.4501,19.8167,20.1802,20.5374, 20.8851,21.2275,21.5623,21.9631,22.2658 ,22.5409,22.665,22.8235,22.8672,22.8837 ,23.2862,23.6227,23.9128,24.1718, 24.4067,24.6254,24.8251,25.0025,25.1715 ,25.4741,25.7425,25.9823,26.1988, 26.3951,26.5741,26.7377,26.8878,27.0258 ,27.1529,27.27,27.4781,27.658,27.7715, 27.9067,28.0215,28.1175,28.1968,28.27, 28.3179,28.3558,28.3881,28.4081,28.409, 28.4049,28.3969,28.3695,28.3631, 28.3306)
FOOTPRINT_POINT_LONGITUDE = (218.227,217.541,217.169,216.808, 216.458,216.119,215.789,215.468,215.155 ,214.85,214.552,213.974,213.939,213.944 ,215.272,216.046,217.436,218.249, 219.081,219.932,221.007,221.853,222.734 ,224.333,225.507,226.262,227.296,228.76 ,230.003,231.351,232.632,233.983, 235.432,236.189,236.967,237.772,238.613 ,239.5,240.427,240.908,241.0,241.813, 242.687,243.623,244.63,245.725,246.917, 248.225,248.93,249.677,250.466,251.316, 252.245,253.233,254.293,255.766,257.08, 258.577,259.409,260.819,261.338,261.524 ,259.811,258.354,257.08,255.918,254.84, 253.798,252.827,251.984,251.143,249.62, 248.215,246.919,245.702,244.556,243.469 ,242.436,241.448,240.503,239.597, 238.721,237.062,235.524,234.394,232.988 ,231.648,230.363,229.128,227.632, 226.496,225.403,224.081,222.811,221.814 ,220.848,219.909,218.534,218.308, 218.227)
ORBIT_NUMBER = 23321
ORBITAL_ECCENTRICITY = 0.575
ORBITAL_INCLINATION = 87.03
ORBITAL_SEMIMAJOR_AXIS = 8756.78
PERIAPSIS_ALTITUDE = 340.65
PERIAPSIS_ARGUMENT_ANGLE = 284.52
PERIAPSIS_TIME = 2022-06-18T08:29:08.000Z
SPACECRAFT_ORIENTATION = (0.0,1.0,0.0)
^MEX_ORIENTATION_DESC = "MEX_ORIENTATION_DESC.TXT"
SPACECRAFT_POINTING_MODE = FIXED
^MEX_POINTING_DESC = "MEX_POINTING_DESC.TXT"
RIGHT_ASCENSION = -1e+32
DECLINATION = -1e+32
OFFSET_ANGLE = -1e+32
SPACECRAFT_SOLAR_DISTANCE = 2.06651e+08
TARGET_NAME = MARS
/* CAMERA DATA ELEMENTS */
DETECTOR_TEMPERATURE = 18.5744
FOCAL_PLANE_TEMPERATURE = 9.195
INST_CMPRS_NAME = "DISCRETE COSINE TRANSFORMATION (DCT)"
INST_CMPRS_RATIO = 8.68667
INST_CMPRS_QUALITY = 0
INST_CMPRS_QUANTZ_TBL_ID = 0
INSTRUMENT_TEMPERATURE = 11.6418
LENS_TEMPERATURE = 9.6028
MACROPIXEL_SIZE = 2
MISSING_FRAMES = 0
PIXEL_SUBSAMPLING_FLAG = N
SIGNAL_CHAIN_ID = 1
/* RADIOMETRIC DATA ELEMENTS */
BANDWIDTH = 48.0
CENTER_FILTER_WAVELENGTH = 748.0
RADIANCE_OFFSET = 0.190001
RADIANCE_SCALING_FACTOR = 0.0126667
REFLECTANCE_SCALING_FACTOR = 0.00123444
MEX:REFLECTANCE_OFFSET = 0.0185165
/* IMAGE OBJECT DEFINITIONS */
OBJECT = IMAGE
  INTERCHANGE_FORMAT = BINARY
  LINES = 4016
  LINE_SAMPLES = 11127
  SAMPLE_TYPE = UNSIGNED_INTEGER
  SAMPLE_BITS = 8
  BANDS = 1
  BAND_STORAGE_TYPE = BAND_SEQUENTIAL
  MAXIMUM = 255
  MEAN = 129.147
  MINIMUM = 31
  STANDARD_DEVIATION = 30.7857
END_OBJECT = IMAGE
/* MAP OBJECT DEFINITIONS */
OBJECT = IMAGE_MAP_PROJECTION
  ^DATA_SET_MAP_PROJECTION_CATALOG= "DSMAP.CAT"
  A_AXIS_RADIUS = 3396.0
  B_AXIS_RADIUS = 3396.0
  C_AXIS_RADIUS = 3396.0
  CENTER_LATITUDE = 18.439
  CENTER_LONGITUDE = 226.292
  COORDINATE_SYSTEM_NAME = PLANETOGRAPHIC
  COORDINATE_SYSTEM_TYPE = "BODY-FIXED ROTATING"
  EASTERNMOST_LONGITUDE = 261.524
  FIRST_STANDARD_PARALLEL = "N/A"
  LINE_FIRST_PIXEL = 1
  LINE_LAST_PIXEL = 4016
  LINE_PROJECTION_OFFSET = 1500.0
  MAP_PROJECTION_ROTATION = 0.0
  MAP_PROJECTION_TYPE = ORTHOGRAPHIC
  MAP_RESOLUTION = 296.356901933333
  MAP_SCALE = 0.2
  MAXIMUM_LATITUDE = 28.409
  MINIMUM_LATITUDE = 13.7545
  POSITIVE_LONGITUDE_DIRECTION = EAST
  REFERENCE_LATITUDE = "N/A"
  REFERENCE_LONGITUDE = "N/A"
  SAMPLE_FIRST_PIXEL = 1
  SAMPLE_LAST_PIXEL = 11127
  SAMPLE_PROJECTION_OFFSET = 3491.0
  SECOND_STANDARD_PARALLEL = "N/A"
  WESTERNMOST_LONGITUDE = 213.939
END_OBJECT = IMAGE_MAP_PROJECTION
END
