PDS_VERSION_ID = PDS3
/* FILE DATA ELEMENTS */
RECORD_TYPE = UNDEFINED
/* POINTERS TO DATA OBJECTS */
^IMAGE = ("HN312_0000_P14.TIF")
/* IDENTIFICATION DATA ELEMENTS */
DATA_SET_ID = "MEX-M-HRSC-4-REFDR-MAPPROJECT-EXT8-V4.0"
DATA_SET_NAME = "MARS EXPRESS HRSC MAP PROJECTED REFDR EXTENSION8 V4.0"
DETECTOR_ID = MEX_HRSC_P1
EVENT_TYPE = "MARS-REGIONAL-MAPPING-Vo-Im-Pf"
INSTRUMENT_HOST_ID = MEX
INSTRUMENT_HOST_NAME = "MARS EXPRESS"
INSTRUMENT_ID = HRSC
INSTRUMENT_NAME = "HIGH RESOLUTION STEREO CAMERA"
MISSION_NAME = "MARS EXPRESS"
MISSION_PHASE_NAME = ME_Phase_46
PROCESSING_LEVEL_ID = 4
PRODUCT_CREATION_TIME = 2023-01-28T22:22:56.000Z
PRODUCT_ID = "HN312_0000_P14.TIF"
RELEASE_ID = 0004
REVISION_ID = 0000
/* QUALITY DATA ELEMENTS */
DATA_QUALITY_ID = 1
DATA_QUALITY_DESC = "Data calculated based on original SPICE kernels"
/* TIME DATA ELEMENTS */
SPACECRAFT_CLOCK_START_COUNT = "1/0603394591.25700"
SPACECRAFT_CLOCK_STOP_COUNT = "1/0603394845.33199"
START_TIME = 2022-06-15T17:37:58.442Z
STOP_TIME = 2022-06-15T17:41:06.793Z
/* ORBITAL DATA ELEMENTS */
ASCENDING_NODE_LONGITUDE = 139.66
MAXIMUM_RESOLUTION = 0.0277
FOOTPRINT_POINT_LATITUDE = (-76.3136,-76.2479,-76.1846,-76.1146, -76.1124,-76.1724,-75.9284,-75.6889, -75.3228,-75.0778,-74.8347,-74.5911, -74.3491,-74.1067,-73.8644,-73.6209, -73.2558,-72.8918,-72.6493,-72.4059, -72.1612,-71.92,-71.6777,-71.3141, -70.9499,-70.707,-70.4643,-70.2218, -69.9809,-69.7381,-69.4965,-69.2547, -68.8913,-68.6489,-68.2868,-68.0454, -67.8044,-67.5634,-67.2021,-66.9617, -66.6012,-66.3607,-66.1212,-65.8819, -65.6415,-64.9268,-64.2131,-64.094, -64.0614,-64.0998,-64.1406,-64.1812, -64.1822,-64.1829,-64.4226,-64.6625, -64.9016,-65.2593,-65.7384,-65.979, -66.2195,-66.4602,-66.8223,-67.0636, -67.305,-67.5469,-67.7885,-68.0308, -68.3935,-68.6362,-68.878,-69.1211, -69.3661,-69.6105,-69.9767,-70.2203, -70.5862,-70.8301,-71.0744,-71.4407, -71.6852,-71.9297,-72.297,-72.5418, -72.7867,-73.0339,-73.2757,-73.5212, -73.7666,-74.1342,-74.3791,-74.6236, -74.8712,-75.1161,-75.3646,-75.6104, -75.8588,-76.2289,-76.3524,-76.3136)
FOOTPRINT_POINT_LONGITUDE = (49.7461,47.9036,46.41,44.9668,44.9225, 44.9459,45.1213,45.2929,45.5347,45.6879 ,45.8369,45.9803,46.1197,46.2541,46.384 ,46.5087,46.6882,46.8594,46.969,47.0746 ,47.1759,47.2761,47.3725,47.5113, 47.6434,47.728,47.81,47.8897,47.9679, 48.0426,48.1157,48.1865,48.2884,48.3537 ,48.4489,48.51,48.5695,48.6273,48.7108, 48.7647,48.8427,48.8927,48.9417,48.9894 ,49.0352,49.1676,49.2892,49.3084, 49.3136,50.1281,51.1091,52.2714,52.3017 ,52.3124,52.2927,52.2722,52.2486, 52.2082,52.1561,52.1312,52.1049,52.0778 ,52.0379,52.0095,51.9802,51.9509, 51.9195,51.8888,51.838,51.8052,51.7681, 51.7335,51.7037,51.6705,51.6169,51.5775 ,51.5166,51.4741,51.4311,51.363,51.3162 ,51.2677,51.1932,51.1408,51.0869, 51.0396,50.9692,50.9113,50.8501,50.752, 50.683,50.6091,50.5457,50.4684,50.403, 50.3237,50.2522,50.1282,50.0858, 49.7461)
ORBIT_NUMBER = 23312
ORBITAL_ECCENTRICITY = 0.575
ORBITAL_INCLINATION = 87.02
ORBITAL_SEMIMAJOR_AXIS = 8760.1
PERIAPSIS_ALTITUDE = 341.0
PERIAPSIS_ARGUMENT_ANGLE = 286.04
PERIAPSIS_TIME = 2022-06-15T17:38:17.000Z
SPACECRAFT_ORIENTATION = (0.0,1.0,0.0)
^MEX_ORIENTATION_DESC = "MEX_ORIENTATION_DESC.TXT"
SPACECRAFT_POINTING_MODE = ACROSSTRACK
^MEX_POINTING_DESC = "MEX_POINTING_DESC.TXT"
RIGHT_ASCENSION = -1e+32
DECLINATION = -1e+32
OFFSET_ANGLE = -0.95
SPACECRAFT_SOLAR_DISTANCE = 2.06677e+08
TARGET_NAME = MARS
/* CAMERA DATA ELEMENTS */
DETECTOR_TEMPERATURE = 16.9432
FOCAL_PLANE_TEMPERATURE = 7.9716
INST_CMPRS_NAME = "DISCRETE COSINE TRANSFORMATION (DCT)"
INST_CMPRS_RATIO = 7.86515
INST_CMPRS_QUALITY = 0
INST_CMPRS_QUANTZ_TBL_ID = 0
INSTRUMENT_TEMPERATURE = 11.0301
LENS_TEMPERATURE = 8.7872
MACROPIXEL_SIZE = 2
MISSING_FRAMES = 0
PIXEL_SUBSAMPLING_FLAG = N
SIGNAL_CHAIN_ID = 3
/* RADIOMETRIC DATA ELEMENTS */
BANDWIDTH = 174.0
CENTER_FILTER_WAVELENGTH = 675.0
RADIANCE_OFFSET = 5.73085
RADIANCE_SCALING_FACTOR = 0.0376836
REFLECTANCE_SCALING_FACTOR = 0.00086581
MEX:REFLECTANCE_OFFSET = 0.131671
/* IMAGE OBJECT DEFINITIONS */
OBJECT = IMAGE
  INTERCHANGE_FORMAT = BINARY
  LINES = 29139
  LINE_SAMPLES = 5247
  SAMPLE_TYPE = UNSIGNED_INTEGER
  SAMPLE_BITS = 8
  BANDS = 1
  BAND_STORAGE_TYPE = BAND_SEQUENTIAL
  MAXIMUM = 255
  MEAN = 93.8466
  MINIMUM = 1
  STANDARD_DEVIATION = 70.913
END_OBJECT = IMAGE
/* MAP OBJECT DEFINITIONS */
OBJECT = IMAGE_MAP_PROJECTION
  ^DATA_SET_MAP_PROJECTION_CATALOG= "DSMAP.CAT"
  A_AXIS_RADIUS = 3396.0
  B_AXIS_RADIUS = 3396.0
  C_AXIS_RADIUS = 3396.0
  CENTER_LATITUDE = 0.0
  CENTER_LONGITUDE = 50.0
  COORDINATE_SYSTEM_NAME = PLANETOGRAPHIC
  COORDINATE_SYSTEM_TYPE = "BODY-FIXED ROTATING"
  EASTERNMOST_LONGITUDE = 52.3124
  FIRST_STANDARD_PARALLEL = "N/A"
  LINE_FIRST_PIXEL = 1
  LINE_LAST_PIXEL = 29139
  LINE_PROJECTION_OFFSET = -151954.75
  MAP_PROJECTION_ROTATION = 0.0
  MAP_PROJECTION_TYPE = SINUSOIDAL
  MAP_RESOLUTION = 2370.85521546667
  MAP_SCALE = 0.025
  MAXIMUM_LATITUDE = -64.06140000000001
  MINIMUM_LATITUDE = -76.3524
  POSITIVE_LONGITUDE_DIRECTION = EAST
  REFERENCE_LATITUDE = "N/A"
  REFERENCE_LONGITUDE = "N/A"
  SAMPLE_FIRST_PIXEL = 1
  SAMPLE_LAST_PIXEL = 5247
  SAMPLE_PROJECTION_OFFSET = 2888.25
  SECOND_STANDARD_PARALLEL = "N/A"
  WESTERNMOST_LONGITUDE = 44.9225
END_OBJECT = IMAGE_MAP_PROJECTION
END
