PDS_VERSION_ID = PDS3
/* FILE DATA ELEMENTS */
RECORD_TYPE = UNDEFINED
/* POINTERS TO DATA OBJECTS */
^IMAGE = ("HN298_0000_S24.TIF")
/* IDENTIFICATION DATA ELEMENTS */
DATA_SET_ID = "MEX-M-HRSC-4-REFDR-MAPPROJECT-EXT8-V4.0"
DATA_SET_NAME = "MARS EXPRESS HRSC MAP PROJECTED REFDR EXTENSION8 V4.0"
DETECTOR_ID = MEX_HRSC_S2
EVENT_TYPE = "MARS-REGIONAL-MAPPING-Im-Pf"
INSTRUMENT_HOST_ID = MEX
INSTRUMENT_HOST_NAME = "MARS EXPRESS"
INSTRUMENT_ID = HRSC
INSTRUMENT_NAME = "HIGH RESOLUTION STEREO CAMERA"
MISSION_NAME = "MARS EXPRESS"
MISSION_PHASE_NAME = ME_Phase_46
PROCESSING_LEVEL_ID = 4
PRODUCT_CREATION_TIME = 2023-01-28T22:22:56.000Z
PRODUCT_ID = "HN298_0000_S24.TIF"
RELEASE_ID = 0004
REVISION_ID = 0000
/* QUALITY DATA ELEMENTS */
DATA_QUALITY_ID = 1
DATA_QUALITY_DESC = "Data calculated based on original SPICE kernels"
/* TIME DATA ELEMENTS */
SPACECRAFT_CLOCK_START_COUNT = "1/0603042618.23966"
SPACECRAFT_CLOCK_STOP_COUNT = "1/0603042821.06407"
START_TIME = 2022-06-11T15:50:53.260Z
STOP_TIME = 2022-06-11T15:53:11.877Z
/* ORBITAL DATA ELEMENTS */
ASCENDING_NODE_LONGITUDE = 139.91
MAXIMUM_RESOLUTION = 0.0288
FOOTPRINT_POINT_LATITUDE = (-75.27,-75.2289,-75.1975,-75.137, -75.0992,-75.0514,-75.0488,-74.9428, -74.5974,-74.2513,-73.9038,-73.5555, -73.3811,-73.2065,-73.032,-72.6831, -72.3335,-72.1581,-71.9825,-71.8069, -71.6314,-71.4548,-71.191,-70.9287, -70.7528,-70.575,-70.3973,-70.2185, -70.0399,-69.861,-69.5924,-69.4127, -69.1439,-68.9642,-68.7846,-68.6055, -68.4247,-68.1552,-67.9757,-67.7953, -67.6176,-67.3479,-67.0785,-66.8987, -66.7189,-66.539,-66.3586,-66.1799, -66.0906,-66.0655,-66.0888,-66.1227, -66.1431,-66.1658,-66.1938,-66.1948, -66.1955,-66.4665,-66.648,-66.8304, -67.016,-67.1933,-67.3761,-67.5565, -67.8272,-68.0983,-68.3697,-68.5515, -68.7305,-68.9115,-69.0921,-69.2737, -69.4551,-69.6342,-69.814,-69.994, -70.1744,-70.4429,-70.6231,-70.8028, -71.0711,-71.2502,-71.518,-71.6976, -71.965,-72.1443,-72.3227,-72.5883, -72.7665,-72.944,-73.2973,-73.4755, -73.6521,-73.8299,-74.1823,-74.3592, -74.7989,-75.0638,-75.1517,-75.27)
FOOTPRINT_POINT_LONGITUDE = (36.039,35.0342,34.3387,33.1301,32.444, 31.6327,31.5901,31.5542,31.8572,32.1463 ,32.4222,32.6858,32.8132,32.9378, 33.0597,33.2959,33.5221,33.6316,33.7387 ,33.8436,33.9464,34.0468,34.194,34.3374 ,34.4304,34.5208,34.6096,34.6962, 34.7812,34.8645,34.9864,35.0655,35.1816 ,35.257,35.3311,35.4039,35.4748,35.5793 ,35.6475,35.7141,35.7805,35.8768, 35.9705,36.0316,36.0916,36.1505,36.2082 ,36.2656,36.2939,36.3016,36.756,37.4403 ,37.8972,38.4409,39.2149,39.2436, 39.2539,39.1993,39.1613,39.1216,39.078, 39.042,38.9996,38.9588,38.8962,38.8313, 38.7641,38.7172,38.6725,38.6247,38.5763 ,38.5257,38.4743,38.4246,38.373,38.32, 38.2655,38.184,38.1267,38.0688,37.9812, 37.9208,37.8288,37.7642,37.6675,37.5995 ,37.5313,37.429,37.357,37.2843,37.1361, 37.0571,36.9783,36.8958,36.7295,36.642, 36.4175,36.2735,36.2248,36.039)
ORBIT_NUMBER = 23298
ORBITAL_ECCENTRICITY = 0.576
ORBITAL_INCLINATION = 87.02
ORBITAL_SEMIMAJOR_AXIS = 8762.54
PERIAPSIS_ALTITUDE = 341.02
PERIAPSIS_ARGUMENT_ANGLE = 288.39
PERIAPSIS_TIME = 2022-06-11T15:52:22.000Z
SPACECRAFT_ORIENTATION = (0.0,1.0,0.0)
^MEX_ORIENTATION_DESC = "MEX_ORIENTATION_DESC.TXT"
SPACECRAFT_POINTING_MODE = NADIR
^MEX_POINTING_DESC = "MEX_POINTING_DESC.TXT"
RIGHT_ASCENSION = -1e+32
DECLINATION = -1e+32
OFFSET_ANGLE = -1e+32
SPACECRAFT_SOLAR_DISTANCE = 2.06746e+08
TARGET_NAME = MARS
/* CAMERA DATA ELEMENTS */
DETECTOR_TEMPERATURE = 18.9822
FOCAL_PLANE_TEMPERATURE = 9.195
INST_CMPRS_NAME = "DISCRETE COSINE TRANSFORMATION (DCT)"
INST_CMPRS_RATIO = 11.9484
INST_CMPRS_QUALITY = 0
INST_CMPRS_QUANTZ_TBL_ID = 0
INSTRUMENT_TEMPERATURE = 11.8457
LENS_TEMPERATURE = 10.4184
MACROPIXEL_SIZE = 2
MISSING_FRAMES = 0
PIXEL_SUBSAMPLING_FLAG = N
SIGNAL_CHAIN_ID = 1
/* RADIOMETRIC DATA ELEMENTS */
BANDWIDTH = 178.0
CENTER_FILTER_WAVELENGTH = 679.0
RADIANCE_OFFSET = 6.25509
RADIANCE_SCALING_FACTOR = 0.0495986
REFLECTANCE_SCALING_FACTOR = 0.00112272
MEX:REFLECTANCE_OFFSET = 0.141591
/* IMAGE OBJECT DEFINITIONS */
OBJECT = IMAGE
  INTERCHANGE_FORMAT = BINARY
  LINES = 21574
  LINE_SAMPLES = 5828
  SAMPLE_TYPE = UNSIGNED_INTEGER
  SAMPLE_BITS = 8
  BANDS = 1
  BAND_STORAGE_TYPE = BAND_SEQUENTIAL
  MAXIMUM = 255
  MEAN = 126.124
  MINIMUM = 1
  STANDARD_DEVIATION = 100.499
END_OBJECT = IMAGE
/* MAP OBJECT DEFINITIONS */
OBJECT = IMAGE_MAP_PROJECTION
  ^DATA_SET_MAP_PROJECTION_CATALOG= "DSMAP.CAT"
  A_AXIS_RADIUS = 3396.0
  B_AXIS_RADIUS = 3396.0
  C_AXIS_RADIUS = 3396.0
  CENTER_LATITUDE = 0.0
  CENTER_LONGITUDE = 36.0
  COORDINATE_SYSTEM_NAME = PLANETOGRAPHIC
  COORDINATE_SYSTEM_TYPE = "BODY-FIXED ROTATING"
  EASTERNMOST_LONGITUDE = 39.2539
  FIRST_STANDARD_PARALLEL = "N/A"
  LINE_FIRST_PIXEL = 1
  LINE_LAST_PIXEL = 21574
  LINE_PROJECTION_OFFSET = -156609.75
  MAP_PROJECTION_ROTATION = 0.0
  MAP_PROJECTION_TYPE = SINUSOIDAL
  MAP_RESOLUTION = 2370.85521546667
  MAP_SCALE = 0.025
  MAXIMUM_LATITUDE = -66.0655
  MINIMUM_LATITUDE = -75.27
  POSITIVE_LONGITUDE_DIRECTION = EAST
  REFERENCE_LATITUDE = "N/A"
  REFERENCE_LONGITUDE = "N/A"
  SAMPLE_FIRST_PIXEL = 1
  SAMPLE_LAST_PIXEL = 5828
  SAMPLE_PROJECTION_OFFSET = 2713.75
  SECOND_STANDARD_PARALLEL = "N/A"
  WESTERNMOST_LONGITUDE = 31.5542
END_OBJECT = IMAGE_MAP_PROJECTION
END
