PDS_VERSION_ID = PDS3
/* FILE DATA ELEMENTS */
RECORD_TYPE = UNDEFINED
/* POINTERS TO DATA OBJECTS */
^IMAGE = ("HN281_0000_S24.TIF")
/* IDENTIFICATION DATA ELEMENTS */
DATA_SET_ID = "MEX-M-HRSC-4-REFDR-MAPPROJECT-EXT8-V4.0"
DATA_SET_NAME = "MARS EXPRESS HRSC MAP PROJECTED REFDR EXTENSION8 V4.0"
DETECTOR_ID = MEX_HRSC_S2
EVENT_TYPE = "MARS-REGIONAL-MAPPING-Im-Gl-Pf"
INSTRUMENT_HOST_ID = MEX
INSTRUMENT_HOST_NAME = "MARS EXPRESS"
INSTRUMENT_ID = HRSC
INSTRUMENT_NAME = "HIGH RESOLUTION STEREO CAMERA"
MISSION_NAME = "MARS EXPRESS"
MISSION_PHASE_NAME = ME_Phase_46
PROCESSING_LEVEL_ID = 4
PRODUCT_CREATION_TIME = 2023-01-28T22:22:56.000Z
PRODUCT_ID = "HN281_0000_S24.TIF"
RELEASE_ID = 0004
REVISION_ID = 0000
/* QUALITY DATA ELEMENTS */
DATA_QUALITY_ID = 1
DATA_QUALITY_DESC = "Data calculated based on original SPICE kernels"
/* TIME DATA ELEMENTS */
SPACECRAFT_CLOCK_START_COUNT = "1/0602615187.25730"
SPACECRAFT_CLOCK_STOP_COUNT = "1/0602615493.40805"
START_TIME = 2022-06-06T17:07:02.256Z
STOP_TIME = 2022-06-06T17:11:03.094Z
/* ORBITAL DATA ELEMENTS */
ASCENDING_NODE_LONGITUDE = 140.21
MAXIMUM_RESOLUTION = 0.0287
FOOTPRINT_POINT_LATITUDE = (-76.3614,-76.2801,-76.212,-76.1155, -76.1125,-76.0053,-75.7126,-75.4182, -75.1229,-74.8275,-74.5305,-74.2321, -73.9318,-73.4842,-73.1823,-72.7293, -72.2781,-71.9762,-71.5197,-71.2097, -70.7576,-70.4511,-70.1442,-69.6832, -69.066,-68.7574,-68.2945,-67.8302, -67.3658,-67.0569,-66.747,-66.4368, -66.1256,-65.8125,-65.4988,-65.1853, -64.8694,-64.5543,-64.2398,-63.9259, -63.4544,-63.139,-62.6673,-62.3519, -62.0373,-61.5656,-61.2508,-60.7774, -60.6189,-60.6129,-60.6412,-60.6717, -60.7077,-60.7084,-60.709,-61.0262, -61.3437,-61.6608,-62.1365,-62.4517, -62.7686,-63.2438,-63.5608,-64.0317, -64.3482,-64.8226,-65.1437,-65.459, -65.7753,-66.091,-66.4033,-66.7193, -67.1885,-67.6567,-67.97,-68.282, -68.5891,-68.905,-69.3715,-69.6818, -70.1465,-70.4575,-70.9247,-71.2334, -71.5408,-71.8504,-72.1567,-72.4642, -72.9233,-73.2296,-73.687,-74.1441, -74.5998,-74.9036,-75.2061,-75.508, -75.8094,-76.1097,-76.2607,-76.3614)
FOOTPRINT_POINT_LONGITUDE = (331.63,329.728,328.379,326.711,326.663 ,326.632,326.939,327.234,327.516, 327.787,328.047,328.296,328.536,328.879 ,329.096,329.407,329.703,329.891, 330.159,330.329,330.577,330.734,330.885 ,331.103,331.377,331.507,331.695, 331.874,332.045,332.155,332.261,332.364 ,332.464,332.559,332.652,332.743, 332.829,332.914,332.996,333.077,333.193 ,333.267,333.374,333.444,333.511, 333.609,333.671,333.762,333.791,333.792 ,334.435,335.175,336.227,336.251,336.26 ,336.221,336.18,336.139,336.075,336.032 ,335.987,335.917,335.868,335.796, 335.744,335.663,335.602,335.545,335.485 ,335.423,335.363,335.298,335.2,335.098, 335.026,334.952,334.882,334.799,334.677 ,334.593,334.462,334.369,334.222, 334.122,334.02,333.912,333.803,333.688, 333.51,333.384,333.189,332.981,332.76, 332.605,332.445,332.278,332.103,331.923 ,331.827,331.63)
ORBIT_NUMBER = 23281
ORBITAL_ECCENTRICITY = 0.576
ORBITAL_INCLINATION = 87.03
ORBITAL_SEMIMAJOR_AXIS = 8762.7
PERIAPSIS_ALTITUDE = 340.57
PERIAPSIS_ARGUMENT_ANGLE = 291.25
PERIAPSIS_TIME = 2022-06-06T17:09:33.000Z
SPACECRAFT_ORIENTATION = (0.0,1.0,0.0)
^MEX_ORIENTATION_DESC = "MEX_ORIENTATION_DESC.TXT"
SPACECRAFT_POINTING_MODE = NADIR
^MEX_POINTING_DESC = "MEX_POINTING_DESC.TXT"
RIGHT_ASCENSION = -1e+32
DECLINATION = -1e+32
OFFSET_ANGLE = -1e+32
SPACECRAFT_SOLAR_DISTANCE = 2.06878e+08
TARGET_NAME = MARS
/* CAMERA DATA ELEMENTS */
DETECTOR_TEMPERATURE = 18.5744
FOCAL_PLANE_TEMPERATURE = 8.1755
INST_CMPRS_NAME = "DISCRETE COSINE TRANSFORMATION (DCT)"
INST_CMPRS_RATIO = 17.1832
INST_CMPRS_QUALITY = 0
INST_CMPRS_QUANTZ_TBL_ID = 0
INSTRUMENT_TEMPERATURE = 11.0301
LENS_TEMPERATURE = 8.7872
MACROPIXEL_SIZE = 2
MISSING_FRAMES = 0
PIXEL_SUBSAMPLING_FLAG = N
SIGNAL_CHAIN_ID = 1
/* RADIOMETRIC DATA ELEMENTS */
BANDWIDTH = 178.0
CENTER_FILTER_WAVELENGTH = 679.0
RADIANCE_OFFSET = 5.72941
RADIANCE_SCALING_FACTOR = 0.0287518
REFLECTANCE_SCALING_FACTOR = 0.000651663
MEX:REFLECTANCE_OFFSET = 0.129858
/* IMAGE OBJECT DEFINITIONS */
OBJECT = IMAGE
  INTERCHANGE_FORMAT = BINARY
  LINES = 37060
  LINE_SAMPLES = 7399
  SAMPLE_TYPE = UNSIGNED_INTEGER
  SAMPLE_BITS = 8
  BANDS = 1
  BAND_STORAGE_TYPE = BAND_SEQUENTIAL
  MAXIMUM = 255
  MEAN = 170.672
  MINIMUM = 1
  STANDARD_DEVIATION = 93.1809
END_OBJECT = IMAGE
/* MAP OBJECT DEFINITIONS */
OBJECT = IMAGE_MAP_PROJECTION
  ^DATA_SET_MAP_PROJECTION_CATALOG= "DSMAP.CAT"
  A_AXIS_RADIUS = 3396.0
  B_AXIS_RADIUS = 3396.0
  C_AXIS_RADIUS = 3396.0
  CENTER_LATITUDE = 0.0
  CENTER_LONGITUDE = 333.0
  COORDINATE_SYSTEM_NAME = PLANETOGRAPHIC
  COORDINATE_SYSTEM_TYPE = "BODY-FIXED ROTATING"
  EASTERNMOST_LONGITUDE = 336.26
  FIRST_STANDARD_PARALLEL = "N/A"
  LINE_FIRST_PIXEL = 1
  LINE_LAST_PIXEL = 37060
  LINE_PROJECTION_OFFSET = -143678.25
  MAP_PROJECTION_ROTATION = 0.0
  MAP_PROJECTION_TYPE = SINUSOIDAL
  MAP_RESOLUTION = 2370.85521546667
  MAP_SCALE = 0.025
  MAXIMUM_LATITUDE = -60.6129
  MINIMUM_LATITUDE = -76.3614
  POSITIVE_LONGITUDE_DIRECTION = EAST
  REFERENCE_LATITUDE = "N/A"
  REFERENCE_LONGITUDE = "N/A"
  SAMPLE_FIRST_PIXEL = 1
  SAMPLE_LAST_PIXEL = 7399
  SAMPLE_PROJECTION_OFFSET = 3607.25
  SECOND_STANDARD_PARALLEL = "N/A"
  WESTERNMOST_LONGITUDE = 326.632
END_OBJECT = IMAGE_MAP_PROJECTION
END
