PDS_VERSION_ID = PDS3
/* FILE DATA ELEMENTS */
RECORD_TYPE = UNDEFINED
/* POINTERS TO DATA OBJECTS */
^IMAGE = ("HN281_0000_S14.TIF")
/* IDENTIFICATION DATA ELEMENTS */
DATA_SET_ID = "MEX-M-HRSC-4-REFDR-MAPPROJECT-EXT8-V4.0"
DATA_SET_NAME = "MARS EXPRESS HRSC MAP PROJECTED REFDR EXTENSION8 V4.0"
DETECTOR_ID = MEX_HRSC_S1
EVENT_TYPE = "MARS-REGIONAL-MAPPING-Im-Gl-Pf"
INSTRUMENT_HOST_ID = MEX
INSTRUMENT_HOST_NAME = "MARS EXPRESS"
INSTRUMENT_ID = HRSC
INSTRUMENT_NAME = "HIGH RESOLUTION STEREO CAMERA"
MISSION_NAME = "MARS EXPRESS"
MISSION_PHASE_NAME = ME_Phase_46
PROCESSING_LEVEL_ID = 4
PRODUCT_CREATION_TIME = 2023-01-28T22:22:56.000Z
PRODUCT_ID = "HN281_0000_S14.TIF"
RELEASE_ID = 0004
REVISION_ID = 0000
/* QUALITY DATA ELEMENTS */
DATA_QUALITY_ID = 1
DATA_QUALITY_DESC = "Data calculated based on original SPICE kernels"
/* TIME DATA ELEMENTS */
SPACECRAFT_CLOCK_START_COUNT = "1/0602615187.25730"
SPACECRAFT_CLOCK_STOP_COUNT = "1/0602615493.40805"
START_TIME = 2022-06-06T17:08:06.594Z
STOP_TIME = 2022-06-06T17:12:06.480Z
/* ORBITAL DATA ELEMENTS */
ASCENDING_NODE_LONGITUDE = 140.21
MAXIMUM_RESOLUTION = 0.0287
FOOTPRINT_POINT_LATITUDE = (-76.1067,-76.0357,-75.8851,-75.8826, -75.9682,-75.6607,-75.3531,-75.0454, -74.7368,-74.4286,-74.1211,-73.6598, -73.3498,-72.8879,-72.5804,-72.2688, -71.9586,-71.6495,-71.3436,-71.0314, -70.5687,-70.2604,-69.7978,-69.4908, -69.1812,-68.873,-68.4103,-67.9472, -67.6389,-67.3301,-67.0209,-66.7119, -66.2504,-65.9429,-65.6378,-65.3318, -65.0261,-64.7228,-64.4183,-64.1134, -63.8081,-63.503,-63.1994,-62.8959, -62.5911,-62.2872,-61.9832,-61.5281, -61.0738,-60.7711,-60.6207,-60.5917, -60.6425,-60.6797,-60.6804,-60.6811, -61.4395,-61.7434,-62.0478,-62.3539, -62.812,-63.118,-63.4236,-63.7278, -64.039,-64.3453,-64.954,-65.2613, -65.7226,-66.1871,-66.4952,-66.9595, -67.2698,-67.7352,-68.0447,-68.3587, -68.6723,-68.9786,-69.2917,-69.6034, -69.9169,-70.228,-70.6937,-71.0056, -71.3186,-71.7867,-72.1012,-72.4137, -72.728,-73.0403,-73.3556,-73.8251, -74.1385,-74.4522,-74.9215,-75.3922, -75.7057,-76.02,-76.1763,-76.1067)
FOOTPRINT_POINT_LONGITUDE = (331.689,329.994,327.06,327.015,326.789 ,327.102,327.401,327.685,327.959, 328.219,328.467,328.818,329.045,329.362 ,329.562,329.761,329.95,330.129,330.297 ,330.469,330.706,330.857,331.073,331.21 ,331.345,331.474,331.659,331.837,331.95 ,332.059,332.167,332.27,332.417,332.512 ,332.601,332.688,332.773,332.853, 332.932,333.008,333.084,333.157,333.227 ,333.294,333.362,333.426,333.49,333.581 ,333.667,333.723,333.75,333.755,335.013 ,336.275,336.3,336.309,336.21,336.168, 336.125,336.082,336.015,335.968,335.92, 335.87,335.821,335.769,335.657,335.6, 335.511,335.419,335.355,335.256,335.188 ,335.081,335.006,334.931,334.854,334.77 ,334.686,334.599,334.51,334.416,334.269 ,334.167,334.062,333.896,333.781, 333.661,333.537,333.407,333.274,333.061 ,332.912,332.757,332.51,332.248,332.063 ,331.87,331.769,331.689)
ORBIT_NUMBER = 23281
ORBITAL_ECCENTRICITY = 0.576
ORBITAL_INCLINATION = 87.03
ORBITAL_SEMIMAJOR_AXIS = 8762.7
PERIAPSIS_ALTITUDE = 340.57
PERIAPSIS_ARGUMENT_ANGLE = 291.25
PERIAPSIS_TIME = 2022-06-06T17:09:33.000Z
SPACECRAFT_ORIENTATION = (0.0,1.0,0.0)
^MEX_ORIENTATION_DESC = "MEX_ORIENTATION_DESC.TXT"
SPACECRAFT_POINTING_MODE = NADIR
^MEX_POINTING_DESC = "MEX_POINTING_DESC.TXT"
RIGHT_ASCENSION = -1e+32
DECLINATION = -1e+32
OFFSET_ANGLE = -1e+32
SPACECRAFT_SOLAR_DISTANCE = 2.06878e+08
TARGET_NAME = MARS
/* CAMERA DATA ELEMENTS */
DETECTOR_TEMPERATURE = 17.5549
FOCAL_PLANE_TEMPERATURE = 8.1755
INST_CMPRS_NAME = "DISCRETE COSINE TRANSFORMATION (DCT)"
INST_CMPRS_RATIO = 15.0634
INST_CMPRS_QUALITY = 0
INST_CMPRS_QUANTZ_TBL_ID = 0
INSTRUMENT_TEMPERATURE = 11.0301
LENS_TEMPERATURE = 8.7872
MACROPIXEL_SIZE = 2
MISSING_FRAMES = 0
PIXEL_SUBSAMPLING_FLAG = N
SIGNAL_CHAIN_ID = 1
/* RADIOMETRIC DATA ELEMENTS */
BANDWIDTH = 180.0
CENTER_FILTER_WAVELENGTH = 677.0
RADIANCE_OFFSET = 5.70197
RADIANCE_SCALING_FACTOR = 0.026611
REFLECTANCE_SCALING_FACTOR = 0.000594201
MEX:REFLECTANCE_OFFSET = 0.12732
/* IMAGE OBJECT DEFINITIONS */
OBJECT = IMAGE
  INTERCHANGE_FORMAT = BINARY
  LINES = 37060
  LINE_SAMPLES = 7399
  SAMPLE_TYPE = UNSIGNED_INTEGER
  SAMPLE_BITS = 8
  BANDS = 1
  BAND_STORAGE_TYPE = BAND_SEQUENTIAL
  MAXIMUM = 255
  MEAN = 176.848
  MINIMUM = 1
  STANDARD_DEVIATION = 85.7741
END_OBJECT = IMAGE
/* MAP OBJECT DEFINITIONS */
OBJECT = IMAGE_MAP_PROJECTION
  ^DATA_SET_MAP_PROJECTION_CATALOG= "DSMAP.CAT"
  A_AXIS_RADIUS = 3396.0
  B_AXIS_RADIUS = 3396.0
  C_AXIS_RADIUS = 3396.0
  CENTER_LATITUDE = 0.0
  CENTER_LONGITUDE = 333.0
  COORDINATE_SYSTEM_NAME = PLANETOGRAPHIC
  COORDINATE_SYSTEM_TYPE = "BODY-FIXED ROTATING"
  EASTERNMOST_LONGITUDE = 336.309
  FIRST_STANDARD_PARALLEL = "N/A"
  LINE_FIRST_PIXEL = 1
  LINE_LAST_PIXEL = 37060
  LINE_PROJECTION_OFFSET = -143678.25
  MAP_PROJECTION_ROTATION = 0.0
  MAP_PROJECTION_TYPE = SINUSOIDAL
  MAP_RESOLUTION = 2370.85521546667
  MAP_SCALE = 0.025
  MAXIMUM_LATITUDE = -60.5917
  MINIMUM_LATITUDE = -76.1763
  POSITIVE_LONGITUDE_DIRECTION = EAST
  REFERENCE_LATITUDE = "N/A"
  REFERENCE_LONGITUDE = "N/A"
  SAMPLE_FIRST_PIXEL = 1
  SAMPLE_LAST_PIXEL = 7399
  SAMPLE_PROJECTION_OFFSET = 3607.25
  SECOND_STANDARD_PARALLEL = "N/A"
  WESTERNMOST_LONGITUDE = 326.789
END_OBJECT = IMAGE_MAP_PROJECTION
END
