PDS_VERSION_ID = PDS3
/* FILE DATA ELEMENTS */
RECORD_TYPE = UNDEFINED
/* POINTERS TO DATA OBJECTS */
^IMAGE = ("HN274_0000_GR4.TIF")
/* IDENTIFICATION DATA ELEMENTS */
DATA_SET_ID = "MEX-M-HRSC-4-REFDR-MAPPROJECT-EXT8-V4.0"
DATA_SET_NAME = "MARS EXPRESS HRSC MAP PROJECTED REFDR EXTENSION8 V4.0"
DETECTOR_ID = MEX_HRSC_GREEN
EVENT_TYPE = "MARS-REGIONAL-MAPPING-Im-Gl-Pf"
INSTRUMENT_HOST_ID = MEX
INSTRUMENT_HOST_NAME = "MARS EXPRESS"
INSTRUMENT_ID = HRSC
INSTRUMENT_NAME = "HIGH RESOLUTION STEREO CAMERA"
MISSION_NAME = "MARS EXPRESS"
MISSION_PHASE_NAME = ME_Phase_46
PROCESSING_LEVEL_ID = 4
PRODUCT_CREATION_TIME = 2023-01-28T22:22:56.000Z
PRODUCT_ID = "HN274_0000_GR4.TIF"
RELEASE_ID = 0004
REVISION_ID = 0000
/* QUALITY DATA ELEMENTS */
DATA_QUALITY_ID = 1
DATA_QUALITY_DESC = "Data calculated based on original SPICE kernels"
/* TIME DATA ELEMENTS */
SPACECRAFT_CLOCK_START_COUNT = "1/0602439237.24947"
SPACECRAFT_CLOCK_STOP_COUNT = "1/0602439584.64924"
START_TIME = 2022-06-04T16:15:09.780Z
STOP_TIME = 2022-06-04T16:19:49.130Z
/* ORBITAL DATA ELEMENTS */
ASCENDING_NODE_LONGITUDE = 140.34
MAXIMUM_RESOLUTION = 0.0541
FOOTPRINT_POINT_LATITUDE = (-73.7323,-73.6783,-73.5439,-73.5418, -73.5489,-73.1924,-72.8353,-72.4779, -72.12,-71.5821,-71.2234,-70.8641, -70.5046,-70.1447,-69.7846,-69.244, -68.8834,-68.342,-67.981,-67.6197, -67.0777,-66.7162,-66.3546,-65.993, -65.6313,-65.2696,-64.7271,-64.3653, -63.8229,-63.4611,-63.1001,-62.559, -62.198,-61.8369,-61.4759,-61.1134, -60.7523,-60.2131,-59.8527,-59.4922, -59.133,-58.7739,-58.4146,-58.0554, -57.6965,-57.1586,-56.8,-56.4425, -56.0847,-55.7291,-55.551,-55.5358, -55.5859,-55.6074,-55.6079,-55.6089, -56.1444,-56.5042,-56.8627,-57.2219, -57.582,-58.1217,-58.4816,-58.8414, -59.202,-59.5631,-59.9243,-60.2859, -60.6483,-61.1916,-61.7356,-62.0991, -62.4617,-62.8251,-63.1886,-63.7338, -64.0975,-64.4613,-65.0069,-65.5528, -65.9167,-66.4631,-66.8272,-67.1914, -67.5558,-67.9202,-68.4665,-69.1946, -69.5583,-69.9222,-70.468,-71.0134, -71.3768,-71.7409,-72.2855,-72.6483, -73.0109,-73.5534,-73.7346,-73.7323)
FOOTPRINT_POINT_LONGITUDE = (327.873,326.548,323.888,323.851, 323.733,323.99,324.238,324.471,324.695, 325.016,325.216,325.409,325.594,325.772 ,325.941,326.184,326.337,326.557, 326.696,326.83,327.022,327.144,327.261, 327.374,327.483,327.588,327.739,327.835 ,327.973,328.061,328.143,328.259, 328.336,328.411,328.483,328.562,328.632 ,328.721,328.784,328.846,328.902, 328.956,329.01,329.063,329.114,329.188, 329.237,329.281,329.325,329.361,329.38, 329.382,330.793,331.618,331.639,331.646 ,331.594,331.566,331.532,331.498, 331.465,331.411,331.372,331.331,331.29, 331.249,331.207,331.164,331.121,331.052 ,330.981,330.934,330.881,330.829, 330.775,330.69,330.631,330.571,330.475, 330.374,330.304,330.196,330.12,330.042, 329.961,329.878,329.746,329.558,329.457 ,329.354,329.192,329.019,328.898, 328.776,328.577,328.437,328.291,328.053 ,327.974,327.873)
ORBIT_NUMBER = 23274
ORBITAL_ECCENTRICITY = 0.576
ORBITAL_INCLINATION = 87.03
ORBITAL_SEMIMAJOR_AXIS = 8763.82
PERIAPSIS_ALTITUDE = 340.57
PERIAPSIS_ARGUMENT_ANGLE = 292.44
PERIAPSIS_TIME = 2022-06-04T16:16:42.000Z
SPACECRAFT_ORIENTATION = (0.0,1.0,0.0)
^MEX_ORIENTATION_DESC = "MEX_ORIENTATION_DESC.TXT"
SPACECRAFT_POINTING_MODE = NADIR
^MEX_POINTING_DESC = "MEX_POINTING_DESC.TXT"
RIGHT_ASCENSION = -1e+32
DECLINATION = -1e+32
OFFSET_ANGLE = -1e+32
SPACECRAFT_SOLAR_DISTANCE = 2.06948e+08
TARGET_NAME = MARS
/* CAMERA DATA ELEMENTS */
DETECTOR_TEMPERATURE = 18.5744
FOCAL_PLANE_TEMPERATURE = 9.6028
INST_CMPRS_NAME = "DISCRETE COSINE TRANSFORMATION (DCT)"
INST_CMPRS_RATIO = 15.68
INST_CMPRS_QUALITY = 0
INST_CMPRS_QUANTZ_TBL_ID = 0
INSTRUMENT_TEMPERATURE = 11.234
LENS_TEMPERATURE = 9.3989
MACROPIXEL_SIZE = 4
MISSING_FRAMES = 0
PIXEL_SUBSAMPLING_FLAG = N
SIGNAL_CHAIN_ID = 2
/* RADIOMETRIC DATA ELEMENTS */
BANDWIDTH = 88.0
CENTER_FILTER_WAVELENGTH = 538.0
RADIANCE_OFFSET = 2.13121
RADIANCE_SCALING_FACTOR = 0.00629687
REFLECTANCE_SCALING_FACTOR = 0.000232186
MEX:REFLECTANCE_OFFSET = 0.0785844
/* IMAGE OBJECT DEFINITIONS */
OBJECT = IMAGE
  INTERCHANGE_FORMAT = BINARY
  LINES = 21594
  LINE_SAMPLES = 3547
  SAMPLE_TYPE = UNSIGNED_INTEGER
  SAMPLE_BITS = 8
  BANDS = 1
  BAND_STORAGE_TYPE = BAND_SEQUENTIAL
  MAXIMUM = 255
  MEAN = 115.939
  MINIMUM = 1
  STANDARD_DEVIATION = 92.0222
END_OBJECT = IMAGE
/* MAP OBJECT DEFINITIONS */
OBJECT = IMAGE_MAP_PROJECTION
  ^DATA_SET_MAP_PROJECTION_CATALOG= "DSMAP.CAT"
  A_AXIS_RADIUS = 3396.0
  B_AXIS_RADIUS = 3396.0
  C_AXIS_RADIUS = 3396.0
  CENTER_LATITUDE = 0.0
  CENTER_LONGITUDE = 329.0
  COORDINATE_SYSTEM_NAME = PLANETOGRAPHIC
  COORDINATE_SYSTEM_TYPE = "BODY-FIXED ROTATING"
  EASTERNMOST_LONGITUDE = 331.646
  FIRST_STANDARD_PARALLEL = "N/A"
  LINE_FIRST_PIXEL = 1
  LINE_LAST_PIXEL = 21594
  LINE_PROJECTION_OFFSET = -65828.625
  MAP_PROJECTION_ROTATION = 0.0
  MAP_PROJECTION_TYPE = SINUSOIDAL
  MAP_RESOLUTION = 1185.42760773333
  MAP_SCALE = 0.05
  MAXIMUM_LATITUDE = -55.5358
  MINIMUM_LATITUDE = -73.7346
  POSITIVE_LONGITUDE_DIRECTION = EAST
  REFERENCE_LATITUDE = "N/A"
  REFERENCE_LONGITUDE = "N/A"
  SAMPLE_FIRST_PIXEL = 1
  SAMPLE_LAST_PIXEL = 3547
  SAMPLE_PROJECTION_OFFSET = 1776.875
  SECOND_STANDARD_PARALLEL = "N/A"
  WESTERNMOST_LONGITUDE = 323.733
END_OBJECT = IMAGE_MAP_PROJECTION
END
