PDS_VERSION_ID = PDS3
/* FILE DATA ELEMENTS */
RECORD_TYPE = UNDEFINED
/* POINTERS TO DATA OBJECTS */
^IMAGE = ("HN264_0000_IR4.TIF")
/* IDENTIFICATION DATA ELEMENTS */
DATA_SET_ID = "MEX-M-HRSC-4-REFDR-MAPPROJECT-EXT8-V4.0"
DATA_SET_NAME = "MARS EXPRESS HRSC MAP PROJECTED REFDR EXTENSION8 V4.0"
DETECTOR_ID = MEX_HRSC_IR
EVENT_TYPE = "MARS-REGIONAL-CARTOGRAPHY-Te-Gl-Pf"
INSTRUMENT_HOST_ID = MEX
INSTRUMENT_HOST_NAME = "MARS EXPRESS"
INSTRUMENT_ID = HRSC
INSTRUMENT_NAME = "HIGH RESOLUTION STEREO CAMERA"
MISSION_NAME = "MARS EXPRESS"
MISSION_PHASE_NAME = ME_Phase_46
PROCESSING_LEVEL_ID = 4
PRODUCT_CREATION_TIME = 2023-01-28T22:22:56.000Z
PRODUCT_ID = "HN264_0000_IR4.TIF"
RELEASE_ID = 0004
REVISION_ID = 0000
/* QUALITY DATA ELEMENTS */
DATA_QUALITY_ID = 1
DATA_QUALITY_DESC = "Data calculated based on original SPICE kernels"
/* TIME DATA ELEMENTS */
SPACECRAFT_CLOCK_START_COUNT = "1/0602187905.24903"
SPACECRAFT_CLOCK_STOP_COUNT = "1/0602188236.64752"
START_TIME = 2022-06-01T18:26:37.436Z
STOP_TIME = 2022-06-01T18:31:03.482Z
/* ORBITAL DATA ELEMENTS */
ASCENDING_NODE_LONGITUDE = 140.51
MAXIMUM_RESOLUTION = 0.0566
FOOTPRINT_POINT_LATITUDE = (-68.6968,-68.6655,-68.6288,-68.5721, -68.5706,-68.6323,-68.3042,-67.8117, -67.3194,-66.991,-66.6628,-66.3346, -66.0065,-65.6788,-65.1865,-64.8588, -64.3671,-64.0388,-63.7115,-63.221, -62.8936,-62.567,-62.2406,-61.7496, -61.2612,-60.9354,-60.6098,-60.285, -59.7998,-59.4763,-59.1528,-58.8298, -58.5063,-58.1835,-57.8611,-57.3776, -56.8951,-56.2522,-55.6114,-55.2504, -54.8701,-54.4904,-53.9209,-53.5438, -53.1671,-52.7907,-52.4151,-52.0404, -51.853,-51.7814,-51.7946,-51.8057, -51.8095,-51.8096,-51.8106,-52.1863, -52.5621,-52.9409,-53.318,-53.6961, -54.073,-54.4528,-54.8328,-55.2152, -55.9137,-56.3973,-57.0427,-57.3662, -58.0129,-58.3379,-58.8251,-59.3107, -59.6349,-60.1242,-60.4512,-60.7765, -61.104,-61.4343,-61.7609,-62.0936, -62.5843,-63.0785,-63.4079,-63.737, -64.0674,-64.3987,-64.7288,-65.0576, -65.3899,-65.7206,-66.0516,-66.3827, -66.7141,-67.0456,-67.3772,-67.7089, -68.0408,-68.5389,-68.7051,-68.6968)
FOOTPRINT_POINT_LONGITUDE = (268.539,267.612,266.667,265.401,265.37 ,265.143,265.312,265.556,265.786, 265.934,266.077,266.215,266.349,266.477 ,266.664,266.783,266.955,267.067, 267.174,267.327,267.427,267.522,267.615 ,267.753,267.881,267.964,268.044, 268.121,268.23,268.3,268.37,268.436, 268.503,268.567,268.629,268.72,268.807, 268.919,269.024,269.078,269.135,269.189 ,269.27,269.319,269.367,269.413,269.458 ,269.501,269.522,269.53,270.293,271.185 ,271.735,271.755,271.761,271.724, 271.686,271.646,271.606,271.565,271.523 ,271.479,271.435,271.388,271.3,271.237, 271.149,271.103,271.009,270.96,270.885, 270.808,270.754,270.671,270.614,270.555 ,270.495,270.432,270.369,270.301, 270.201,270.094,270.021,269.947,269.869 ,269.789,269.707,269.624,269.536, 269.447,269.355,269.26,269.162,269.061, 268.957,268.849,268.738,268.564,268.505 ,268.539)
ORBIT_NUMBER = 23264
ORBITAL_ECCENTRICITY = 0.576
ORBITAL_INCLINATION = 87.01
ORBITAL_SEMIMAJOR_AXIS = 8767.35
PERIAPSIS_ALTITUDE = 340.56
PERIAPSIS_ARGUMENT_ANGLE = 294.13
PERIAPSIS_TIME = 2022-06-01T18:27:00.000Z
SPACECRAFT_ORIENTATION = (0.0,1.0,0.0)
^MEX_ORIENTATION_DESC = "MEX_ORIENTATION_DESC.TXT"
SPACECRAFT_POINTING_MODE = ACROSSTRACK
^MEX_POINTING_DESC = "MEX_POINTING_DESC.TXT"
RIGHT_ASCENSION = -1e+32
DECLINATION = -1e+32
OFFSET_ANGLE = 0.808
SPACECRAFT_SOLAR_DISTANCE = 2.07063e+08
TARGET_NAME = MARS
/* CAMERA DATA ELEMENTS */
DETECTOR_TEMPERATURE = 17.351
FOCAL_PLANE_TEMPERATURE = 8.3794
INST_CMPRS_NAME = "DISCRETE COSINE TRANSFORMATION (DCT)"
INST_CMPRS_RATIO = 18.4482
INST_CMPRS_QUALITY = 0
INST_CMPRS_QUANTZ_TBL_ID = 0
INSTRUMENT_TEMPERATURE = 11.4379
LENS_TEMPERATURE = 8.7872
MACROPIXEL_SIZE = 4
MISSING_FRAMES = 0
PIXEL_SUBSAMPLING_FLAG = N
SIGNAL_CHAIN_ID = 2
/* RADIOMETRIC DATA ELEMENTS */
BANDWIDTH = 81.0
CENTER_FILTER_WAVELENGTH = 955.5
RADIANCE_OFFSET = 1.42657
RADIANCE_SCALING_FACTOR = 0.00250582
REFLECTANCE_SCALING_FACTOR = 0.000231783
MEX:REFLECTANCE_OFFSET = 0.131955
/* IMAGE OBJECT DEFINITIONS */
OBJECT = IMAGE
  INTERCHANGE_FORMAT = BINARY
  LINES = 20211
  LINE_SAMPLES = 3661
  SAMPLE_TYPE = UNSIGNED_INTEGER
  SAMPLE_BITS = 8
  BANDS = 1
  BAND_STORAGE_TYPE = BAND_SEQUENTIAL
  MAXIMUM = 255
  MEAN = 112.793
  MINIMUM = 1
  STANDARD_DEVIATION = 39.8244
END_OBJECT = IMAGE
/* MAP OBJECT DEFINITIONS */
OBJECT = IMAGE_MAP_PROJECTION
  ^DATA_SET_MAP_PROJECTION_CATALOG= "DSMAP.CAT"
  A_AXIS_RADIUS = 3396.0
  B_AXIS_RADIUS = 3396.0
  C_AXIS_RADIUS = 3396.0
  CENTER_LATITUDE = 0.0
  CENTER_LONGITUDE = 269.0
  COORDINATE_SYSTEM_NAME = PLANETOGRAPHIC
  COORDINATE_SYSTEM_TYPE = "BODY-FIXED ROTATING"
  EASTERNMOST_LONGITUDE = 271.761
  FIRST_STANDARD_PARALLEL = "N/A"
  LINE_FIRST_PIXEL = 1
  LINE_LAST_PIXEL = 20211
  LINE_PROJECTION_OFFSET = -61366.875
  MAP_PROJECTION_ROTATION = 0.0
  MAP_PROJECTION_TYPE = SINUSOIDAL
  MAP_RESOLUTION = 1185.42760773333
  MAP_SCALE = 0.05
  MAXIMUM_LATITUDE = -51.7814
  MINIMUM_LATITUDE = -68.7051
  POSITIVE_LONGITUDE_DIRECTION = EAST
  REFERENCE_LATITUDE = "N/A"
  REFERENCE_LONGITUDE = "N/A"
  SAMPLE_FIRST_PIXEL = 1
  SAMPLE_LAST_PIXEL = 3661
  SAMPLE_PROJECTION_OFFSET = 1668.625
  SECOND_STANDARD_PARALLEL = "N/A"
  WESTERNMOST_LONGITUDE = 265.143
END_OBJECT = IMAGE_MAP_PROJECTION
END
