PDS_VERSION_ID = PDS3
/* FILE DATA ELEMENTS */
RECORD_TYPE = UNDEFINED
/* POINTERS TO DATA OBJECTS */
^IMAGE = ("HN258_0021_S14.TIF")
/* IDENTIFICATION DATA ELEMENTS */
DATA_SET_ID = "MEX-M-HRSC-4-REFDR-MAPPROJECT-EXT8-V4.0"
DATA_SET_NAME = "MARS EXPRESS HRSC MAP PROJECTED REFDR EXTENSION8 V4.0"
DETECTOR_ID = MEX_HRSC_S1
EVENT_TYPE = "MARS-REGIONAL-MAPPING-Gl-Pf-La"
INSTRUMENT_HOST_ID = MEX
INSTRUMENT_HOST_NAME = "MARS EXPRESS"
INSTRUMENT_ID = HRSC
INSTRUMENT_NAME = "HIGH RESOLUTION STEREO CAMERA"
MISSION_NAME = "MARS EXPRESS"
MISSION_PHASE_NAME = ME_Phase_46
PROCESSING_LEVEL_ID = 4
PRODUCT_CREATION_TIME = 2023-01-28T22:22:56.000Z
PRODUCT_ID = "HN258_0021_S14.TIF"
RELEASE_ID = 0004
REVISION_ID = 0000
/* QUALITY DATA ELEMENTS */
DATA_QUALITY_ID = 1
DATA_QUALITY_DESC = "Data calculated based on original SPICE kernels"
/* TIME DATA ELEMENTS */
SPACECRAFT_CLOCK_START_COUNT = "1/0602036974.23984"
SPACECRAFT_CLOCK_STOP_COUNT = "1/0602037187.47707"
START_TIME = 2022-05-31T00:31:15.032Z
STOP_TIME = 2022-05-31T00:33:40.527Z
/* ORBITAL DATA ELEMENTS */
ASCENDING_NODE_LONGITUDE = 140.62
MAXIMUM_RESOLUTION = 0.0288
FOOTPRINT_POINT_LATITUDE = (-73.9796,-73.9443,-73.881,-73.7872, -73.7849,-73.8661,-73.5846,-73.3022, -73.1157,-72.9275,-72.7387,-72.5506, -72.2693,-72.0805,-71.8934,-71.7055, -71.5162,-71.2328,-70.9491,-70.5778, -70.3841,-70.1925,-70.0041,-69.8137, -69.5288,-69.2447,-69.0558,-68.8676, -68.5866,-68.3964,-68.1087,-67.9205, -67.5466,-67.2643,-66.8888,-66.6995, -66.5089,-66.2278,-66.039,-65.8458, -65.657,-65.4685,-65.2797,-65.0913, -64.6233,-64.531,-64.4386,-64.4647, -64.485,-64.5244,-64.5442,-64.545, -64.5458,-64.7348,-65.0178,-65.2069, -65.3962,-65.5851,-65.7744,-65.9643, -66.1543,-66.439,-66.6293,-66.8199, -67.0117,-67.2027,-67.3932,-67.679, -67.8694,-68.0594,-68.2501,-68.4404, -68.6326,-68.8233,-69.0122,-69.2028, -69.3939,-69.5859,-69.8731,-70.0649, -70.2559,-70.4474,-70.7345,-70.9255, -71.1163,-71.4033,-71.6884,-71.8793, -72.07,-72.3575,-72.5499,-72.7413, -72.9317,-73.1227,-73.3127,-73.5035, -73.6918,-73.8828,-73.9785,-73.9796)
FOOTPRINT_POINT_LONGITUDE = (161.709,160.808,159.383,157.567, 157.527,157.354,157.569,157.777,157.908 ,158.039,158.167,158.292,158.471, 158.589,158.701,158.812,158.923,159.083 ,159.238,159.427,159.529,159.627, 159.718,159.81,159.942,160.07,160.152, 160.232,160.346,160.424,160.541,160.613 ,160.749,160.85,160.979,161.044,161.108 ,161.198,161.257,161.321,161.378, 161.434,161.49,161.544,161.672,161.695, 161.72,162.389,162.868,163.858,164.448, 164.475,164.484,164.452,164.401,164.367 ,164.333,164.297,164.261,164.225, 164.188,164.131,164.093,164.054,164.014 ,163.974,163.932,163.868,163.825,163.78 ,163.734,163.688,163.641,163.593, 163.543,163.493,163.442,163.39,163.31, 163.256,163.2,163.143,163.055,162.994, 162.932,162.837,162.738,162.67,162.601, 162.494,162.422,162.347,162.27,162.191, 162.11,162.028,161.941,161.855,161.811, 161.709)
ORBIT_NUMBER = 23258
ORBITAL_ECCENTRICITY = 0.576
ORBITAL_INCLINATION = 87.02
ORBITAL_SEMIMAJOR_AXIS = 8769.41
PERIAPSIS_ALTITUDE = 341.46
PERIAPSIS_ARGUMENT_ANGLE = 295.15
PERIAPSIS_TIME = 2022-05-31T00:33:08.000Z
SPACECRAFT_ORIENTATION = (0.0,1.0,0.0)
^MEX_ORIENTATION_DESC = "MEX_ORIENTATION_DESC.TXT"
SPACECRAFT_POINTING_MODE = NADIR
^MEX_POINTING_DESC = "MEX_POINTING_DESC.TXT"
RIGHT_ASCENSION = -1e+32
DECLINATION = -1e+32
OFFSET_ANGLE = -1e+32
SPACECRAFT_SOLAR_DISTANCE = 2.0714e+08
TARGET_NAME = MARS
/* CAMERA DATA ELEMENTS */
DETECTOR_TEMPERATURE = 18.5744
FOCAL_PLANE_TEMPERATURE = 9.8067
INST_CMPRS_NAME = "DISCRETE COSINE TRANSFORMATION (DCT)"
INST_CMPRS_RATIO = 12.6941
INST_CMPRS_QUALITY = 0
INST_CMPRS_QUANTZ_TBL_ID = 0
INSTRUMENT_TEMPERATURE = 12.8652
LENS_TEMPERATURE = 10.2145
MACROPIXEL_SIZE = 2
MISSING_FRAMES = 0
PIXEL_SUBSAMPLING_FLAG = N
SIGNAL_CHAIN_ID = 1
/* RADIOMETRIC DATA ELEMENTS */
BANDWIDTH = 180.0
CENTER_FILTER_WAVELENGTH = 677.0
RADIANCE_OFFSET = 6.40433
RADIANCE_SCALING_FACTOR = 0.0211908
REFLECTANCE_SCALING_FACTOR = 0.000474371
MEX:REFLECTANCE_OFFSET = 0.143365
/* IMAGE OBJECT DEFINITIONS */
OBJECT = IMAGE
  INTERCHANGE_FORMAT = BINARY
  LINES = 22887
  LINE_SAMPLES = 5613
  SAMPLE_TYPE = UNSIGNED_INTEGER
  SAMPLE_BITS = 8
  BANDS = 1
  BAND_STORAGE_TYPE = BAND_SEQUENTIAL
  MAXIMUM = 255
  MEAN = 79.5034
  MINIMUM = 1
  STANDARD_DEVIATION = 28.471
END_OBJECT = IMAGE
/* MAP OBJECT DEFINITIONS */
OBJECT = IMAGE_MAP_PROJECTION
  ^DATA_SET_MAP_PROJECTION_CATALOG= "DSMAP.CAT"
  A_AXIS_RADIUS = 3396.0
  B_AXIS_RADIUS = 3396.0
  C_AXIS_RADIUS = 3396.0
  CENTER_LATITUDE = 0.0
  CENTER_LONGITUDE = 162.0
  COORDINATE_SYSTEM_NAME = PLANETOGRAPHIC
  COORDINATE_SYSTEM_TYPE = "BODY-FIXED ROTATING"
  EASTERNMOST_LONGITUDE = 164.484
  FIRST_STANDARD_PARALLEL = "N/A"
  LINE_FIRST_PIXEL = 1
  LINE_LAST_PIXEL = 22887
  LINE_PROJECTION_OFFSET = -152813.75
  MAP_PROJECTION_ROTATION = 0.0
  MAP_PROJECTION_TYPE = SINUSOIDAL
  MAP_RESOLUTION = 2370.85521546667
  MAP_SCALE = 0.025
  MAXIMUM_LATITUDE = -64.43859999999999
  MINIMUM_LATITUDE = -73.9796
  POSITIVE_LONGITUDE_DIRECTION = EAST
  REFERENCE_LATITUDE = "N/A"
  REFERENCE_LONGITUDE = "N/A"
  SAMPLE_FIRST_PIXEL = 1
  SAMPLE_LAST_PIXEL = 5613
  SAMPLE_PROJECTION_OFFSET = 3106.25
  SECOND_STANDARD_PARALLEL = "N/A"
  WESTERNMOST_LONGITUDE = 157.354
END_OBJECT = IMAGE_MAP_PROJECTION
END
