PDS_VERSION_ID = PDS3
/* FILE DATA ELEMENTS */
RECORD_TYPE = UNDEFINED
/* POINTERS TO DATA OBJECTS */
^IMAGE = ("HN226_0000_BL4.TIF")
/* IDENTIFICATION DATA ELEMENTS */
DATA_SET_ID = "MEX-M-HRSC-4-REFDR-MAPPROJECT-EXT8-V4.0"
DATA_SET_NAME = "MARS EXPRESS HRSC MAP PROJECTED REFDR EXTENSION8 V4.0"
DETECTOR_ID = MEX_HRSC_BLUE
EVENT_TYPE = "MARS-LOCAL-CARTOGRAPHY-Im-Gl-Pf"
INSTRUMENT_HOST_ID = MEX
INSTRUMENT_HOST_NAME = "MARS EXPRESS"
INSTRUMENT_ID = HRSC
INSTRUMENT_NAME = "HIGH RESOLUTION STEREO CAMERA"
MISSION_NAME = "MARS EXPRESS"
MISSION_PHASE_NAME = ME_Phase_46
PROCESSING_LEVEL_ID = 4
PRODUCT_CREATION_TIME = 2023-01-28T22:22:56.000Z
PRODUCT_ID = "HN226_0000_BL4.TIF"
RELEASE_ID = 0004
REVISION_ID = 0000
/* QUALITY DATA ELEMENTS */
DATA_QUALITY_ID = 1
DATA_QUALITY_DESC = "Data calculated based on original SPICE kernels"
/* TIME DATA ELEMENTS */
SPACECRAFT_CLOCK_START_COUNT = "1/0601232411.25676"
SPACECRAFT_CLOCK_STOP_COUNT = "1/0601232781.49240"
START_TIME = 2022-05-21T17:01:18.095Z
STOP_TIME = 2022-05-21T17:06:18.290Z
/* ORBITAL DATA ELEMENTS */
ASCENDING_NODE_LONGITUDE = 141.19
MAXIMUM_RESOLUTION = 0.0539
FOOTPRINT_POINT_LATITUDE = (-74.6328,-74.5743,-74.497,-74.4024, -74.3997,-74.3752,-73.6374,-73.0807, -72.7091,-72.3361,-71.9622,-71.5873, -71.2118,-70.8356,-70.4585,-70.0806, -69.7021,-69.3233,-68.9436,-68.5631, -68.1818,-67.8001,-67.4179,-67.0351, -66.6516,-66.0755,-65.6914,-65.3066, -64.9206,-64.535,-63.9552,-63.5686, -62.9864,-62.4046,-61.8218,-61.4331, -60.8494,-60.2654,-59.6809,-59.2911, -58.9012,-58.5101,-58.12,-57.7307, -57.3396,-56.95,-56.5585,-56.1674, -55.7764,-55.3857,-55.1903,-55.1759, -55.2222,-55.2419,-55.2424,-55.2436, -55.6361,-56.0285,-56.4203,-57.0088, -57.4017,-57.99,-58.5784,-58.9706, -59.5576,-59.9492,-60.3404,-60.9271, -61.3182,-61.9049,-62.2953,-62.8813, -63.4665,-63.8562,-64.2459,-64.6351, -65.2183,-65.8007,-66.3826,-66.7698, -67.1569,-67.5437,-68.1218,-68.5069, -69.0843,-69.662,-70.0452,-70.4283, -70.811,-71.1931,-71.5746,-71.9555, -72.5263,-72.9062,-73.285,-73.6632, -74.0404,-74.4173,-74.6055,-74.6328)
FOOTPRINT_POINT_LONGITUDE = (189.687,188.227,186.598,184.897, 184.853,184.756,185.369,185.79,186.057, 186.31,186.553,186.784,187.006,187.219, 187.423,187.619,187.807,187.988,188.161 ,188.328,188.487,188.64,188.788,188.93, 189.066,189.261,189.387,189.507,189.621 ,189.733,189.892,189.994,190.136, 190.274,190.404,190.487,190.606,190.719 ,190.826,190.895,190.962,191.023, 191.085,191.148,191.204,191.262,191.314 ,191.365,191.414,191.463,191.486, 191.488,192.799,193.533,193.552,193.558 ,193.528,193.497,193.466,193.417, 193.381,193.328,193.272,193.234,193.177 ,193.137,193.096,193.032,192.986, 192.914,192.866,192.788,192.707,192.651 ,192.592,192.532,192.439,192.34,192.235 ,192.163,192.088,192.008,191.891, 191.808,191.673,191.523,191.425,191.321 ,191.212,191.098,190.98,190.857,190.658 ,190.517,190.371,190.22,190.063,189.895 ,189.808,189.687)
ORBIT_NUMBER = 23226
ORBITAL_ECCENTRICITY = 0.576
ORBITAL_INCLINATION = 87.02
ORBITAL_SEMIMAJOR_AXIS = 8775.32
PERIAPSIS_ALTITUDE = 340.79
PERIAPSIS_ARGUMENT_ANGLE = 300.55
PERIAPSIS_TIME = 2022-05-21T17:05:21.000Z
SPACECRAFT_ORIENTATION = (0.0,1.0,0.0)
^MEX_ORIENTATION_DESC = "MEX_ORIENTATION_DESC.TXT"
SPACECRAFT_POINTING_MODE = NADIR
^MEX_POINTING_DESC = "MEX_POINTING_DESC.TXT"
RIGHT_ASCENSION = -1e+32
DECLINATION = -1e+32
OFFSET_ANGLE = -1e+32
SPACECRAFT_SOLAR_DISTANCE = 2.0766e+08
TARGET_NAME = MARS
/* CAMERA DATA ELEMENTS */
DETECTOR_TEMPERATURE = 18.3705
FOCAL_PLANE_TEMPERATURE = 8.7872
INST_CMPRS_NAME = "DISCRETE COSINE TRANSFORMATION (DCT)"
INST_CMPRS_RATIO = 29.9812
INST_CMPRS_QUALITY = 0
INST_CMPRS_QUANTZ_TBL_ID = 0
INSTRUMENT_TEMPERATURE = 11.234
LENS_TEMPERATURE = 8.7872
MACROPIXEL_SIZE = 4
MISSING_FRAMES = 0
PIXEL_SUBSAMPLING_FLAG = N
SIGNAL_CHAIN_ID = 2
/* RADIOMETRIC DATA ELEMENTS */
BANDWIDTH = 76.0
CENTER_FILTER_WAVELENGTH = 444.0
RADIANCE_OFFSET = 0.765845
RADIANCE_SCALING_FACTOR = 0.000523655
REFLECTANCE_SCALING_FACTOR = 2.32011e-05
MEX:REFLECTANCE_OFFSET = 0.0339316
/* IMAGE OBJECT DEFINITIONS */
OBJECT = IMAGE
  INTERCHANGE_FORMAT = BINARY
  LINES = 23029
  LINE_SAMPLES = 3727
  SAMPLE_TYPE = UNSIGNED_INTEGER
  SAMPLE_BITS = 8
  BANDS = 1
  BAND_STORAGE_TYPE = BAND_SEQUENTIAL
  MAXIMUM = 255
  MEAN = 244.617
  MINIMUM = 3
  STANDARD_DEVIATION = 32.0721
END_OBJECT = IMAGE
/* MAP OBJECT DEFINITIONS */
OBJECT = IMAGE_MAP_PROJECTION
  ^DATA_SET_MAP_PROJECTION_CATALOG= "DSMAP.CAT"
  A_AXIS_RADIUS = 3396.0
  B_AXIS_RADIUS = 3396.0
  C_AXIS_RADIUS = 3396.0
  CENTER_LATITUDE = 0.0
  CENTER_LONGITUDE = 191.0
  COORDINATE_SYSTEM_NAME = PLANETOGRAPHIC
  COORDINATE_SYSTEM_TYPE = "BODY-FIXED ROTATING"
  EASTERNMOST_LONGITUDE = 193.558
  FIRST_STANDARD_PARALLEL = "N/A"
  LINE_FIRST_PIXEL = 1
  LINE_LAST_PIXEL = 23029
  LINE_PROJECTION_OFFSET = -65406.375
  MAP_PROJECTION_ROTATION = 0.0
  MAP_PROJECTION_TYPE = SINUSOIDAL
  MAP_RESOLUTION = 1185.42760773333
  MAP_SCALE = 0.05
  MAXIMUM_LATITUDE = -55.1759
  MINIMUM_LATITUDE = -74.6328
  POSITIVE_LONGITUDE_DIRECTION = EAST
  REFERENCE_LATITUDE = "N/A"
  REFERENCE_LONGITUDE = "N/A"
  SAMPLE_FIRST_PIXEL = 1
  SAMPLE_LAST_PIXEL = 3727
  SAMPLE_PROJECTION_OFFSET = 1995.875
  SECOND_STANDARD_PARALLEL = "N/A"
  WESTERNMOST_LONGITUDE = 184.756
END_OBJECT = IMAGE_MAP_PROJECTION
END
