PDS_VERSION_ID = PDS3
/* FILE DATA ELEMENTS */
RECORD_TYPE = UNDEFINED
/* POINTERS TO DATA OBJECTS */
^IMAGE = ("HN225_0000_GR4.TIF")
/* IDENTIFICATION DATA ELEMENTS */
DATA_SET_ID = "MEX-M-HRSC-4-REFDR-MAPPROJECT-EXT8-V4.0"
DATA_SET_NAME = "MARS EXPRESS HRSC MAP PROJECTED REFDR EXTENSION8 V4.0"
DETECTOR_ID = MEX_HRSC_GREEN
EVENT_TYPE = "MARS-REGIONAL-COLOR-Eb-La-Ts"
INSTRUMENT_HOST_ID = MEX
INSTRUMENT_HOST_NAME = "MARS EXPRESS"
INSTRUMENT_ID = HRSC
INSTRUMENT_NAME = "HIGH RESOLUTION STEREO CAMERA"
MISSION_NAME = "MARS EXPRESS"
MISSION_PHASE_NAME = ME_Phase_46
PROCESSING_LEVEL_ID = 4
PRODUCT_CREATION_TIME = 2023-01-28T22:22:56.000Z
PRODUCT_ID = "HN225_0000_GR4.TIF"
RELEASE_ID = 0004
REVISION_ID = 0000
/* QUALITY DATA ELEMENTS */
DATA_QUALITY_ID = 1
DATA_QUALITY_DESC = "Data calculated based on original SPICE kernels"
/* TIME DATA ELEMENTS */
SPACECRAFT_CLOCK_START_COUNT = "1/0601207790.23941"
SPACECRAFT_CLOCK_STOP_COUNT = "1/0601208118.49023"
START_TIME = 2022-05-21T10:11:07.073Z
STOP_TIME = 2022-05-21T10:15:00.185Z
/* ORBITAL DATA ELEMENTS */
ASCENDING_NODE_LONGITUDE = 141.21
MAXIMUM_RESOLUTION = 0.0644
FOOTPRINT_POINT_LATITUDE = (-41.2658,-41.2632,-41.2575,-41.2434, -41.2431,-41.2472,-40.8768,-40.3785, -39.8732,-39.3693,-38.8539,-38.3397, -37.9496,-37.6867,-37.4242,-37.1621, -36.8963,-36.6284,-36.3609,-36.0938, -35.686,-35.2686,-34.9957,-34.7179, -34.4404,-34.1635,-33.8817,-33.5993, -33.3174,-33.032,-32.7447,-32.4581, -32.1675,-31.8756,-31.5842,-31.2882, -30.9925,-30.6939,-30.3917,-30.0904, -29.6331,-29.3275,-28.8629,-28.5531, -28.238,-27.9237,-27.4451,-27.2855, -27.2115,-27.212,-27.2112,-27.2089, -27.2062,-27.2022,-27.202,-27.2032, -27.5231,-27.8439,-28.1593,-28.632, -28.9433,-29.255,-29.7146,-30.0212, -30.4739,-30.7759,-31.0727,-31.3701, -31.6656,-32.1041,-32.3967,-32.6839, -32.9717,-33.2592,-33.5416,-33.8245, -34.247,-34.5247,-34.8028,-35.0807, -35.4983,-35.7718,-36.0452,-36.3128, -36.5808,-36.8491,-37.1169,-37.3795, -37.6424,-37.9057,-38.1693,-38.4266, -38.6842,-38.9423,-39.4569,-39.9622, -40.7194,-41.0908,-41.2153,-41.2658)
FOOTPRINT_POINT_LONGITUDE = (297.298,296.892,296.334,295.461, 295.445,295.441,295.444,295.447,295.45, 295.452,295.453,295.453,295.452,295.452 ,295.451,295.45,295.449,295.447,295.446 ,295.444,295.441,295.437,295.434, 295.431,295.428,295.425,295.421,295.417 ,295.413,295.409,295.404,295.4,295.395, 295.389,295.384,295.378,295.372,295.366 ,295.36,295.353,295.342,295.335,295.323 ,295.315,295.306,295.298,295.284, 295.279,295.277,295.817,296.221,296.669 ,297.017,297.431,297.452,297.459, 297.456,297.454,297.452,297.45,297.449, 297.447,297.444,297.442,297.439,297.437 ,297.435,297.432,297.43,297.426,297.423 ,297.421,297.418,297.416,297.413, 297.411,297.407,297.405,297.402,297.399 ,297.395,297.393,297.391,297.388, 297.386,297.383,297.38,297.377,297.375, 297.371,297.368,297.364,297.36,297.357, 297.353,297.348,297.339,297.336,297.338 ,297.298)
ORBIT_NUMBER = 23225
ORBITAL_ECCENTRICITY = 0.576
ORBITAL_INCLINATION = 87.01
ORBITAL_SEMIMAJOR_AXIS = 8776.06
PERIAPSIS_ALTITUDE = 340.89
PERIAPSIS_ARGUMENT_ANGLE = 300.73
PERIAPSIS_TIME = 2022-05-21T10:06:25.000Z
SPACECRAFT_ORIENTATION = (0.0,1.0,0.0)
^MEX_ORIENTATION_DESC = "MEX_ORIENTATION_DESC.TXT"
SPACECRAFT_POINTING_MODE = ACROSSTRACK
^MEX_POINTING_DESC = "MEX_POINTING_DESC.TXT"
RIGHT_ASCENSION = -1e+32
DECLINATION = -1e+32
OFFSET_ANGLE = -0.7
SPACECRAFT_SOLAR_DISTANCE = 2.07679e+08
TARGET_NAME = MARS
/* CAMERA DATA ELEMENTS */
DETECTOR_TEMPERATURE = 18.3705
FOCAL_PLANE_TEMPERATURE = 8.5833
INST_CMPRS_NAME = "DISCRETE COSINE TRANSFORMATION (DCT)"
INST_CMPRS_RATIO = 11.0611
INST_CMPRS_QUALITY = 0
INST_CMPRS_QUANTZ_TBL_ID = 0
INSTRUMENT_TEMPERATURE = 11.234
LENS_TEMPERATURE = 7.9716
MACROPIXEL_SIZE = 4
MISSING_FRAMES = 1
PIXEL_SUBSAMPLING_FLAG = N
SIGNAL_CHAIN_ID = 2
/* RADIOMETRIC DATA ELEMENTS */
BANDWIDTH = 88.0
CENTER_FILTER_WAVELENGTH = 538.0
RADIANCE_OFFSET = 1.81012
RADIANCE_SCALING_FACTOR = 0.00294428
REFLECTANCE_SCALING_FACTOR = 0.000109334
MEX:REFLECTANCE_OFFSET = 0.0672177
/* IMAGE OBJECT DEFINITIONS */
OBJECT = IMAGE
  INTERCHANGE_FORMAT = BINARY
  LINES = 16672
  LINE_SAMPLES = 2282
  SAMPLE_TYPE = UNSIGNED_INTEGER
  SAMPLE_BITS = 8
  BANDS = 1
  BAND_STORAGE_TYPE = BAND_SEQUENTIAL
  MAXIMUM = 255
  MEAN = 148.42
  MINIMUM = 1
  STANDARD_DEVIATION = 18.6183
END_OBJECT = IMAGE
/* MAP OBJECT DEFINITIONS */
OBJECT = IMAGE_MAP_PROJECTION
  ^DATA_SET_MAP_PROJECTION_CATALOG= "DSMAP.CAT"
  A_AXIS_RADIUS = 3396.0
  B_AXIS_RADIUS = 3396.0
  C_AXIS_RADIUS = 3396.0
  CENTER_LATITUDE = 0.0
  CENTER_LONGITUDE = 296.0
  COORDINATE_SYSTEM_NAME = PLANETOGRAPHIC
  COORDINATE_SYSTEM_TYPE = "BODY-FIXED ROTATING"
  EASTERNMOST_LONGITUDE = 297.459
  FIRST_STANDARD_PARALLEL = "N/A"
  LINE_FIRST_PIXEL = 1
  LINE_LAST_PIXEL = 16672
  LINE_PROJECTION_OFFSET = -32241.125
  MAP_PROJECTION_ROTATION = 0.0
  MAP_PROJECTION_TYPE = SINUSOIDAL
  MAP_RESOLUTION = 1185.42760773333
  MAP_SCALE = 0.05
  MAXIMUM_LATITUDE = -27.202
  MINIMUM_LATITUDE = -41.2658
  POSITIVE_LONGITUDE_DIRECTION = EAST
  REFERENCE_LATITUDE = "N/A"
  REFERENCE_LONGITUDE = "N/A"
  SAMPLE_FIRST_PIXEL = 1
  SAMPLE_LAST_PIXEL = 2282
  SAMPLE_PROJECTION_OFFSET = 757.875
  SECOND_STANDARD_PARALLEL = "N/A"
  WESTERNMOST_LONGITUDE = 295.277
END_OBJECT = IMAGE_MAP_PROJECTION
END
