PDS_VERSION_ID = PDS3
/* FILE DATA ELEMENTS */
RECORD_TYPE = UNDEFINED
/* POINTERS TO DATA OBJECTS */
^IMAGE = ("HN219_0000_IR4.TIF")
/* IDENTIFICATION DATA ELEMENTS */
DATA_SET_ID = "MEX-M-HRSC-4-REFDR-MAPPROJECT-EXT8-V4.0"
DATA_SET_NAME = "MARS EXPRESS HRSC MAP PROJECTED REFDR EXTENSION8 V4.0"
DETECTOR_ID = MEX_HRSC_IR
EVENT_TYPE = "MARS-LOCAL-CARTOGRAPHY-Im-Gl-Pf"
INSTRUMENT_HOST_ID = MEX
INSTRUMENT_HOST_NAME = "MARS EXPRESS"
INSTRUMENT_ID = HRSC
INSTRUMENT_NAME = "HIGH RESOLUTION STEREO CAMERA"
MISSION_NAME = "MARS EXPRESS"
MISSION_PHASE_NAME = ME_Phase_46
PROCESSING_LEVEL_ID = 4
PRODUCT_CREATION_TIME = 2023-01-28T22:22:56.000Z
PRODUCT_ID = "HN219_0000_IR4.TIF"
RELEASE_ID = 0004
REVISION_ID = 0000
/* QUALITY DATA ELEMENTS */
DATA_QUALITY_ID = 1
DATA_QUALITY_DESC = "Data calculated based on original SPICE kernels"
/* TIME DATA ELEMENTS */
SPACECRAFT_CLOCK_START_COUNT = "1/0601056331.25689"
SPACECRAFT_CLOCK_STOP_COUNT = "1/0601056683.49265"
START_TIME = 2022-05-19T16:07:24.931Z
STOP_TIME = 2022-05-19T16:11:51.373Z
/* ORBITAL DATA ELEMENTS */
ASCENDING_NODE_LONGITUDE = 141.31
MAXIMUM_RESOLUTION = 0.0568
FOOTPRINT_POINT_LATITUDE = (-79.3005,-79.1946,-79.0978,-78.9883, -78.9847,-79.0572,-78.6749,-78.0998, -77.724,-77.3479,-76.968,-76.5971, -76.0428,-75.6723,-75.2996,-74.7404, -74.367,-73.992,-73.6171,-73.2427, -72.68,-72.3054,-71.9307,-71.5542, -71.1774,-70.8001,-70.4222,-70.0525, -69.7358,-69.4184,-69.1,-68.6252, -68.1483,-67.8306,-67.5123,-66.8788, -66.558,-66.2397,-65.9219,-65.6019, -65.1266,-64.8088,-64.4912,-64.1734, -63.7005,-63.22,-62.7449,-61.9521, -61.7935,-61.7433,-61.7983,-61.8591, -61.86,-61.8612,-62.4972,-62.9727, -63.2912,-63.6127,-64.091,-64.4102, -64.8895,-65.2097,-65.5298,-65.851, -66.3315,-66.6515,-66.9711,-67.4514, -67.7713,-68.0903,-68.4094,-68.8888, -69.2106,-69.5307,-69.8514,-70.1724, -70.5358,-70.9168,-71.2977,-71.6776, -72.2468,-72.6292,-73.0085,-73.3884, -73.7682,-74.3366,-74.7236,-75.1007, -75.4734,-75.8527,-76.2314,-76.6094, -77.1759,-77.5639,-77.9517,-78.3374, -78.7299,-79.1258,-79.3241,-79.3005)
FOOTPRINT_POINT_LONGITUDE = (185.825,182.806,180.595,178.458, 178.393,178.302,178.833,179.562,179.998 ,180.407,180.793,181.147,181.639, 181.944,182.233,182.638,182.891,183.131 ,183.359,183.575,183.881,184.073, 184.255,184.43,184.596,184.756,184.908, 185.05,185.167,185.28,185.389,185.545, 185.693,185.788,185.879,186.053,186.134 ,186.214,186.291,186.365,186.472,186.54 ,186.606,186.671,186.763,186.85,186.934 ,187.065,187.09,187.098,188.199,189.64, 189.665,189.673,189.629,189.591,189.567 ,189.548,189.51,189.485,189.445,189.419 ,189.392,189.365,189.322,189.29,189.257 ,189.207,189.172,189.133,189.093, 189.033,188.996,188.953,188.911,188.868 ,188.812,188.752,188.688,188.619, 188.509,188.439,188.358,188.275,188.188 ,188.047,187.969,187.86,187.733,187.619 ,187.497,187.367,187.156,187.003, 186.839,186.659,186.468,186.259,186.15, 185.825)
ORBIT_NUMBER = 23219
ORBITAL_ECCENTRICITY = 0.576
ORBITAL_INCLINATION = 87.02
ORBITAL_SEMIMAJOR_AXIS = 8777.13
PERIAPSIS_ALTITUDE = 340.92
PERIAPSIS_ARGUMENT_ANGLE = 301.73
PERIAPSIS_TIME = 2022-05-19T16:12:22.000Z
SPACECRAFT_ORIENTATION = (0.0,1.0,0.0)
^MEX_ORIENTATION_DESC = "MEX_ORIENTATION_DESC.TXT"
SPACECRAFT_POINTING_MODE = ACROSSTRACK
^MEX_POINTING_DESC = "MEX_POINTING_DESC.TXT"
RIGHT_ASCENSION = -1e+32
DECLINATION = -1e+32
OFFSET_ANGLE = -0.808
SPACECRAFT_SOLAR_DISTANCE = 2.07797e+08
TARGET_NAME = MARS
/* CAMERA DATA ELEMENTS */
DETECTOR_TEMPERATURE = 17.351
FOCAL_PLANE_TEMPERATURE = 8.5833
INST_CMPRS_NAME = "DISCRETE COSINE TRANSFORMATION (DCT)"
INST_CMPRS_RATIO = 8.63783
INST_CMPRS_QUALITY = 0
INST_CMPRS_QUANTZ_TBL_ID = 0
INSTRUMENT_TEMPERATURE = 11.4379
LENS_TEMPERATURE = 8.9911
MACROPIXEL_SIZE = 4
MISSING_FRAMES = 0
PIXEL_SUBSAMPLING_FLAG = N
SIGNAL_CHAIN_ID = 2
/* RADIOMETRIC DATA ELEMENTS */
BANDWIDTH = 81.0
CENTER_FILTER_WAVELENGTH = 955.5
RADIANCE_OFFSET = 1.21206
RADIANCE_SCALING_FACTOR = 0.00672001
REFLECTANCE_SCALING_FACTOR = 0.000626005
MEX:REFLECTANCE_OFFSET = 0.11291
/* IMAGE OBJECT DEFINITIONS */
OBJECT = IMAGE
  INTERCHANGE_FORMAT = BINARY
  LINES = 20868
  LINE_SAMPLES = 3508
  SAMPLE_TYPE = UNSIGNED_INTEGER
  SAMPLE_BITS = 8
  BANDS = 1
  BAND_STORAGE_TYPE = BAND_SEQUENTIAL
  MAXIMUM = 255
  MEAN = 92.4306
  MINIMUM = 1
  STANDARD_DEVIATION = 47.009
END_OBJECT = IMAGE
/* MAP OBJECT DEFINITIONS */
OBJECT = IMAGE_MAP_PROJECTION
  ^DATA_SET_MAP_PROJECTION_CATALOG= "DSMAP.CAT"
  A_AXIS_RADIUS = 3396.0
  B_AXIS_RADIUS = 3396.0
  C_AXIS_RADIUS = 3396.0
  CENTER_LATITUDE = 0.0
  CENTER_LONGITUDE = 187.0
  COORDINATE_SYSTEM_NAME = PLANETOGRAPHIC
  COORDINATE_SYSTEM_TYPE = "BODY-FIXED ROTATING"
  EASTERNMOST_LONGITUDE = 189.673
  FIRST_STANDARD_PARALLEL = "N/A"
  LINE_FIRST_PIXEL = 1
  LINE_LAST_PIXEL = 20868
  LINE_PROJECTION_OFFSET = -73250.625
  MAP_PROJECTION_ROTATION = 0.0
  MAP_PROJECTION_TYPE = SINUSOIDAL
  MAP_RESOLUTION = 1185.42760773333
  MAP_SCALE = 0.05
  MAXIMUM_LATITUDE = -61.7433
  MINIMUM_LATITUDE = -79.3241
  POSITIVE_LONGITUDE_DIRECTION = EAST
  REFERENCE_LATITUDE = "N/A"
  REFERENCE_LONGITUDE = "N/A"
  SAMPLE_FIRST_PIXEL = 1
  SAMPLE_LAST_PIXEL = 3508
  SAMPLE_PROJECTION_OFFSET = 2015.875
  SECOND_STANDARD_PARALLEL = "N/A"
  WESTERNMOST_LONGITUDE = 178.302
END_OBJECT = IMAGE_MAP_PROJECTION
END
