PDS_VERSION_ID = PDS3
/* FILE DATA ELEMENTS */
RECORD_TYPE = UNDEFINED
/* POINTERS TO DATA OBJECTS */
^IMAGE = ("HN217_0000_S14.TIF")
/* IDENTIFICATION DATA ELEMENTS */
DATA_SET_ID = "MEX-M-HRSC-4-REFDR-MAPPROJECT-EXT8-V4.0"
DATA_SET_NAME = "MARS EXPRESS HRSC MAP PROJECTED REFDR EXTENSION8 V4.0"
DETECTOR_ID = MEX_HRSC_S1
EVENT_TYPE = "MARS-REGIONAL-MAPPING-Im-Eo-La"
INSTRUMENT_HOST_ID = MEX
INSTRUMENT_HOST_NAME = "MARS EXPRESS"
INSTRUMENT_ID = HRSC
INSTRUMENT_NAME = "HIGH RESOLUTION STEREO CAMERA"
MISSION_NAME = "MARS EXPRESS"
MISSION_PHASE_NAME = ME_Phase_46
PROCESSING_LEVEL_ID = 4
PRODUCT_CREATION_TIME = 2023-01-28T22:22:56.000Z
PRODUCT_ID = "HN217_0000_S14.TIF"
RELEASE_ID = 0004
REVISION_ID = 0000
/* QUALITY DATA ELEMENTS */
DATA_QUALITY_ID = 1
DATA_QUALITY_DESC = "Data calculated based on original SPICE kernels"
/* TIME DATA ELEMENTS */
SPACECRAFT_CLOCK_START_COUNT = "1/0601006489.24895"
SPACECRAFT_CLOCK_STOP_COUNT = "1/0601006712.56408"
START_TIME = 2022-05-19T02:16:28.047Z
STOP_TIME = 2022-05-19T02:19:05.576Z
/* ORBITAL DATA ELEMENTS */
ASCENDING_NODE_LONGITUDE = 141.35
MAXIMUM_RESOLUTION = 0.03
FOOTPRINT_POINT_LATITUDE = (-51.6427,-51.6183,-51.6001,-51.5815, -51.5627,-51.5436,-51.5241,-51.5229, -51.5824,-51.4052,-51.2273,-50.8778, -50.6134,-50.3482,-50.1706,-49.9926, -49.6409,-49.3754,-48.9379,-48.6422, -48.4346,-48.2268,-48.0174,-47.8079, -47.6041,-47.2927,-47.0846,-46.8784, -46.5707,-46.2625,-46.0566,-45.8514, -45.5437,-45.3364,-45.132,-44.8246, -44.6194,-44.4156,-44.1102,-43.9069, -43.7034,-43.501,-43.1973,-42.9949, -42.7944,-42.5912,-42.2901,-42.0894, -41.8884,-41.7855,-41.7825,-41.8021, -41.8189,-41.8371,-41.8524,-41.873, -41.8881,-41.8891,-41.8901,-42.0934, -42.2943,-42.5956,-42.7963,-43.006, -43.2116,-43.5174,-43.8239,-44.1257, -44.3286,-44.5254,-44.8312,-45.0361, -45.242,-45.4469,-45.6522,-45.8598, -46.0668,-46.3757,-46.5816,-46.8906, -47.0967,-47.3056,-47.5137,-47.7205, -47.9306,-48.1364,-48.3454,-48.5534, -48.7608,-49.1459,-49.4082,-49.6717, -50.0251,-50.2917,-50.7333,-51.1757, -51.3531,-51.6188,-51.7076,-51.6427)
FOOTPRINT_POINT_LONGITUDE = (35.0835,34.6307,34.3084,33.9916, 33.6807,33.3748,33.0739,33.0553,33.08, 33.0864,33.0922,33.1064,33.1152,33.1231 ,33.1277,33.132,33.1418,33.1478,33.1591 ,33.1659,33.171,33.1757,33.1793,33.1827 ,33.1883,33.1936,33.1966,33.2001, 33.2056,33.2102,33.2128,33.2154,33.2188 ,33.2199,33.2219,33.2241,33.2252, 33.2266,33.2283,33.2293,33.23,33.2308, 33.2316,33.2318,33.2325,33.232,33.2322, 33.232,33.2316,33.2314,33.2314,33.5646, 33.8659,34.2096,34.5013,34.8974,35.1999 ,35.2203,35.2277,35.2265,35.2259, 35.2241,35.2224,35.2313,35.2349,35.2365 ,35.2382,35.2333,35.2317,35.2219, 35.2201,35.2197,35.2203,35.2193,35.2184 ,35.2202,35.2209,35.2193,35.2177, 35.2147,35.2124,35.2137,35.2136,35.2112 ,35.213,35.2086,35.2082,35.2062,35.2029 ,35.2019,35.1988,35.1968,35.1963, 35.1976,35.1946,35.1913,35.1902,35.1876 ,35.1869,35.0835)
ORBIT_NUMBER = 23217
ORBITAL_ECCENTRICITY = 0.576
ORBITAL_INCLINATION = 87.01
ORBITAL_SEMIMAJOR_AXIS = 8780.59
PERIAPSIS_ALTITUDE = 341.02
PERIAPSIS_ARGUMENT_ANGLE = 302.06
PERIAPSIS_TIME = 2022-05-19T02:14:21.000Z
SPACECRAFT_ORIENTATION = (0.0,1.0,0.0)
^MEX_ORIENTATION_DESC = "MEX_ORIENTATION_DESC.TXT"
SPACECRAFT_POINTING_MODE = ACROSSTRACK
^MEX_POINTING_DESC = "MEX_POINTING_DESC.TXT"
RIGHT_ASCENSION = -1e+32
DECLINATION = -1e+32
OFFSET_ANGLE = -1.27
SPACECRAFT_SOLAR_DISTANCE = 2.07838e+08
TARGET_NAME = MARS
/* CAMERA DATA ELEMENTS */
DETECTOR_TEMPERATURE = 16.7393
FOCAL_PLANE_TEMPERATURE = 8.3794
INST_CMPRS_NAME = "DISCRETE COSINE TRANSFORMATION (DCT)"
INST_CMPRS_RATIO = 11.8535
INST_CMPRS_QUALITY = 0
INST_CMPRS_QUANTZ_TBL_ID = 0
INSTRUMENT_TEMPERATURE = 11.0301
LENS_TEMPERATURE = 8.7872
MACROPIXEL_SIZE = 2
MISSING_FRAMES = 0
PIXEL_SUBSAMPLING_FLAG = N
SIGNAL_CHAIN_ID = 1
/* RADIOMETRIC DATA ELEMENTS */
BANDWIDTH = 180.0
CENTER_FILTER_WAVELENGTH = 677.0
RADIANCE_OFFSET = 6.4752
RADIANCE_SCALING_FACTOR = 0.00990943
REFLECTANCE_SCALING_FACTOR = 0.000223327
MEX:REFLECTANCE_OFFSET = 0.14593
/* IMAGE OBJECT DEFINITIONS */
OBJECT = IMAGE
  INTERCHANGE_FORMAT = BINARY
  LINES = 23300
  LINE_SAMPLES = 3413
  SAMPLE_TYPE = UNSIGNED_INTEGER
  SAMPLE_BITS = 8
  BANDS = 1
  BAND_STORAGE_TYPE = BAND_SEQUENTIAL
  MAXIMUM = 255
  MEAN = 167.409
  MINIMUM = 1
  STANDARD_DEVIATION = 34.6241
END_OBJECT = IMAGE
/* MAP OBJECT DEFINITIONS */
OBJECT = IMAGE_MAP_PROJECTION
  ^DATA_SET_MAP_PROJECTION_CATALOG= "DSMAP.CAT"
  A_AXIS_RADIUS = 3396.0
  B_AXIS_RADIUS = 3396.0
  C_AXIS_RADIUS = 3396.0
  CENTER_LATITUDE = 0.0
  CENTER_LONGITUDE = 34.0
  COORDINATE_SYSTEM_NAME = PLANETOGRAPHIC
  COORDINATE_SYSTEM_TYPE = "BODY-FIXED ROTATING"
  EASTERNMOST_LONGITUDE = 35.2382
  FIRST_STANDARD_PARALLEL = "N/A"
  LINE_FIRST_PIXEL = 1
  LINE_LAST_PIXEL = 23300
  LINE_PROJECTION_OFFSET = -99180.75
  MAP_PROJECTION_ROTATION = 0.0
  MAP_PROJECTION_TYPE = SINUSOIDAL
  MAP_RESOLUTION = 2370.85521546667
  MAP_SCALE = 0.025
  MAXIMUM_LATITUDE = -41.7825
  MINIMUM_LATITUDE = -51.7076
  POSITIVE_LONGITUDE_DIRECTION = EAST
  REFERENCE_LATITUDE = "N/A"
  REFERENCE_LONGITUDE = "N/A"
  SAMPLE_FIRST_PIXEL = 1
  SAMPLE_LAST_PIXEL = 3413
  SAMPLE_PROJECTION_OFFSET = 1353.25
  SECOND_STANDARD_PARALLEL = "N/A"
  WESTERNMOST_LONGITUDE = 33.0553
END_OBJECT = IMAGE_MAP_PROJECTION
END
