PDS_VERSION_ID = PDS3
/* FILE DATA ELEMENTS */
RECORD_TYPE = UNDEFINED
/* POINTERS TO DATA OBJECTS */
^IMAGE = ("HN217_0000_BL4.TIF")
/* IDENTIFICATION DATA ELEMENTS */
DATA_SET_ID = "MEX-M-HRSC-4-REFDR-MAPPROJECT-EXT8-V4.0"
DATA_SET_NAME = "MARS EXPRESS HRSC MAP PROJECTED REFDR EXTENSION8 V4.0"
DETECTOR_ID = MEX_HRSC_BLUE
EVENT_TYPE = "MARS-REGIONAL-MAPPING-Im-Eo-La"
INSTRUMENT_HOST_ID = MEX
INSTRUMENT_HOST_NAME = "MARS EXPRESS"
INSTRUMENT_ID = HRSC
INSTRUMENT_NAME = "HIGH RESOLUTION STEREO CAMERA"
MISSION_NAME = "MARS EXPRESS"
MISSION_PHASE_NAME = ME_Phase_46
PROCESSING_LEVEL_ID = 4
PRODUCT_CREATION_TIME = 2023-01-28T22:22:56.000Z
PRODUCT_ID = "HN217_0000_BL4.TIF"
RELEASE_ID = 0004
REVISION_ID = 0000
/* QUALITY DATA ELEMENTS */
DATA_QUALITY_ID = 1
DATA_QUALITY_DESC = "Data calculated based on original SPICE kernels"
/* TIME DATA ELEMENTS */
SPACECRAFT_CLOCK_START_COUNT = "1/0601006489.24895"
SPACECRAFT_CLOCK_STOP_COUNT = "1/0601006712.56408"
START_TIME = 2022-05-19T02:15:50.322Z
STOP_TIME = 2022-05-19T02:18:21.572Z
/* ORBITAL DATA ELEMENTS */
ASCENDING_NODE_LONGITUDE = 141.35
MAXIMUM_RESOLUTION = 0.0277
FOOTPRINT_POINT_LATITUDE = (-51.6656,-51.6681,-51.669,-51.6689, -51.668,-51.6663,-51.6639,-51.6637, -51.6522,-51.4697,-51.2877,-51.1048, -50.9223,-50.7401,-50.4668,-50.1033, -49.921,-49.6479,-49.2845,-49.1027, -48.9204,-48.557,-48.3752,-48.1027, -47.7394,-47.5574,-47.1953,-46.9233, -46.4698,-46.1618,-45.9457,-45.7298, -45.5141,-45.2989,-45.0832,-44.8677, -44.545,-44.3297,-44.1146,-43.8997, -43.6848,-43.4701,-43.2554,-43.041, -42.8264,-42.6125,-42.3982,-42.1842, -41.9703,-41.8635,-41.8422,-41.8418, -41.8399,-41.8364,-41.8307,-41.8256, -41.8252,-41.8256,-42.0397,-42.3613, -42.5759,-42.7907,-43.0037,-43.3255, -43.6476,-43.9708,-44.1864,-44.4026, -44.6195,-44.8349,-45.0508,-45.3745, -45.5906,-45.9144,-46.1308,-46.4426, -46.8058,-47.1692,-47.5324,-47.7143, -47.987,-48.1693,-48.3512,-48.5333, -48.8064,-49.0798,-49.353,-49.5357, -49.7175,-49.9006,-50.0825,-50.2647, -50.4473,-50.6298,-50.8123,-50.995, -51.2689,-51.543,-51.6343,-51.6656)
FOOTPRINT_POINT_LONGITUDE = (35.0444,34.6021,34.2869,33.977,33.6725 ,33.3729,33.0779,33.0596,33.0885,33.096 ,33.1022,33.1109,33.1184,33.1246, 33.1341,33.1439,33.1502,33.1587,33.1678 ,33.1726,33.1786,33.1876,33.1923, 33.1986,33.2072,33.2124,33.2179,33.2231 ,33.2322,33.2375,33.2409,33.2439, 33.2467,33.2483,33.251,33.2535,33.2559, 33.258,33.2598,33.2613,33.2627,33.264, 33.2653,33.2662,33.2676,33.2676,33.2684 ,33.269,33.2693,33.2694,33.2694,33.5321 ,33.9249,34.3621,34.8111,35.1343, 35.1541,35.161,35.1614,35.1611,35.1607, 35.1596,35.1699,35.1735,35.1769,35.1751 ,35.1741,35.1694,35.1618,35.1638, 35.1634,35.1645,35.1643,35.1678,35.1673 ,35.1665,35.1646,35.1624,35.1635, 35.1623,35.1629,35.1599,35.1602,35.1591 ,35.1588,35.157,35.157,35.1539,35.1567, 35.1507,35.1541,35.155,35.1534,35.1529, 35.1527,35.1514,35.1501,35.1481,35.1477 ,35.0444)
ORBIT_NUMBER = 23217
ORBITAL_ECCENTRICITY = 0.576
ORBITAL_INCLINATION = 87.01
ORBITAL_SEMIMAJOR_AXIS = 8780.59
PERIAPSIS_ALTITUDE = 341.02
PERIAPSIS_ARGUMENT_ANGLE = 302.06
PERIAPSIS_TIME = 2022-05-19T02:14:21.000Z
SPACECRAFT_ORIENTATION = (0.0,1.0,0.0)
^MEX_ORIENTATION_DESC = "MEX_ORIENTATION_DESC.TXT"
SPACECRAFT_POINTING_MODE = ACROSSTRACK
^MEX_POINTING_DESC = "MEX_POINTING_DESC.TXT"
RIGHT_ASCENSION = -1e+32
DECLINATION = -1e+32
OFFSET_ANGLE = -1.27
SPACECRAFT_SOLAR_DISTANCE = 2.07838e+08
TARGET_NAME = MARS
/* CAMERA DATA ELEMENTS */
DETECTOR_TEMPERATURE = 18.3705
FOCAL_PLANE_TEMPERATURE = 8.3794
INST_CMPRS_NAME = "DISCRETE COSINE TRANSFORMATION (DCT)"
INST_CMPRS_RATIO = 2.764
INST_CMPRS_QUALITY = 0
INST_CMPRS_QUANTZ_TBL_ID = 0
INSTRUMENT_TEMPERATURE = 11.0301
LENS_TEMPERATURE = 8.7872
MACROPIXEL_SIZE = 2
MISSING_FRAMES = 0
PIXEL_SUBSAMPLING_FLAG = N
SIGNAL_CHAIN_ID = 2
/* RADIOMETRIC DATA ELEMENTS */
BANDWIDTH = 76.0
CENTER_FILTER_WAVELENGTH = 444.0
RADIANCE_OFFSET = 0.823007
RADIANCE_SCALING_FACTOR = 0.00204989
REFLECTANCE_SCALING_FACTOR = 9.09776e-05
MEX:REFLECTANCE_OFFSET = 0.0365265
/* IMAGE OBJECT DEFINITIONS */
OBJECT = IMAGE
  INTERCHANGE_FORMAT = BINARY
  LINES = 23300
  LINE_SAMPLES = 3413
  SAMPLE_TYPE = UNSIGNED_INTEGER
  SAMPLE_BITS = 8
  BANDS = 1
  BAND_STORAGE_TYPE = BAND_SEQUENTIAL
  MAXIMUM = 252
  MEAN = 128.038
  MINIMUM = 2
  STANDARD_DEVIATION = 16.5834
END_OBJECT = IMAGE
/* MAP OBJECT DEFINITIONS */
OBJECT = IMAGE_MAP_PROJECTION
  ^DATA_SET_MAP_PROJECTION_CATALOG= "DSMAP.CAT"
  A_AXIS_RADIUS = 3396.0
  B_AXIS_RADIUS = 3396.0
  C_AXIS_RADIUS = 3396.0
  CENTER_LATITUDE = 0.0
  CENTER_LONGITUDE = 34.0
  COORDINATE_SYSTEM_NAME = PLANETOGRAPHIC
  COORDINATE_SYSTEM_TYPE = "BODY-FIXED ROTATING"
  EASTERNMOST_LONGITUDE = 35.1769
  FIRST_STANDARD_PARALLEL = "N/A"
  LINE_FIRST_PIXEL = 1
  LINE_LAST_PIXEL = 23300
  LINE_PROJECTION_OFFSET = -99180.75
  MAP_PROJECTION_ROTATION = 0.0
  MAP_PROJECTION_TYPE = SINUSOIDAL
  MAP_RESOLUTION = 2370.85521546667
  MAP_SCALE = 0.025
  MAXIMUM_LATITUDE = -41.8252
  MINIMUM_LATITUDE = -51.669
  POSITIVE_LONGITUDE_DIRECTION = EAST
  REFERENCE_LATITUDE = "N/A"
  REFERENCE_LONGITUDE = "N/A"
  SAMPLE_FIRST_PIXEL = 1
  SAMPLE_LAST_PIXEL = 3413
  SAMPLE_PROJECTION_OFFSET = 1353.25
  SECOND_STANDARD_PARALLEL = "N/A"
  WESTERNMOST_LONGITUDE = 33.0596
END_OBJECT = IMAGE_MAP_PROJECTION
END
