PDS_VERSION_ID = PDS3
/* FILE DATA ELEMENTS */
RECORD_TYPE = UNDEFINED
/* POINTERS TO DATA OBJECTS */
^IMAGE = ("HN216_0000_S14.TIF")
/* IDENTIFICATION DATA ELEMENTS */
DATA_SET_ID = "MEX-M-HRSC-4-REFDR-MAPPROJECT-EXT8-V4.0"
DATA_SET_NAME = "MARS EXPRESS HRSC MAP PROJECTED REFDR EXTENSION8 V4.0"
DETECTOR_ID = MEX_HRSC_S1
EVENT_TYPE = "MARS-REGIONAL-MAPPING-Te-Im-Fl"
INSTRUMENT_HOST_ID = MEX
INSTRUMENT_HOST_NAME = "MARS EXPRESS"
INSTRUMENT_ID = HRSC
INSTRUMENT_NAME = "HIGH RESOLUTION STEREO CAMERA"
MISSION_NAME = "MARS EXPRESS"
MISSION_PHASE_NAME = ME_Phase_46
PROCESSING_LEVEL_ID = 4
PRODUCT_CREATION_TIME = 2023-01-28T22:22:56.000Z
PRODUCT_ID = "HN216_0000_S14.TIF"
RELEASE_ID = 0004
REVISION_ID = 0000
/* QUALITY DATA ELEMENTS */
DATA_QUALITY_ID = 1
DATA_QUALITY_DESC = "Data calculated based on original SPICE kernels"
/* TIME DATA ELEMENTS */
SPACECRAFT_CLOCK_START_COUNT = "1/0600981254.24035"
SPACECRAFT_CLOCK_STOP_COUNT = "1/0600981567.38303"
START_TIME = 2022-05-18T19:15:51.076Z
STOP_TIME = 2022-05-18T19:20:00.296Z
/* ORBITAL DATA ELEMENTS */
ASCENDING_NODE_LONGITUDE = 141.37
MAXIMUM_RESOLUTION = 0.0288
FOOTPRINT_POINT_LATITUDE = (-57.7451,-57.7075,-57.6734,-57.6373, -57.6361,-57.7087,-57.403,-57.0998, -56.6447,-56.3419,-56.0386,-55.7328, -55.4237,-55.1176,-54.817,-54.3656, -53.9173,-53.4625,-53.1624,-52.8622, -52.5587,-52.2634,-51.9659,-51.5219, -51.0704,-50.7732,-50.3279,-50.0309, -49.7342,-49.4388,-49.1417,-48.8461, -48.2559,-47.8148,-47.5062,-47.1568, -46.8065,-46.4578,-45.9382,-45.5922, -45.2469,-44.9021,-44.5581,-44.2152, -43.8723,-43.3582,-43.0175,-42.6777, -42.1694,-42.001,-41.9791,-42.0168, -42.0381,-42.0555,-42.0563,-42.0571, -42.5638,-43.0759,-43.5871,-43.929, -44.2729,-44.6159,-44.9595,-45.4767, -45.998,-46.3436,-46.693,-47.0431, -47.3946,-47.7352,-48.3245,-48.6203, -49.0635,-49.3596,-49.8088,-50.1073, -50.6981,-50.998,-51.2979,-51.7468, -52.046,-52.3504,-52.6517,-52.9517, -53.3992,-53.6986,-54.151,-54.4527, -54.7527,-55.0548,-55.5144,-55.8215, -56.1198,-56.4228,-56.7274,-57.0324, -57.3418,-57.6493,-57.7997,-57.7451)
FOOTPRINT_POINT_LONGITUDE = (136.161,135.333,134.655,133.992, 133.971,133.975,134.006,134.037,134.081 ,134.109,134.136,134.162,134.187, 134.211,134.235,134.27,134.303,134.334, 134.354,134.373,134.391,134.409,134.427 ,134.452,134.475,134.49,134.512,134.525 ,134.538,134.551,134.563,134.574, 134.596,134.611,134.621,134.632,134.642 ,134.651,134.665,134.673,134.681, 134.688,134.695,134.701,134.706,134.714 ,134.718,134.722,134.728,134.729, 134.729,135.592,136.137,136.634,136.654 ,136.66,136.651,136.645,136.636,136.63, 136.625,136.618,136.611,136.601,136.593 ,136.585,136.579,136.574,136.569, 136.563,136.551,136.546,136.536,136.53, 136.524,136.519,136.499,136.494,136.487 ,136.476,136.467,136.464,136.456, 136.447,136.428,136.416,136.4,136.39, 136.376,136.364,136.353,136.346,136.327 ,136.313,136.301,136.288,136.281,136.27 ,136.26,136.161)
ORBIT_NUMBER = 23216
ORBITAL_ECCENTRICITY = 0.576
ORBITAL_INCLINATION = 87.01
ORBITAL_SEMIMAJOR_AXIS = 8781.39
PERIAPSIS_ALTITUDE = 341.1
PERIAPSIS_ARGUMENT_ANGLE = 302.23
PERIAPSIS_TIME = 2022-05-18T19:15:22.000Z
SPACECRAFT_ORIENTATION = (0.0,1.0,0.0)
^MEX_ORIENTATION_DESC = "MEX_ORIENTATION_DESC.TXT"
SPACECRAFT_POINTING_MODE = ACROSSTRACK
^MEX_POINTING_DESC = "MEX_POINTING_DESC.TXT"
RIGHT_ASCENSION = -1e+32
DECLINATION = -1e+32
OFFSET_ANGLE = -0.808
SPACECRAFT_SOLAR_DISTANCE = 2.07859e+08
TARGET_NAME = MARS
/* CAMERA DATA ELEMENTS */
DETECTOR_TEMPERATURE = 15.9237
FOCAL_PLANE_TEMPERATURE = 7.7677
INST_CMPRS_NAME = "DISCRETE COSINE TRANSFORMATION (DCT)"
INST_CMPRS_RATIO = 10.8327
INST_CMPRS_QUALITY = 0
INST_CMPRS_QUANTZ_TBL_ID = 0
INSTRUMENT_TEMPERATURE = 10.8262
LENS_TEMPERATURE = 8.7872
MACROPIXEL_SIZE = 2
MISSING_FRAMES = 0
PIXEL_SUBSAMPLING_FLAG = N
SIGNAL_CHAIN_ID = 1
/* RADIOMETRIC DATA ELEMENTS */
BANDWIDTH = 180.0
CENTER_FILTER_WAVELENGTH = 677.0
RADIANCE_OFFSET = 7.06744
RADIANCE_SCALING_FACTOR = 0.012232
REFLECTANCE_SCALING_FACTOR = 0.000275724
MEX:REFLECTANCE_OFFSET = 0.159309
/* IMAGE OBJECT DEFINITIONS */
OBJECT = IMAGE
  INTERCHANGE_FORMAT = BINARY
  LINES = 37450
  LINE_SAMPLES = 4143
  SAMPLE_TYPE = UNSIGNED_INTEGER
  SAMPLE_BITS = 8
  BANDS = 1
  BAND_STORAGE_TYPE = BAND_SEQUENTIAL
  MAXIMUM = 255
  MEAN = 124.117
  MINIMUM = 1
  STANDARD_DEVIATION = 48.9727
END_OBJECT = IMAGE
/* MAP OBJECT DEFINITIONS */
OBJECT = IMAGE_MAP_PROJECTION
  ^DATA_SET_MAP_PROJECTION_CATALOG= "DSMAP.CAT"
  A_AXIS_RADIUS = 3396.0
  B_AXIS_RADIUS = 3396.0
  C_AXIS_RADIUS = 3396.0
  CENTER_LATITUDE = 0.0
  CENTER_LONGITUDE = 135.0
  COORDINATE_SYSTEM_NAME = PLANETOGRAPHIC
  COORDINATE_SYSTEM_TYPE = "BODY-FIXED ROTATING"
  EASTERNMOST_LONGITUDE = 136.66
  FIRST_STANDARD_PARALLEL = "N/A"
  LINE_FIRST_PIXEL = 1
  LINE_LAST_PIXEL = 37450
  LINE_PROJECTION_OFFSET = -99626.25
  MAP_PROJECTION_ROTATION = 0.0
  MAP_PROJECTION_TYPE = SINUSOIDAL
  MAP_RESOLUTION = 2370.85521546667
  MAP_SCALE = 0.025
  MAXIMUM_LATITUDE = -41.9791
  MINIMUM_LATITUDE = -57.7997
  POSITIVE_LONGITUDE_DIRECTION = EAST
  REFERENCE_LATITUDE = "N/A"
  REFERENCE_LONGITUDE = "N/A"
  SAMPLE_FIRST_PIXEL = 1
  SAMPLE_LAST_PIXEL = 4143
  SAMPLE_PROJECTION_OFFSET = 1316.75
  SECOND_STANDARD_PARALLEL = "N/A"
  WESTERNMOST_LONGITUDE = 133.971
END_OBJECT = IMAGE_MAP_PROJECTION
END
