PDS_VERSION_ID = PDS3
/* FILE DATA ELEMENTS */
RECORD_TYPE = UNDEFINED
/* POINTERS TO DATA OBJECTS */
^IMAGE = ("HN214_0000_ND4.TIF")
/* IDENTIFICATION DATA ELEMENTS */
DATA_SET_ID = "MEX-M-HRSC-4-REFDR-MAPPROJECT-EXT8-V4.0"
DATA_SET_NAME = "MARS EXPRESS HRSC MAP PROJECTED REFDR EXTENSION8 V4.0"
DETECTOR_ID = MEX_HRSC_NADIR
EVENT_TYPE = "MARS-TERMINATOR-CALIBRATION-Tc"
INSTRUMENT_HOST_ID = MEX
INSTRUMENT_HOST_NAME = "MARS EXPRESS"
INSTRUMENT_ID = HRSC
INSTRUMENT_NAME = "HIGH RESOLUTION STEREO CAMERA"
MISSION_NAME = "MARS EXPRESS"
MISSION_PHASE_NAME = ME_Phase_46
PROCESSING_LEVEL_ID = 4
PRODUCT_CREATION_TIME = 2023-01-28T22:22:56.000Z
PRODUCT_ID = "HN214_0000_ND4.TIF"
RELEASE_ID = 0004
REVISION_ID = 0000
/* QUALITY DATA ELEMENTS */
DATA_QUALITY_ID = 1
DATA_QUALITY_DESC = "Data calculated based on original SPICE kernels"
/* TIME DATA ELEMENTS */
SPACECRAFT_CLOCK_START_COUNT = "1/0600926257.24893"
SPACECRAFT_CLOCK_STOP_COUNT = "1/0600926735.21155"
START_TIME = 2022-05-18T04:00:05.087Z
STOP_TIME = 2022-05-18T04:04:16.064Z
/* ORBITAL DATA ELEMENTS */
ASCENDING_NODE_LONGITUDE = 141.41
MAXIMUM_RESOLUTION = 0.5301
FOOTPRINT_POINT_LATITUDE = (-57.9117,-57.8989,-54.3267,-52.0656, -51.9256,-47.6694,-48.7255,-44.6739, -46.024,-43.2308,-42.9934,-38.5837, -40.5074,-38.2075,-39.4992,-39.2099, -37.1045,-37.9032,-35.7822,-34.8432, -31.6571,-32.5618,-30.0124,-30.739, -28.6838,-29.2265,-27.1931,-28.5756, -26.2443,-27.5307,-25.1856,-26.4499, -23.7573,-24.9522,-21.2128,-22.4523, -18.7852,-17.1692,-16.1326,-15.6705, -14.6286,-14.5642,-13.5371,-13.5951, -12.6446,-12.8648,-11.7755,-11.9927, -10.8323,-11.1588,-10.0766,-10.396, -9.45906,-9.99879,-8.91241,-9.46488, -8.43843,-7.85846,-7.05319,-7.4416, -6.59408,-6.4495,-5.73748,-3.19703, -0.508287,2.06487,2.57992,4.6882, 8.67554,10.7567,14.6939,16.9706,19.211, 23.3362,25.9519,26.0212,26.2503,24.6706 ,22.6916,21.2254,19.4312,16.1673, 11.7185,8.78533,4.72066,-2.16627, -5.11672,-8.09421,-12.7892,-17.0604, -22.7879,-26.9184,-31.4537,-35.6389, -40.8776,-44.1197,-48.3129,-56.641, -57.8046,-57.9117)
FOOTPRINT_POINT_LONGITUDE = (196.989,197.577,201.133,208.742, 217.078,217.854,223.554,222.114,226.72, 224.436,229.411,228.807,232.611,228.942 ,233.204,233.522,230.186,234.745, 231.329,236.128,234.303,238.025,235.302 ,239.022,235.989,239.651,236.856, 240.504,237.285,240.754,237.838,241.342 ,238.472,241.902,239.537,243.338, 240.423,244.533,241.174,244.972,241.454 ,245.26,241.683,245.171,241.798,245.705 ,241.707,245.672,241.311,245.622, 241.472,245.376,241.74,246.545,242.155, 246.809,242.58,246.887,243.438,247.361, 243.637,247.176,243.994,247.753,245.258 ,248.874,245.604,248.956,246.272, 249.091,246.588,249.343,246.667,249.455 ,247.099,247.978,249.28,238.775,232.747 ,229.146,225.554,221.102,215.952, 213.125,209.782,205.156,203.477,201.959 ,199.848,198.203,196.375,195.277, 194.387,193.833,193.512,193.57,194.033, 196.599,197.213,196.989)
ORBIT_NUMBER = 23214
ORBITAL_ECCENTRICITY = 0.576
ORBITAL_INCLINATION = 87.02
ORBITAL_SEMIMAJOR_AXIS = 8777.8
PERIAPSIS_ALTITUDE = 340.77
PERIAPSIS_ARGUMENT_ANGLE = 302.56
PERIAPSIS_TIME = 2022-05-18T05:17:22.000Z
SPACECRAFT_ORIENTATION = (0.0,1.0,0.0)
^MEX_ORIENTATION_DESC = "MEX_ORIENTATION_DESC.TXT"
SPACECRAFT_POINTING_MODE = FIXED
^MEX_POINTING_DESC = "MEX_POINTING_DESC.TXT"
RIGHT_ASCENSION = -1e+32
DECLINATION = -1e+32
OFFSET_ANGLE = -1e+32
SPACECRAFT_SOLAR_DISTANCE = 2.079e+08
TARGET_NAME = MARS
/* CAMERA DATA ELEMENTS */
DETECTOR_TEMPERATURE = 18.7783
FOCAL_PLANE_TEMPERATURE = 8.5833
INST_CMPRS_NAME = "DISCRETE COSINE TRANSFORMATION (DCT)"
INST_CMPRS_RATIO = 21.0539
INST_CMPRS_QUALITY = 0
INST_CMPRS_QUANTZ_TBL_ID = 0
INSTRUMENT_TEMPERATURE = 11.6418
LENS_TEMPERATURE = 8.7872
MACROPIXEL_SIZE = 2
MISSING_FRAMES = 0
PIXEL_SUBSAMPLING_FLAG = N
SIGNAL_CHAIN_ID = 0
/* RADIOMETRIC DATA ELEMENTS */
BANDWIDTH = 177.0
CENTER_FILTER_WAVELENGTH = 677.5
RADIANCE_OFFSET = 0.0
RADIANCE_SCALING_FACTOR = 0.0516689
REFLECTANCE_SCALING_FACTOR = 0.00118642
MEX:REFLECTANCE_OFFSET = 0.0
/* IMAGE OBJECT DEFINITIONS */
OBJECT = IMAGE
  INTERCHANGE_FORMAT = BINARY
  LINES = 11129
  LINE_SAMPLES = 7284
  SAMPLE_TYPE = UNSIGNED_INTEGER
  SAMPLE_BITS = 8
  BANDS = 1
  BAND_STORAGE_TYPE = BAND_SEQUENTIAL
  MAXIMUM = 255
  MEAN = 169.276
  MINIMUM = 1
  STANDARD_DEVIATION = 103.727
END_OBJECT = IMAGE
/* MAP OBJECT DEFINITIONS */
OBJECT = IMAGE_MAP_PROJECTION
  ^DATA_SET_MAP_PROJECTION_CATALOG= "DSMAP.CAT"
  A_AXIS_RADIUS = 3396.0
  B_AXIS_RADIUS = 3396.0
  C_AXIS_RADIUS = 3396.0
  CENTER_LATITUDE = -9.10469
  CENTER_LONGITUDE = 214.526
  COORDINATE_SYSTEM_NAME = PLANETOGRAPHIC
  COORDINATE_SYSTEM_TYPE = "BODY-FIXED ROTATING"
  EASTERNMOST_LONGITUDE = 249.455
  FIRST_STANDARD_PARALLEL = "N/A"
  LINE_FIRST_PIXEL = 1
  LINE_LAST_PIXEL = 11129
  LINE_PROJECTION_OFFSET = 4706.0
  MAP_PROJECTION_ROTATION = 0.0
  MAP_PROJECTION_TYPE = ORTHOGRAPHIC
  MAP_RESOLUTION = 148.178450966667
  MAP_SCALE = 0.4
  MAXIMUM_LATITUDE = 26.2503
  MINIMUM_LATITUDE = -57.9117
  POSITIVE_LONGITUDE_DIRECTION = EAST
  REFERENCE_LATITUDE = "N/A"
  REFERENCE_LONGITUDE = "N/A"
  SAMPLE_FIRST_PIXEL = 1
  SAMPLE_LAST_PIXEL = 7284
  SAMPLE_PROJECTION_OFFSET = 2506.0
  SECOND_STANDARD_PARALLEL = "N/A"
  WESTERNMOST_LONGITUDE = 193.512
END_OBJECT = IMAGE_MAP_PROJECTION
END
