PDS_VERSION_ID = PDS3
/* FILE DATA ELEMENTS */
RECORD_TYPE = UNDEFINED
/* POINTERS TO DATA OBJECTS */
^IMAGE = ("HN214_0000_GR4.TIF")
/* IDENTIFICATION DATA ELEMENTS */
DATA_SET_ID = "MEX-M-HRSC-4-REFDR-MAPPROJECT-EXT8-V4.0"
DATA_SET_NAME = "MARS EXPRESS HRSC MAP PROJECTED REFDR EXTENSION8 V4.0"
DETECTOR_ID = MEX_HRSC_GREEN
EVENT_TYPE = "MARS-TERMINATOR-CALIBRATION-Tc"
INSTRUMENT_HOST_ID = MEX
INSTRUMENT_HOST_NAME = "MARS EXPRESS"
INSTRUMENT_ID = HRSC
INSTRUMENT_NAME = "HIGH RESOLUTION STEREO CAMERA"
MISSION_NAME = "MARS EXPRESS"
MISSION_PHASE_NAME = ME_Phase_46
PROCESSING_LEVEL_ID = 4
PRODUCT_CREATION_TIME = 2023-01-28T22:22:56.000Z
PRODUCT_ID = "HN214_0000_GR4.TIF"
RELEASE_ID = 0004
REVISION_ID = 0000
/* QUALITY DATA ELEMENTS */
DATA_QUALITY_ID = 1
DATA_QUALITY_DESC = "Data calculated based on original SPICE kernels"
/* TIME DATA ELEMENTS */
SPACECRAFT_CLOCK_START_COUNT = "1/0600926257.24893"
SPACECRAFT_CLOCK_STOP_COUNT = "1/0600926735.21155"
START_TIME = 2022-05-18T03:59:41.048Z
STOP_TIME = 2022-05-18T04:03:52.102Z
/* ORBITAL DATA ELEMENTS */
ASCENDING_NODE_LONGITUDE = 141.41
MAXIMUM_RESOLUTION = 0.5313
FOOTPRINT_POINT_LATITUDE = (-58.0246,-56.7824,-56.6837,-53.1339, -55.6743,-51.1692,-52.2818,-48.719, -50.7584,-46.9621,-47.6812,-43.1173, -43.3161,-38.5858,-40.6606,-38.303, -38.9184,-36.8127,-38.3299,-36.153, -36.2239,-33.4907,-32.6945,-34.2816, -32.1893,-33.2312,-31.1407,-32.0877, -30.0711,-28.4949,-25.3869,-25.1871, -21.9272,-23.0856,-19.0846,-17.9147, -16.8348,-15.7685,-15.3946,-14.3672, -14.3861,-13.3224,-13.4294,-12.4561, -12.6308,-11.5467,-11.8397,-10.6335, -11.0811,-9.91889,-10.4256,-9.31377, -9.8466,-8.79428,-9.1898,-8.31975, -8.73817,-7.89656,-8.1848,-7.40679, -7.18478,-4.02001,-4.30344,-1.77773, 1.58551,2.95927,2.77275,4.3754,4.17008, 5.99489,5.83233,6.51527,9.62605,13.7279 ,18.993,26.2168,26.2873,26.428,25.7748, 24.9941,23.4317,20.9106,17.8644,14.5982 ,11.8599,7.71999,0.932005,-5.37547, -9.42289,-13.135,-16.8836,-23.0579, -29.5856,-35.038,-39.8185,-46.863, -51.9257,-56.6795,-58.2813,-58.0246)
FOOTPRINT_POINT_LONGITUDE = (196.593,196.536,202.99,203.6,208.15, 211.254,216.522,215.914,220.255,218.746 ,224.614,224.203,229.15,228.72,232.779, 229.024,233.715,230.391,234.421,230.971 ,235.321,232.934,233.641,237.269, 233.901,237.766,234.485,238.298,235.217 ,239.926,237.755,241.64,239.265,242.7, 244.37,240.777,244.737,241.299,244.982, 241.553,245.503,241.828,245.332,241.915 ,245.456,241.552,245.913,241.424, 246.035,241.612,246.266,241.941,246.499 ,242.325,246.059,242.601,246.517, 243.104,246.523,243.33,246.671,244.491, 247.887,244.956,248.602,245.548,248.766 ,245.954,249.33,245.944,249.305,246.122 ,249.573,246.825,249.422,247.56,248.567 ,248.375,242.894,239.18,234.114,227.983 ,222.907,218.837,215.83,211.945,206.883 ,203.127,201.122,199.507,198.055, 196.066,194.512,193.624,193.266,193.469 ,194.441,196.19,197.033,196.593)
ORBIT_NUMBER = 23214
ORBITAL_ECCENTRICITY = 0.576
ORBITAL_INCLINATION = 87.02
ORBITAL_SEMIMAJOR_AXIS = 8777.8
PERIAPSIS_ALTITUDE = 340.77
PERIAPSIS_ARGUMENT_ANGLE = 302.56
PERIAPSIS_TIME = 2022-05-18T05:17:22.000Z
SPACECRAFT_ORIENTATION = (0.0,1.0,0.0)
^MEX_ORIENTATION_DESC = "MEX_ORIENTATION_DESC.TXT"
SPACECRAFT_POINTING_MODE = FIXED
^MEX_POINTING_DESC = "MEX_POINTING_DESC.TXT"
RIGHT_ASCENSION = -1e+32
DECLINATION = -1e+32
OFFSET_ANGLE = -1e+32
SPACECRAFT_SOLAR_DISTANCE = 2.079e+08
TARGET_NAME = MARS
/* CAMERA DATA ELEMENTS */
DETECTOR_TEMPERATURE = 18.7783
FOCAL_PLANE_TEMPERATURE = 8.5833
INST_CMPRS_NAME = "DISCRETE COSINE TRANSFORMATION (DCT)"
INST_CMPRS_RATIO = 10.173
INST_CMPRS_QUALITY = 0
INST_CMPRS_QUANTZ_TBL_ID = 0
INSTRUMENT_TEMPERATURE = 11.6418
LENS_TEMPERATURE = 8.7872
MACROPIXEL_SIZE = 2
MISSING_FRAMES = 1
PIXEL_SUBSAMPLING_FLAG = N
SIGNAL_CHAIN_ID = 2
/* RADIOMETRIC DATA ELEMENTS */
BANDWIDTH = 88.0
CENTER_FILTER_WAVELENGTH = 538.0
RADIANCE_OFFSET = 0.0
RADIANCE_SCALING_FACTOR = 0.00999738
REFLECTANCE_SCALING_FACTOR = 0.000372051
MEX:REFLECTANCE_OFFSET = 0.0
/* IMAGE OBJECT DEFINITIONS */
OBJECT = IMAGE
  INTERCHANGE_FORMAT = BINARY
  LINES = 11129
  LINE_SAMPLES = 7284
  SAMPLE_TYPE = UNSIGNED_INTEGER
  SAMPLE_BITS = 8
  BANDS = 1
  BAND_STORAGE_TYPE = BAND_SEQUENTIAL
  MAXIMUM = 255
  MEAN = 201.026
  MINIMUM = 1
  STANDARD_DEVIATION = 89.8742
END_OBJECT = IMAGE
/* MAP OBJECT DEFINITIONS */
OBJECT = IMAGE_MAP_PROJECTION
  ^DATA_SET_MAP_PROJECTION_CATALOG= "DSMAP.CAT"
  A_AXIS_RADIUS = 3396.0
  B_AXIS_RADIUS = 3396.0
  C_AXIS_RADIUS = 3396.0
  CENTER_LATITUDE = -9.10469
  CENTER_LONGITUDE = 214.526
  COORDINATE_SYSTEM_NAME = PLANETOGRAPHIC
  COORDINATE_SYSTEM_TYPE = "BODY-FIXED ROTATING"
  EASTERNMOST_LONGITUDE = 249.573
  FIRST_STANDARD_PARALLEL = "N/A"
  LINE_FIRST_PIXEL = 1
  LINE_LAST_PIXEL = 11129
  LINE_PROJECTION_OFFSET = 4706.0
  MAP_PROJECTION_ROTATION = 0.0
  MAP_PROJECTION_TYPE = ORTHOGRAPHIC
  MAP_RESOLUTION = 148.178450966667
  MAP_SCALE = 0.4
  MAXIMUM_LATITUDE = 26.428
  MINIMUM_LATITUDE = -58.2813
  POSITIVE_LONGITUDE_DIRECTION = EAST
  REFERENCE_LATITUDE = "N/A"
  REFERENCE_LONGITUDE = "N/A"
  SAMPLE_FIRST_PIXEL = 1
  SAMPLE_LAST_PIXEL = 7284
  SAMPLE_PROJECTION_OFFSET = 2506.0
  SECOND_STANDARD_PARALLEL = "N/A"
  WESTERNMOST_LONGITUDE = 193.266
END_OBJECT = IMAGE_MAP_PROJECTION
END
