PDS_VERSION_ID = PDS3
/* FILE DATA ELEMENTS */
RECORD_TYPE = UNDEFINED
/* POINTERS TO DATA OBJECTS */
^IMAGE = ("HN209_0000_S24.TIF")
/* IDENTIFICATION DATA ELEMENTS */
DATA_SET_ID = "MEX-M-HRSC-4-REFDR-MAPPROJECT-EXT8-V4.0"
DATA_SET_NAME = "MARS EXPRESS HRSC MAP PROJECTED REFDR EXTENSION8 V4.0"
DETECTOR_ID = MEX_HRSC_S2
EVENT_TYPE = "MARS-REGIONAL-MAPPING-Te-Im-Fl"
INSTRUMENT_HOST_ID = MEX
INSTRUMENT_HOST_NAME = "MARS EXPRESS"
INSTRUMENT_ID = HRSC
INSTRUMENT_NAME = "HIGH RESOLUTION STEREO CAMERA"
MISSION_NAME = "MARS EXPRESS"
MISSION_PHASE_NAME = ME_Phase_46
PROCESSING_LEVEL_ID = 4
PRODUCT_CREATION_TIME = 2023-01-28T22:22:56.000Z
PRODUCT_ID = "HN209_0000_S24.TIF"
RELEASE_ID = 0004
REVISION_ID = 0000
/* QUALITY DATA ELEMENTS */
DATA_QUALITY_ID = 1
DATA_QUALITY_DESC = "Data calculated based on original SPICE kernels"
/* TIME DATA ELEMENTS */
SPACECRAFT_CLOCK_START_COUNT = "1/0600805329.24885"
SPACECRAFT_CLOCK_STOP_COUNT = "1/0600805611.33960"
START_TIME = 2022-05-16T18:22:44.054Z
STOP_TIME = 2022-05-16T18:26:10.775Z
/* ORBITAL DATA ELEMENTS */
ASCENDING_NODE_LONGITUDE = 141.49
MAXIMUM_RESOLUTION = 0.0289
FOOTPRINT_POINT_LATITUDE = (-53.4028,-53.422,-53.4332,-53.4401, -53.4402,-53.3666,-52.9695,-52.7078, -52.4467,-52.0606,-51.6666,-51.4035, -51.0098,-50.7481,-50.351,-49.8258, -49.56,-49.2947,-49.0328,-48.7681, -48.4991,-48.2296,-47.7131,-47.4499, -47.1849,-46.914,-46.5214,-46.2567, -45.8572,-45.46,-45.1947,-44.7982, -44.5331,-44.2669,-44.0013,-43.7362, -43.472,-43.2057,-42.9402,-42.6758, -42.4097,-41.9534,-41.6372,-41.3212, -40.8469,-40.5319,-40.2155,-39.9001, -39.7403,-39.7392,-39.7012,-39.6729, -39.6722,-39.6724,-40.1485,-40.4663, -40.7831,-41.2584,-41.5761,-42.0511, -42.3435,-42.6171,-42.8824,-43.1484, -43.5478,-43.8098,-44.074,-44.3402, -44.6059,-44.8736,-45.1401,-45.4046, -45.8016,-46.0673,-46.3328,-46.5975, -46.8626,-47.1279,-47.3939,-47.79, -48.1876,-48.4526,-48.7161,-48.9822, -49.2452,-49.509,-49.773,-50.0376, -50.4327,-50.6971,-50.963,-51.226, -51.6203,-52.0158,-52.279,-52.6733, -52.9364,-53.2,-53.3319,-53.4028)
FOOTPRINT_POINT_LONGITUDE = (131.376,130.622,130.004,129.4,129.382, 129.402,129.43,129.447,129.463,129.484, 129.507,129.522,129.543,129.556,129.576 ,129.6,129.613,129.625,129.636,129.647, 129.658,129.67,129.686,129.695,129.703, 129.714,129.724,129.732,129.744,129.754 ,129.761,129.77,129.775,129.781,129.787 ,129.792,129.796,129.801,129.805, 129.809,129.813,129.819,129.822,129.826 ,129.83,129.832,129.835,129.836,129.837 ,129.837,130.956,131.589,131.606, 131.613,131.61,131.607,131.606,131.604, 131.601,131.599,131.602,131.593,131.592 ,131.59,131.586,131.588,131.587,131.584 ,131.582,131.578,131.575,131.573, 131.571,131.568,131.565,131.563,131.561 ,131.558,131.554,131.551,131.546, 131.543,131.541,131.536,131.534,131.532 ,131.528,131.524,131.52,131.515,131.509 ,131.506,131.501,131.493,131.489, 131.482,131.477,131.47,131.467,131.376)
ORBIT_NUMBER = 23209
ORBITAL_ECCENTRICITY = 0.576
ORBITAL_INCLINATION = 87.01
ORBITAL_SEMIMAJOR_AXIS = 8783.33
PERIAPSIS_ALTITUDE = 340.97
PERIAPSIS_ARGUMENT_ANGLE = 303.41
PERIAPSIS_TIME = 2022-05-16T18:22:27.000Z
SPACECRAFT_ORIENTATION = (0.0,1.0,0.0)
^MEX_ORIENTATION_DESC = "MEX_ORIENTATION_DESC.TXT"
SPACECRAFT_POINTING_MODE = ACROSSTRACK
^MEX_POINTING_DESC = "MEX_POINTING_DESC.TXT"
RIGHT_ASCENSION = -1e+32
DECLINATION = -1e+32
OFFSET_ANGLE = -0.903
SPACECRAFT_SOLAR_DISTANCE = 2.08008e+08
TARGET_NAME = MARS
/* CAMERA DATA ELEMENTS */
DETECTOR_TEMPERATURE = 18.5744
FOCAL_PLANE_TEMPERATURE = 8.9911
INST_CMPRS_NAME = "DISCRETE COSINE TRANSFORMATION (DCT)"
INST_CMPRS_RATIO = 13.3933
INST_CMPRS_QUALITY = 0
INST_CMPRS_QUANTZ_TBL_ID = 0
INSTRUMENT_TEMPERATURE = 11.4379
LENS_TEMPERATURE = 9.6028
MACROPIXEL_SIZE = 2
MISSING_FRAMES = 0
PIXEL_SUBSAMPLING_FLAG = N
SIGNAL_CHAIN_ID = 1
/* RADIOMETRIC DATA ELEMENTS */
BANDWIDTH = 178.0
CENTER_FILTER_WAVELENGTH = 679.0
RADIANCE_OFFSET = 7.08379
RADIANCE_SCALING_FACTOR = 0.0124218
REFLECTANCE_SCALING_FACTOR = 0.000284624
MEX:REFLECTANCE_OFFSET = 0.162313
/* IMAGE OBJECT DEFINITIONS */
OBJECT = IMAGE
  INTERCHANGE_FORMAT = BINARY
  LINES = 32393
  LINE_SAMPLES = 3412
  SAMPLE_TYPE = UNSIGNED_INTEGER
  SAMPLE_BITS = 8
  BANDS = 1
  BAND_STORAGE_TYPE = BAND_SEQUENTIAL
  MAXIMUM = 255
  MEAN = 130.938
  MINIMUM = 1
  STANDARD_DEVIATION = 44.9262
END_OBJECT = IMAGE
/* MAP OBJECT DEFINITIONS */
OBJECT = IMAGE_MAP_PROJECTION
  ^DATA_SET_MAP_PROJECTION_CATALOG= "DSMAP.CAT"
  A_AXIS_RADIUS = 3396.0
  B_AXIS_RADIUS = 3396.0
  C_AXIS_RADIUS = 3396.0
  CENTER_LATITUDE = 0.0
  CENTER_LONGITUDE = 131.0
  COORDINATE_SYSTEM_NAME = PLANETOGRAPHIC
  COORDINATE_SYSTEM_TYPE = "BODY-FIXED ROTATING"
  EASTERNMOST_LONGITUDE = 131.613
  FIRST_STANDARD_PARALLEL = "N/A"
  LINE_FIRST_PIXEL = 1
  LINE_LAST_PIXEL = 32393
  LINE_PROJECTION_OFFSET = -94120.75
  MAP_PROJECTION_ROTATION = 0.0
  MAP_PROJECTION_TYPE = SINUSOIDAL
  MAP_RESOLUTION = 2370.85521546667
  MAP_SCALE = 0.025
  MAXIMUM_LATITUDE = -39.6722
  MINIMUM_LATITUDE = -53.4402
  POSITIVE_LONGITUDE_DIRECTION = EAST
  REFERENCE_LATITUDE = "N/A"
  REFERENCE_LONGITUDE = "N/A"
  SAMPLE_FIRST_PIXEL = 1
  SAMPLE_LAST_PIXEL = 3412
  SAMPLE_PROJECTION_OFFSET = 2275.75
  SECOND_STANDARD_PARALLEL = "N/A"
  WESTERNMOST_LONGITUDE = 129.382
END_OBJECT = IMAGE_MAP_PROJECTION
END
