PDS_VERSION_ID = PDS3
/* FILE DATA ELEMENTS */
RECORD_TYPE = UNDEFINED
/* POINTERS TO DATA OBJECTS */
^IMAGE = ("HN207_0000_IR4.TIF")
/* IDENTIFICATION DATA ELEMENTS */
DATA_SET_ID = "MEX-M-HRSC-4-REFDR-MAPPROJECT-EXT8-V4.0"
DATA_SET_NAME = "MARS EXPRESS HRSC MAP PROJECTED REFDR EXTENSION8 V4.0"
DETECTOR_ID = MEX_HRSC_IR
EVENT_TYPE = "MARS-TERMINATOR-CALIBRATION-Tc"
INSTRUMENT_HOST_ID = MEX
INSTRUMENT_HOST_NAME = "MARS EXPRESS"
INSTRUMENT_ID = HRSC
INSTRUMENT_NAME = "HIGH RESOLUTION STEREO CAMERA"
MISSION_NAME = "MARS EXPRESS"
MISSION_PHASE_NAME = ME_Phase_46
PROCESSING_LEVEL_ID = 4
PRODUCT_CREATION_TIME = 2023-01-28T22:22:56.000Z
PRODUCT_ID = "HN207_0000_IR4.TIF"
RELEASE_ID = 0004
REVISION_ID = 0000
/* QUALITY DATA ELEMENTS */
DATA_QUALITY_ID = 1
DATA_QUALITY_DESC = "Data calculated based on original SPICE kernels"
/* TIME DATA ELEMENTS */
SPACECRAFT_CLOCK_START_COUNT = "1/0600748982.23967"
SPACECRAFT_CLOCK_STOP_COUNT = "1/0600749417.23724"
START_TIME = 2022-05-16T02:43:37.071Z
STOP_TIME = 2022-05-16T02:47:03.062Z
/* ORBITAL DATA ELEMENTS */
ASCENDING_NODE_LONGITUDE = 141.53
MAXIMUM_RESOLUTION = 0.6604
FOOTPRINT_POINT_LATITUDE = (-39.9172,-38.5636,-34.6035,-35.3376, -32.0826,-32.3913,-28.8391,-28.563, -25.2549,-25.2252,-20.2348,-18.7787, -15.2435,-14.6634,-12.6309,-14.2041, -11.9018,-13.6161,-11.1265,-12.9176, -10.6478,-12.7175,-10.1922,-12.3176, -9.63064,-11.3656,-9.06734,-10.7403, -8.50626,-9.99354,-7.85883,-9.36675, -7.1519,-8.74592,-6.31731,-7.94991, -5.26396,-6.6546,-4.00586,-5.29072, -1.08728,3.27064,3.96653,5.24578,5.4683 ,6.64043,6.33256,7.70308,6.59109, 7.76852,7.63179,8.73076,8.48496,10.3844 ,10.003,11.1253,11.4517,14.7961,14.8849 ,16.3306,15.8266,16.8126,16.2589, 18.1946,17.6161,18.6218,20.6252,23.2421 ,25.3572,29.174,30.645,32.8885,34.838, 38.6252,40.4994,45.3629,45.2115,45.3939 ,45.4727,43.912,41.5047,37.223,34.1757, 28.9717,25.7884,21.1545,13.9713,8.80171 ,4.64012,-1.14782,-6.06032,-9.42581, -12.9853,-17.8896,-21.9871,-27.7955, -32.2394,-38.3387,-39.1891,-39.9172)
FOOTPRINT_POINT_LONGITUDE = (222.158,221.141,224.477,228.716, 226.794,231.633,230.581,234.861,233.402 ,237.606,237.046,241.659,239.471, 243.667,240.711,243.973,240.554,244.113 ,240.299,244.026,240.524,244.858, 240.886,245.383,241.221,244.951,241.647 ,245.296,242.272,245.581,242.92,246.331 ,243.448,247.106,244.004,247.817, 244.594,247.928,245.247,248.414,247.269 ,248.174,252.376,248.86,252.579,249.275 ,253.317,249.341,252.95,249.687,253.154 ,249.925,253.518,250.419,254.141, 250.661,254.259,251.649,255.286,252.07, 255.793,252.329,256.114,252.52,256.537, 252.841,256.729,253.977,258.528,255.258 ,259.422,256.218,259.765,257.275, 261.219,260.01,261.961,261.922,251.956, 242.381,235.349,227.614,223.825,218.99, 216.765,214.201,211.434,210.097,209.361 ,208.791,208.682,208.83,209.185,210.045 ,211.129,213.367,215.801,220.623, 221.493,222.158)
ORBIT_NUMBER = 23207
ORBITAL_ECCENTRICITY = 0.576
ORBITAL_INCLINATION = 87.02
ORBITAL_SEMIMAJOR_AXIS = 8779.22
PERIAPSIS_ALTITUDE = 340.85
PERIAPSIS_ARGUMENT_ANGLE = 303.75
PERIAPSIS_TIME = 2022-05-16T04:24:28.000Z
SPACECRAFT_ORIENTATION = (0.0,1.0,0.0)
^MEX_ORIENTATION_DESC = "MEX_ORIENTATION_DESC.TXT"
SPACECRAFT_POINTING_MODE = FIXED
^MEX_POINTING_DESC = "MEX_POINTING_DESC.TXT"
RIGHT_ASCENSION = -1e+32
DECLINATION = -1e+32
OFFSET_ANGLE = -1e+32
SPACECRAFT_SOLAR_DISTANCE = 2.08052e+08
TARGET_NAME = MARS
/* CAMERA DATA ELEMENTS */
DETECTOR_TEMPERATURE = 17.351
FOCAL_PLANE_TEMPERATURE = 8.5833
INST_CMPRS_NAME = "DISCRETE COSINE TRANSFORMATION (DCT)"
INST_CMPRS_RATIO = 4.84131
INST_CMPRS_QUALITY = 0
INST_CMPRS_QUANTZ_TBL_ID = 0
INSTRUMENT_TEMPERATURE = 11.0301
LENS_TEMPERATURE = 8.7872
MACROPIXEL_SIZE = 2
MISSING_FRAMES = 0
PIXEL_SUBSAMPLING_FLAG = N
SIGNAL_CHAIN_ID = 1
/* RADIOMETRIC DATA ELEMENTS */
BANDWIDTH = 81.0
CENTER_FILTER_WAVELENGTH = 955.5
RADIANCE_OFFSET = 0.0
RADIANCE_SCALING_FACTOR = 0.00575964
REFLECTANCE_SCALING_FACTOR = 0.000537885
MEX:REFLECTANCE_OFFSET = 0.0
/* IMAGE OBJECT DEFINITIONS */
OBJECT = IMAGE
  INTERCHANGE_FORMAT = BINARY
  LINES = 5927
  LINE_SAMPLES = 3245
  SAMPLE_TYPE = UNSIGNED_INTEGER
  SAMPLE_BITS = 8
  BANDS = 1
  BAND_STORAGE_TYPE = BAND_SEQUENTIAL
  MAXIMUM = 255
  MEAN = 207.831
  MINIMUM = 1
  STANDARD_DEVIATION = 86.5945
END_OBJECT = IMAGE
/* MAP OBJECT DEFINITIONS */
OBJECT = IMAGE_MAP_PROJECTION
  ^DATA_SET_MAP_PROJECTION_CATALOG= "DSMAP.CAT"
  A_AXIS_RADIUS = 3396.0
  B_AXIS_RADIUS = 3396.0
  C_AXIS_RADIUS = 3396.0
  CENTER_LATITUDE = 9.77655
  CENTER_LONGITUDE = 221.745
  COORDINATE_SYSTEM_NAME = PLANETOGRAPHIC
  COORDINATE_SYSTEM_TYPE = "BODY-FIXED ROTATING"
  EASTERNMOST_LONGITUDE = 261.961
  FIRST_STANDARD_PARALLEL = "N/A"
  LINE_FIRST_PIXEL = 1
  LINE_LAST_PIXEL = 5927
  LINE_PROJECTION_OFFSET = 2644.0
  MAP_PROJECTION_ROTATION = 0.0
  MAP_PROJECTION_TYPE = ORTHOGRAPHIC
  MAP_RESOLUTION = 74.08922548333329
  MAP_SCALE = 0.8
  MAXIMUM_LATITUDE = 45.4727
  MINIMUM_LATITUDE = -39.9172
  POSITIVE_LONGITUDE_DIRECTION = EAST
  REFERENCE_LATITUDE = "N/A"
  REFERENCE_LONGITUDE = "N/A"
  SAMPLE_FIRST_PIXEL = 1
  SAMPLE_LAST_PIXEL = 3245
  SAMPLE_PROJECTION_OFFSET = 1029.0
  SECOND_STANDARD_PARALLEL = "N/A"
  WESTERNMOST_LONGITUDE = 208.682
END_OBJECT = IMAGE_MAP_PROJECTION
END
