PDS_VERSION_ID = PDS3
/* FILE DATA ELEMENTS */
RECORD_TYPE = UNDEFINED
/* POINTERS TO DATA OBJECTS */
^IMAGE = ("HN191_0000_ND4.TIF")
/* IDENTIFICATION DATA ELEMENTS */
DATA_SET_ID = "MEX-M-HRSC-4-REFDR-MAPPROJECT-EXT8-V4.0"
DATA_SET_NAME = "MARS EXPRESS HRSC MAP PROJECTED REFDR EXTENSION8 V4.0"
DETECTOR_ID = MEX_HRSC_NADIR
EVENT_TYPE = "MARS-REGIONAL-MAPPING-Im-Eo"
INSTRUMENT_HOST_ID = MEX
INSTRUMENT_HOST_NAME = "MARS EXPRESS"
INSTRUMENT_ID = HRSC
INSTRUMENT_NAME = "HIGH RESOLUTION STEREO CAMERA"
MISSION_NAME = "MARS EXPRESS"
MISSION_PHASE_NAME = ME_Phase_46
PROCESSING_LEVEL_ID = 4
PRODUCT_CREATION_TIME = 2023-01-28T22:22:56.000Z
PRODUCT_ID = "HN191_0000_ND4.TIF"
RELEASE_ID = 0004
REVISION_ID = 0000
/* QUALITY DATA ELEMENTS */
DATA_QUALITY_ID = 1
DATA_QUALITY_DESC = "Data calculated based on original SPICE kernels"
/* TIME DATA ELEMENTS */
SPACECRAFT_CLOCK_START_COUNT = "1/0600352595.25670"
SPACECRAFT_CLOCK_STOP_COUNT = "1/0600352859.32138"
START_TIME = 2022-05-11T12:37:46.752Z
STOP_TIME = 2022-05-11T12:41:00.767Z
/* ORBITAL DATA ELEMENTS */
ASCENDING_NODE_LONGITUDE = 141.81
MAXIMUM_RESOLUTION = 0.0137
FOOTPRINT_POINT_LATITUDE = (-65.9725,-65.957,-65.9362,-65.9095, -65.9086,-65.9082,-65.6244,-65.3404, -65.056,-64.7714,-64.4866,-64.2015, -63.9162,-63.6307,-63.3449,-63.0589, -62.6513,-62.1711,-61.6903,-61.2091, -60.7273,-60.2451,-59.7624,-59.5209, -59.2794,-59.0377,-58.7959,-58.5541, -58.3121,-58.0701,-57.828,-57.5858, -57.3436,-57.1013,-56.8589,-56.6165, -56.374,-56.1315,-55.8889,-55.6463, -55.4036,-55.1609,-54.9181,-54.5539, -54.1897,-53.9468,-53.7039,-53.461, -53.3396,-53.3245,-53.3361,-53.3419, -53.3447,-53.3448,-53.345,-53.7102, -54.0753,-54.4404,-54.6838,-54.9272, -55.1705,-55.4138,-55.6571,-55.9004, -56.1436,-56.3867,-56.6299,-56.8729, -57.116,-57.359,-57.6019,-57.8447, -58.0875,-58.3303,-58.5729,-58.8155, -59.1793,-59.4217,-59.664,-59.9062, -60.1484,-60.3905,-60.6324,-60.8743, -61.3577,-61.8407,-62.3233,-62.8053, -63.2349,-63.5221,-63.8091,-64.0959, -64.3824,-64.6688,-64.955,-65.2409, -65.5266,-65.8121,-65.9548,-65.9725)
FOOTPRINT_POINT_LONGITUDE = (170.015,168.815,167.787,166.793, 166.763,166.812,166.869,166.924,166.977 ,167.029,167.086,167.136,167.185, 167.231,167.277,167.321,167.381,167.448 ,167.51,167.571,167.633,167.687,167.74, 167.766,167.791,167.815,167.838,167.861 ,167.886,167.909,167.928,167.952, 167.973,167.992,168.009,168.027,168.046 ,168.065,168.081,168.099,168.115, 168.132,168.147,168.169,168.191,168.205 ,168.218,168.232,168.238,168.239, 169.006,169.612,170.328,170.35,170.361, 170.359,170.357,170.354,170.353,170.352 ,170.35,170.348,170.348,170.346,170.344 ,170.344,170.343,170.343,170.338, 170.338,170.338,170.34,170.336,170.334, 170.334,170.335,170.33,170.326,170.324, 170.322,170.319,170.313,170.309,170.305 ,170.312,170.302,170.281,170.287, 170.281,170.276,170.27,170.26,170.249, 170.243,170.237,170.233,170.225,170.227 ,170.224,170.015)
ORBIT_NUMBER = 23191
ORBITAL_ECCENTRICITY = 0.576
ORBITAL_INCLINATION = 87.02
ORBITAL_SEMIMAJOR_AXIS = 8785.12
PERIAPSIS_ALTITUDE = 341.76
PERIAPSIS_ARGUMENT_ANGLE = 306.49
PERIAPSIS_TIME = 2022-05-11T12:41:00.000Z
SPACECRAFT_ORIENTATION = (0.0,1.0,0.0)
^MEX_ORIENTATION_DESC = "MEX_ORIENTATION_DESC.TXT"
SPACECRAFT_POINTING_MODE = ACROSSTRACK
^MEX_POINTING_DESC = "MEX_POINTING_DESC.TXT"
RIGHT_ASCENSION = -1e+32
DECLINATION = -1e+32
OFFSET_ANGLE = -1.3
SPACECRAFT_SOLAR_DISTANCE = 2.08429e+08
TARGET_NAME = MARS
/* CAMERA DATA ELEMENTS */
DETECTOR_TEMPERATURE = 17.9627
FOCAL_PLANE_TEMPERATURE = 7.9716
INST_CMPRS_NAME = "DISCRETE COSINE TRANSFORMATION (DCT)"
INST_CMPRS_RATIO = 6.48619
INST_CMPRS_QUALITY = 0
INST_CMPRS_QUANTZ_TBL_ID = 0
INSTRUMENT_TEMPERATURE = 11.4379
LENS_TEMPERATURE = 7.156
MACROPIXEL_SIZE = 1
MISSING_FRAMES = 0
PIXEL_SUBSAMPLING_FLAG = N
SIGNAL_CHAIN_ID = 0
/* RADIOMETRIC DATA ELEMENTS */
BANDWIDTH = 177.0
CENTER_FILTER_WAVELENGTH = 677.5
RADIANCE_OFFSET = 5.3475
RADIANCE_SCALING_FACTOR = 0.00953209
REFLECTANCE_SCALING_FACTOR = 0.000219983
MEX:REFLECTANCE_OFFSET = 0.123411
/* IMAGE OBJECT DEFINITIONS */
OBJECT = IMAGE
  INTERCHANGE_FORMAT = BINARY
  LINES = 59973
  LINE_SAMPLES = 8086
  SAMPLE_TYPE = UNSIGNED_INTEGER
  SAMPLE_BITS = 8
  BANDS = 1
  BAND_STORAGE_TYPE = BAND_SEQUENTIAL
  MAXIMUM = 255
  MEAN = 94.2815
  MINIMUM = 1
  STANDARD_DEVIATION = 23.4167
END_OBJECT = IMAGE
/* MAP OBJECT DEFINITIONS */
OBJECT = IMAGE_MAP_PROJECTION
  ^DATA_SET_MAP_PROJECTION_CATALOG= "DSMAP.CAT"
  A_AXIS_RADIUS = 3396.0
  B_AXIS_RADIUS = 3396.0
  C_AXIS_RADIUS = 3396.0
  CENTER_LATITUDE = 0.0
  CENTER_LONGITUDE = 169.0
  COORDINATE_SYSTEM_NAME = PLANETOGRAPHIC
  COORDINATE_SYSTEM_TYPE = "BODY-FIXED ROTATING"
  EASTERNMOST_LONGITUDE = 170.361
  FIRST_STANDARD_PARALLEL = "N/A"
  LINE_FIRST_PIXEL = 1
  LINE_LAST_PIXEL = 59973
  LINE_PROJECTION_OFFSET = -252851.0
  MAP_PROJECTION_ROTATION = 0.0
  MAP_PROJECTION_TYPE = SINUSOIDAL
  MAP_RESOLUTION = 4741.71043093333
  MAP_SCALE = 0.0125
  MAXIMUM_LATITUDE = -53.3245
  MINIMUM_LATITUDE = -65.9725
  POSITIVE_LONGITUDE_DIRECTION = EAST
  REFERENCE_LATITUDE = "N/A"
  REFERENCE_LONGITUDE = "N/A"
  SAMPLE_FIRST_PIXEL = 1
  SAMPLE_LAST_PIXEL = 8086
  SAMPLE_PROJECTION_OFFSET = 4234.0
  SECOND_STANDARD_PARALLEL = "N/A"
  WESTERNMOST_LONGITUDE = 166.763
END_OBJECT = IMAGE_MAP_PROJECTION
END
