PDS_VERSION_ID = PDS3
/* FILE DATA ELEMENTS */
RECORD_TYPE = UNDEFINED
/* POINTERS TO DATA OBJECTS */
^IMAGE = ("HN182_0000_RE4.TIF")
/* IDENTIFICATION DATA ELEMENTS */
DATA_SET_ID = "MEX-M-HRSC-4-REFDR-MAPPROJECT-EXT8-V4.0"
DATA_SET_NAME = "MARS EXPRESS HRSC MAP PROJECTED REFDR EXTENSION8 V4.0"
DETECTOR_ID = MEX_HRSC_RED
EVENT_TYPE = "MARS-REGIONAL-MAPPING-Im-Pf-Mw"
INSTRUMENT_HOST_ID = MEX
INSTRUMENT_HOST_NAME = "MARS EXPRESS"
INSTRUMENT_ID = HRSC
INSTRUMENT_NAME = "HIGH RESOLUTION STEREO CAMERA"
MISSION_NAME = "MARS EXPRESS"
MISSION_PHASE_NAME = ME_Phase_46
PROCESSING_LEVEL_ID = 4
PRODUCT_CREATION_TIME = 2023-01-28T22:22:56.000Z
PRODUCT_ID = "HN182_0000_RE4.TIF"
RELEASE_ID = 0004
REVISION_ID = 0000
/* QUALITY DATA ELEMENTS */
DATA_QUALITY_ID = 1
DATA_QUALITY_DESC = "Data calculated based on original SPICE kernels"
/* TIME DATA ELEMENTS */
SPACECRAFT_CLOCK_START_COUNT = "1/0600126313.24914"
SPACECRAFT_CLOCK_STOP_COUNT = "1/0600126576.39959"
START_TIME = 2022-05-08T21:45:54.778Z
STOP_TIME = 2022-05-08T21:49:13.052Z
/* ORBITAL DATA ELEMENTS */
ASCENDING_NODE_LONGITUDE = 141.98
MAXIMUM_RESOLUTION = 0.0574
FOOTPRINT_POINT_LATITUDE = (-66.5839,-66.5386,-66.5002,-66.4666, -66.4651,-66.3861,-65.9917,-65.7278, -65.463,-65.1985,-64.9333,-64.6682, -64.4017,-64.1342,-63.8663,-63.5999, -63.3303,-63.062,-62.7927,-62.3931, -62.1183,-61.8472,-61.5765,-61.1703, -60.8983,-60.4419,-60.212,-59.982, -59.6379,-59.4077,-59.1776,-58.947, -58.6015,-58.2547,-58.0238,-57.7918, -57.3312,-57.0975,-56.8642,-56.6319, -56.3991,-56.1649,-55.9312,-55.6982, -55.4643,-55.2306,-54.996,-54.7613, -54.5269,-54.1769,-54.0605,-53.9809, -54.0033,-54.0122,-54.0223,-54.0225, -54.0234,-54.2593,-54.4947,-54.8465, -55.0817,-55.4343,-55.6699,-55.9038, -56.1381,-56.3721,-56.725,-56.9612, -57.1949,-57.5407,-57.7734,-58.0061, -58.2399,-58.5869,-58.8188,-59.1668, -59.5141,-59.8601,-60.3209,-60.7805, -61.0177,-61.4283,-61.8379,-62.1111, -62.3835,-62.6551,-62.927,-63.334, -63.6035,-63.8733,-64.1432,-64.5471, -64.8165,-65.2187,-65.4862,-65.7534, -66.0203,-66.2864,-66.4195,-66.5839)
FOOTPRINT_POINT_LONGITUDE = (6.38457,4.78803,3.7779,3.02423,2.99288 ,2.96542,3.0979,3.18345,3.26679,3.3483, 3.42777,3.50549,3.58109,3.65474,3.72667 ,3.79735,3.86568,3.93281,3.99823,4.0948 ,4.15526,4.21539,4.2743,4.36024,4.41551 ,4.50563,4.54906,4.5917,4.65442,4.69511 ,4.73507,4.77421,4.83172,4.88739, 4.92373,4.95917,5.02901,5.06215,5.09478 ,5.12708,5.1587,5.18938,5.21966,5.24955 ,5.27868,5.30736,5.33528,5.36267, 5.38964,5.42957,5.44273,5.45153,6.30408 ,6.78223,7.47482,7.49413,7.50054, 7.48932,7.4781,7.46186,7.45003,7.43166, 7.41843,7.40644,7.39364,7.38076,7.35865 ,7.34251,7.32836,7.31113,7.29691, 7.28211,7.26576,7.24419,7.22857,7.20404 ,7.17901,7.15415,7.11965,7.08408, 7.06423,7.03008,6.99498,6.97032,6.94553 ,6.92068,6.89446,6.85426,6.82837, 6.80089,6.77233,6.72835,6.69719,6.65082 ,6.6191,6.58641,6.55284,6.51893,6.50134 ,6.38457)
ORBIT_NUMBER = 23182
ORBITAL_ECCENTRICITY = 0.576
ORBITAL_INCLINATION = 87.01
ORBITAL_SEMIMAJOR_AXIS = 8788.51
PERIAPSIS_ALTITUDE = 341.68
PERIAPSIS_ARGUMENT_ANGLE = 307.99
PERIAPSIS_TIME = 2022-05-08T21:50:11.000Z
SPACECRAFT_ORIENTATION = (0.0,1.0,0.0)
^MEX_ORIENTATION_DESC = "MEX_ORIENTATION_DESC.TXT"
SPACECRAFT_POINTING_MODE = ACROSSTRACK
^MEX_POINTING_DESC = "MEX_POINTING_DESC.TXT"
RIGHT_ASCENSION = -1e+32
DECLINATION = -1e+32
OFFSET_ANGLE = -0.229
SPACECRAFT_SOLAR_DISTANCE = 2.08659e+08
TARGET_NAME = MARS
/* CAMERA DATA ELEMENTS */
DETECTOR_TEMPERATURE = 18.5744
FOCAL_PLANE_TEMPERATURE = 8.7872
INST_CMPRS_NAME = "DISCRETE COSINE TRANSFORMATION (DCT)"
INST_CMPRS_RATIO = 24.7191
INST_CMPRS_QUALITY = 0
INST_CMPRS_QUANTZ_TBL_ID = 0
INSTRUMENT_TEMPERATURE = 11.234
LENS_TEMPERATURE = 9.6028
MACROPIXEL_SIZE = 4
MISSING_FRAMES = 0
PIXEL_SUBSAMPLING_FLAG = N
SIGNAL_CHAIN_ID = 2
/* RADIOMETRIC DATA ELEMENTS */
BANDWIDTH = 48.0
CENTER_FILTER_WAVELENGTH = 748.0
RADIANCE_OFFSET = 1.54658
RADIANCE_SCALING_FACTOR = 0.00437038
REFLECTANCE_SCALING_FACTOR = 0.000434232
MEX:REFLECTANCE_OFFSET = 0.153665
/* IMAGE OBJECT DEFINITIONS */
OBJECT = IMAGE
  INTERCHANGE_FORMAT = BINARY
  LINES = 14863
  LINE_SAMPLES = 2452
  SAMPLE_TYPE = UNSIGNED_INTEGER
  SAMPLE_BITS = 8
  BANDS = 1
  BAND_STORAGE_TYPE = BAND_SEQUENTIAL
  MAXIMUM = 255
  MEAN = 63.9123
  MINIMUM = 1
  STANDARD_DEVIATION = 37.3254
END_OBJECT = IMAGE
/* MAP OBJECT DEFINITIONS */
OBJECT = IMAGE_MAP_PROJECTION
  ^DATA_SET_MAP_PROJECTION_CATALOG= "DSMAP.CAT"
  A_AXIS_RADIUS = 3396.0
  B_AXIS_RADIUS = 3396.0
  C_AXIS_RADIUS = 3396.0
  CENTER_LATITUDE = 0.0
  CENTER_LONGITUDE = 6.0
  COORDINATE_SYSTEM_NAME = PLANETOGRAPHIC
  COORDINATE_SYSTEM_TYPE = "BODY-FIXED ROTATING"
  EASTERNMOST_LONGITUDE = 7.50054
  FIRST_STANDARD_PARALLEL = "N/A"
  LINE_FIRST_PIXEL = 1
  LINE_LAST_PIXEL = 14863
  LINE_PROJECTION_OFFSET = -63965.875
  MAP_PROJECTION_ROTATION = 0.0
  MAP_PROJECTION_TYPE = SINUSOIDAL
  MAP_RESOLUTION = 1185.42760773333
  MAP_SCALE = 0.05
  MAXIMUM_LATITUDE = -53.9809
  MINIMUM_LATITUDE = -66.5839
  POSITIVE_LONGITUDE_DIRECTION = EAST
  REFERENCE_LATITUDE = "N/A"
  REFERENCE_LONGITUDE = "N/A"
  SAMPLE_FIRST_PIXEL = 1
  SAMPLE_LAST_PIXEL = 2452
  SAMPLE_PROJECTION_OFFSET = 1415.375
  SECOND_STANDARD_PARALLEL = "N/A"
  WESTERNMOST_LONGITUDE = 2.96542
END_OBJECT = IMAGE_MAP_PROJECTION
END
