PDS_VERSION_ID = PDS3
/* FILE DATA ELEMENTS */
RECORD_TYPE = UNDEFINED
/* POINTERS TO DATA OBJECTS */
^IMAGE = ("HN182_0000_BL4.TIF")
/* IDENTIFICATION DATA ELEMENTS */
DATA_SET_ID = "MEX-M-HRSC-4-REFDR-MAPPROJECT-EXT8-V4.0"
DATA_SET_NAME = "MARS EXPRESS HRSC MAP PROJECTED REFDR EXTENSION8 V4.0"
DETECTOR_ID = MEX_HRSC_BLUE
EVENT_TYPE = "MARS-REGIONAL-MAPPING-Im-Pf-Mw"
INSTRUMENT_HOST_ID = MEX
INSTRUMENT_HOST_NAME = "MARS EXPRESS"
INSTRUMENT_ID = HRSC
INSTRUMENT_NAME = "HIGH RESOLUTION STEREO CAMERA"
MISSION_NAME = "MARS EXPRESS"
MISSION_PHASE_NAME = ME_Phase_46
PROCESSING_LEVEL_ID = 4
PRODUCT_CREATION_TIME = 2023-01-28T22:22:56.000Z
PRODUCT_ID = "HN182_0000_BL4.TIF"
RELEASE_ID = 0004
REVISION_ID = 0000
/* QUALITY DATA ELEMENTS */
DATA_QUALITY_ID = 1
DATA_QUALITY_DESC = "Data calculated based on original SPICE kernels"
/* TIME DATA ELEMENTS */
SPACECRAFT_CLOCK_START_COUNT = "1/0600126313.24914"
SPACECRAFT_CLOCK_STOP_COUNT = "1/0600126576.39959"
START_TIME = 2022-05-08T21:46:19.532Z
STOP_TIME = 2022-05-08T21:49:33.687Z
/* ORBITAL DATA ELEMENTS */
ASCENDING_NODE_LONGITUDE = 141.98
MAXIMUM_RESOLUTION = 0.0546
FOOTPRINT_POINT_LATITUDE = (-66.5206,-66.4696,-66.4303,-66.3998, -66.3984,-66.3784,-66.1057,-65.8327, -65.5592,-65.2854,-65.0113,-64.737, -64.4622,-64.1868,-63.9112,-63.6357, -63.3592,-63.0829,-62.8061,-62.5294, -62.2612,-62.0278,-61.5623,-61.096, -60.6287,-60.395,-60.1608,-59.9263, -59.692,-59.3401,-59.1053,-58.7529, -58.5179,-58.2826,-57.9296,-57.694, -57.459,-57.2231,-56.9867,-56.7505, -56.5145,-56.278,-55.9232,-55.6867, -55.45,-55.2133,-54.8578,-54.5024, -54.1471,-54.0288,-53.9549,-53.9738, -53.9933,-54.0063,-54.0066,-54.0076, -54.2456,-54.4836,-54.8402,-55.0779, -55.4345,-55.6724,-56.0285,-56.2658, -56.5031,-56.7408,-57.0971,-57.3333, -57.6884,-57.925,-58.1621,-58.5163, -58.7526,-59.1069,-59.3429,-59.5789, -59.8145,-60.1678,-60.4032,-60.7559, -61.1085,-61.3433,-61.5779,-61.8124, -62.164,-62.6773,-63.0957,-63.3742, -63.6524,-63.9304,-64.2082,-64.4857, -64.7631,-65.0398,-65.455,-65.7312, -66.0071,-66.2828,-66.4205,-66.5206)
FOOTPRINT_POINT_LONGITUDE = (6.33337,4.73744,3.76649,3.10264, 3.07258,3.02854,3.11866,3.20645,3.29191 ,3.37518,3.45649,3.53581,3.61294, 3.68775,3.76072,3.83266,3.90164,3.96963 ,4.03576,4.10074,4.16261,4.21274, 4.31299,4.40913,4.50098,4.54573,4.58917 ,4.6314,4.6734,4.73446,4.77428,4.83238, 4.8704,4.9074,4.96172,4.99697,5.03246, 5.06618,5.09861,5.13083,5.1629,5.19368, 5.23893,5.26867,5.29753,5.32597,5.36723 ,5.40749,5.44708,5.46009,5.46806,6.0647 ,6.81789,7.46314,7.4822,7.48842,7.47663 ,7.46464,7.44743,7.43492,7.41551, 7.40138,7.38211,7.36847,7.35449,7.33834 ,7.31343,7.30201,7.28006,7.26471,7.2467 ,7.22435,7.20801,7.18206,7.16431, 7.14624,7.12879,7.1009,7.08227,7.05382, 7.02326,7.00273,6.98202,6.96072,6.9274, 6.87812,6.83514,6.80687,6.77814,6.74806 ,6.71687,6.6854,6.65209,6.61983,6.56683 ,6.53172,6.49527,6.45788,6.43886, 6.33337)
ORBIT_NUMBER = 23182
ORBITAL_ECCENTRICITY = 0.576
ORBITAL_INCLINATION = 87.01
ORBITAL_SEMIMAJOR_AXIS = 8788.51
PERIAPSIS_ALTITUDE = 341.68
PERIAPSIS_ARGUMENT_ANGLE = 307.99
PERIAPSIS_TIME = 2022-05-08T21:50:11.000Z
SPACECRAFT_ORIENTATION = (0.0,1.0,0.0)
^MEX_ORIENTATION_DESC = "MEX_ORIENTATION_DESC.TXT"
SPACECRAFT_POINTING_MODE = ACROSSTRACK
^MEX_POINTING_DESC = "MEX_POINTING_DESC.TXT"
RIGHT_ASCENSION = -1e+32
DECLINATION = -1e+32
OFFSET_ANGLE = -0.229
SPACECRAFT_SOLAR_DISTANCE = 2.08659e+08
TARGET_NAME = MARS
/* CAMERA DATA ELEMENTS */
DETECTOR_TEMPERATURE = 18.5744
FOCAL_PLANE_TEMPERATURE = 8.7872
INST_CMPRS_NAME = "DISCRETE COSINE TRANSFORMATION (DCT)"
INST_CMPRS_RATIO = 5.60066
INST_CMPRS_QUALITY = 0
INST_CMPRS_QUANTZ_TBL_ID = 0
INSTRUMENT_TEMPERATURE = 11.234
LENS_TEMPERATURE = 9.6028
MACROPIXEL_SIZE = 4
MISSING_FRAMES = 0
PIXEL_SUBSAMPLING_FLAG = N
SIGNAL_CHAIN_ID = 2
/* RADIOMETRIC DATA ELEMENTS */
BANDWIDTH = 76.0
CENTER_FILTER_WAVELENGTH = 444.0
RADIANCE_OFFSET = 0.845163
RADIANCE_SCALING_FACTOR = 0.00196245
REFLECTANCE_SCALING_FACTOR = 8.77874e-05
MEX:REFLECTANCE_OFFSET = 0.0378071
/* IMAGE OBJECT DEFINITIONS */
OBJECT = IMAGE
  INTERCHANGE_FORMAT = BINARY
  LINES = 14863
  LINE_SAMPLES = 2452
  SAMPLE_TYPE = UNSIGNED_INTEGER
  SAMPLE_BITS = 8
  BANDS = 1
  BAND_STORAGE_TYPE = BAND_SEQUENTIAL
  MAXIMUM = 255
  MEAN = 72.5795
  MINIMUM = 2
  STANDARD_DEVIATION = 49.6616
END_OBJECT = IMAGE
/* MAP OBJECT DEFINITIONS */
OBJECT = IMAGE_MAP_PROJECTION
  ^DATA_SET_MAP_PROJECTION_CATALOG= "DSMAP.CAT"
  A_AXIS_RADIUS = 3396.0
  B_AXIS_RADIUS = 3396.0
  C_AXIS_RADIUS = 3396.0
  CENTER_LATITUDE = 0.0
  CENTER_LONGITUDE = 6.0
  COORDINATE_SYSTEM_NAME = PLANETOGRAPHIC
  COORDINATE_SYSTEM_TYPE = "BODY-FIXED ROTATING"
  EASTERNMOST_LONGITUDE = 7.48842
  FIRST_STANDARD_PARALLEL = "N/A"
  LINE_FIRST_PIXEL = 1
  LINE_LAST_PIXEL = 14863
  LINE_PROJECTION_OFFSET = -63965.875
  MAP_PROJECTION_ROTATION = 0.0
  MAP_PROJECTION_TYPE = SINUSOIDAL
  MAP_RESOLUTION = 1185.42760773333
  MAP_SCALE = 0.05
  MAXIMUM_LATITUDE = -53.9549
  MINIMUM_LATITUDE = -66.5206
  POSITIVE_LONGITUDE_DIRECTION = EAST
  REFERENCE_LATITUDE = "N/A"
  REFERENCE_LONGITUDE = "N/A"
  SAMPLE_FIRST_PIXEL = 1
  SAMPLE_LAST_PIXEL = 2452
  SAMPLE_PROJECTION_OFFSET = 1415.375
  SECOND_STANDARD_PARALLEL = "N/A"
  WESTERNMOST_LONGITUDE = 3.02854
END_OBJECT = IMAGE_MAP_PROJECTION
END
