PDS_VERSION_ID = PDS3
/* FILE DATA ELEMENTS */
RECORD_TYPE = UNDEFINED
/* POINTERS TO DATA OBJECTS */
^IMAGE = ("HN178_0000_S24.TIF")
/* IDENTIFICATION DATA ELEMENTS */
DATA_SET_ID = "MEX-M-HRSC-4-REFDR-MAPPROJECT-EXT8-V4.0"
DATA_SET_NAME = "MARS EXPRESS HRSC MAP PROJECTED REFDR EXTENSION8 V4.0"
DETECTOR_ID = MEX_HRSC_S2
EVENT_TYPE = "MARS-REGIONAL-MAPPING-Vo-Gl-Pf"
INSTRUMENT_HOST_ID = MEX
INSTRUMENT_HOST_NAME = "MARS EXPRESS"
INSTRUMENT_ID = HRSC
INSTRUMENT_NAME = "HIGH RESOLUTION STEREO CAMERA"
MISSION_NAME = "MARS EXPRESS"
MISSION_PHASE_NAME = ME_Phase_46
PROCESSING_LEVEL_ID = 4
PRODUCT_CREATION_TIME = 2023-01-28T22:22:56.000Z
PRODUCT_ID = "HN178_0000_S24.TIF"
RELEASE_ID = 0004
REVISION_ID = 0000
/* QUALITY DATA ELEMENTS */
DATA_QUALITY_ID = 1
DATA_QUALITY_DESC = "Data calculated based on original SPICE kernels"
/* TIME DATA ELEMENTS */
SPACECRAFT_CLOCK_START_COUNT = "1/0600025911.25690"
SPACECRAFT_CLOCK_STOP_COUNT = "1/0600026180.33293"
START_TIME = 2022-05-07T17:52:26.006Z
STOP_TIME = 2022-05-07T17:55:49.014Z
/* ORBITAL DATA ELEMENTS */
ASCENDING_NODE_LONGITUDE = 142.05
MAXIMUM_RESOLUTION = 0.0294
FOOTPRINT_POINT_LATITUDE = (-56.4949,-56.4485,-56.3965,-56.3269, -56.325,-56.2335,-55.591,-55.0772, -54.5607,-54.3014,-53.9139,-53.5224, -53.0,-52.616,-52.3559,-52.095,-51.8339 ,-51.5716,-51.3104,-51.0484,-50.7864, -50.5236,-50.2613,-49.9982,-49.7359, -49.4726,-49.2087,-48.9443,-48.6807, -48.4165,-48.1516,-47.8885,-47.6236, -47.3595,-47.095,-46.6979,-46.3014, -46.0357,-45.6373,-45.2395,-44.9738, -44.5765,-44.3107,-43.9141,-43.6499, -43.2527,-43.1215,-43.0806,-43.1293, -43.1635,-43.2024,-43.2034,-43.2041, -43.4708,-43.7381,-44.0041,-44.27, -44.5353,-44.7977,-45.1968,-45.4638, -45.7286,-46.1278,-46.3929,-46.6587, -46.925,-47.1904,-47.4565,-47.7206, -47.9871,-48.2528,-48.5184,-48.783, -49.0482,-49.312,-49.5755,-49.8392, -50.2356,-50.4992,-50.7626,-51.0253, -51.2887,-51.6833,-51.945,-52.2071, -52.4691,-52.7306,-52.9925,-53.3854, -53.6465,-53.9072,-54.1678,-54.4282, -54.6879,-54.9478,-55.2082,-55.4678, -56.2441,-56.3733,-56.4949)
FOOTPRINT_POINT_LONGITUDE = (53.9358,53.2683,52.5887,51.765,51.743, 51.6467,51.7604,51.849,51.9326,51.9727, 52.0331,52.0886,52.1605,52.2206,52.2561 ,52.2905,52.3242,52.3563,52.3891, 52.4207,52.4518,52.4818,52.5118,52.5408 ,52.5699,52.5979,52.6249,52.651,52.6775 ,52.7031,52.7277,52.7536,52.7774, 52.8016,52.8251,52.8594,52.8934,52.9144 ,52.9454,52.9762,52.9959,53.0258, 53.0447,53.074,53.0933,53.1209,53.1309, 53.1334,53.7675,54.2385,54.8485,54.8648 ,54.8706,54.8582,54.8456,54.8328, 54.8197,54.8064,54.7926,54.772,54.7582, 54.7439,54.7223,54.7075,54.6926,54.6775 ,54.6621,54.6465,54.6305,54.6145, 54.5982,54.5816,54.5647,54.5476,54.5301 ,54.5123,54.4943,54.4668,54.4481,54.429 ,54.4096,54.39,54.36,54.3394,54.3186, 54.2975,54.276,54.2542,54.2208,54.1981, 54.1749,54.1514,54.1275,54.1032,54.0785 ,54.0535,54.0279,53.9487,53.9351, 53.9358)
ORBIT_NUMBER = 23178
ORBITAL_ECCENTRICITY = 0.576
ORBITAL_INCLINATION = 87.02
ORBITAL_SEMIMAJOR_AXIS = 8791.02
PERIAPSIS_ALTITUDE = 341.35
PERIAPSIS_ARGUMENT_ANGLE = 308.69
PERIAPSIS_TIME = 2022-05-07T17:54:18.000Z
SPACECRAFT_ORIENTATION = (0.0,1.0,0.0)
^MEX_ORIENTATION_DESC = "MEX_ORIENTATION_DESC.TXT"
SPACECRAFT_POINTING_MODE = ACROSSTRACK
^MEX_POINTING_DESC = "MEX_POINTING_DESC.TXT"
RIGHT_ASCENSION = -1e+32
DECLINATION = -1e+32
OFFSET_ANGLE = 0.8
SPACECRAFT_SOLAR_DISTANCE = 2.08766e+08
TARGET_NAME = MARS
/* CAMERA DATA ELEMENTS */
DETECTOR_TEMPERATURE = 18.5744
FOCAL_PLANE_TEMPERATURE = 9.3989
INST_CMPRS_NAME = "DISCRETE COSINE TRANSFORMATION (DCT)"
INST_CMPRS_RATIO = 12.4223
INST_CMPRS_QUALITY = 0
INST_CMPRS_QUANTZ_TBL_ID = 0
INSTRUMENT_TEMPERATURE = 11.6418
LENS_TEMPERATURE = 9.6028
MACROPIXEL_SIZE = 2
MISSING_FRAMES = 0
PIXEL_SUBSAMPLING_FLAG = N
SIGNAL_CHAIN_ID = 1
/* RADIOMETRIC DATA ELEMENTS */
BANDWIDTH = 178.0
CENTER_FILTER_WAVELENGTH = 679.0
RADIANCE_OFFSET = 7.42881
RADIANCE_SCALING_FACTOR = 0.0169464
REFLECTANCE_SCALING_FACTOR = 0.000391136
MEX:REFLECTANCE_OFFSET = 0.171463
/* IMAGE OBJECT DEFINITIONS */
OBJECT = IMAGE
  INTERCHANGE_FORMAT = BINARY
  LINES = 31302
  LINE_SAMPLES = 4590
  SAMPLE_TYPE = UNSIGNED_INTEGER
  SAMPLE_BITS = 8
  BANDS = 1
  BAND_STORAGE_TYPE = BAND_SEQUENTIAL
  MAXIMUM = 255
  MEAN = 137.763
  MINIMUM = 1
  STANDARD_DEVIATION = 49.4369
END_OBJECT = IMAGE
/* MAP OBJECT DEFINITIONS */
OBJECT = IMAGE_MAP_PROJECTION
  ^DATA_SET_MAP_PROJECTION_CATALOG= "DSMAP.CAT"
  A_AXIS_RADIUS = 3396.0
  B_AXIS_RADIUS = 3396.0
  C_AXIS_RADIUS = 3396.0
  CENTER_LATITUDE = 0.0
  CENTER_LONGITUDE = 54.0
  COORDINATE_SYSTEM_NAME = PLANETOGRAPHIC
  COORDINATE_SYSTEM_TYPE = "BODY-FIXED ROTATING"
  EASTERNMOST_LONGITUDE = 54.8706
  FIRST_STANDARD_PARALLEL = "N/A"
  LINE_FIRST_PIXEL = 1
  LINE_LAST_PIXEL = 31302
  LINE_PROJECTION_OFFSET = -102323.25
  MAP_PROJECTION_ROTATION = 0.0
  MAP_PROJECTION_TYPE = SINUSOIDAL
  MAP_RESOLUTION = 2370.85521546667
  MAP_SCALE = 0.025
  MAXIMUM_LATITUDE = -43.0806
  MINIMUM_LATITUDE = -56.4949
  POSITIVE_LONGITUDE_DIRECTION = EAST
  REFERENCE_LATITUDE = "N/A"
  REFERENCE_LONGITUDE = "N/A"
  SAMPLE_FIRST_PIXEL = 1
  SAMPLE_LAST_PIXEL = 4590
  SAMPLE_PROJECTION_OFFSET = 3063.25
  SECOND_STANDARD_PARALLEL = "N/A"
  WESTERNMOST_LONGITUDE = 51.6467
END_OBJECT = IMAGE_MAP_PROJECTION
END
