PDS_VERSION_ID = PDS3
/* FILE DATA ELEMENTS */
RECORD_TYPE = UNDEFINED
/* POINTERS TO DATA OBJECTS */
^IMAGE = ("HN172_0000_ND4.TIF")
/* IDENTIFICATION DATA ELEMENTS */
DATA_SET_ID = "MEX-M-HRSC-4-REFDR-MAPPROJECT-EXT8-V4.0"
DATA_SET_NAME = "MARS EXPRESS HRSC MAP PROJECTED REFDR EXTENSION8 V4.0"
DETECTOR_ID = MEX_HRSC_NADIR
EVENT_TYPE = "MARS-LOCAL-CARTOGRAPHY-Te-Gl-Ts"
INSTRUMENT_HOST_ID = MEX
INSTRUMENT_HOST_NAME = "MARS EXPRESS"
INSTRUMENT_ID = HRSC
INSTRUMENT_NAME = "HIGH RESOLUTION STEREO CAMERA"
MISSION_NAME = "MARS EXPRESS"
MISSION_PHASE_NAME = ME_Phase_46
PROCESSING_LEVEL_ID = 4
PRODUCT_CREATION_TIME = 2023-01-28T22:22:56.000Z
PRODUCT_ID = "HN172_0000_ND4.TIF"
RELEASE_ID = 0004
REVISION_ID = 0000
/* QUALITY DATA ELEMENTS */
DATA_QUALITY_ID = 1
DATA_QUALITY_DESC = "Data calculated based on original SPICE kernels"
/* TIME DATA ELEMENTS */
SPACECRAFT_CLOCK_START_COUNT = "1/0599875350.23981"
SPACECRAFT_CLOCK_STOP_COUNT = "1/0599875822.43424"
START_TIME = 2022-05-06T00:03:38.714Z
STOP_TIME = 2022-05-06T00:09:45.727Z
/* ORBITAL DATA ELEMENTS */
ASCENDING_NODE_LONGITUDE = 142.16
MAXIMUM_RESOLUTION = 0.0149
FOOTPRINT_POINT_LATITUDE = (-37.5263,-37.5148,-37.5007,-37.4813, -37.4807,-37.4782,-36.8769,-36.4767, -35.8771,-35.4779,-35.0792,-34.6809, -33.886,-33.0935,-32.3032,-31.7002, -31.2962,-30.893,-30.4819,-30.0695, -29.6577,-29.0285,-28.6083,-27.9685, -27.5399,-26.8878,-26.4512,-25.7856, -25.3408,-24.8872,-24.4347,-23.9733, -23.2776,-22.809,-22.3342,-21.6151, -20.8854,-20.3937,-19.8949,-19.3924, -18.8857,-18.371,-17.8515,-17.3273, -16.7974,-16.2614,-15.443,-15.1677, -15.1449,-15.1423,-15.1386,-15.1347, -15.128,-15.1278,-15.128,-15.6801, -16.2261,-16.7643,-17.2964,-17.8227, -18.3443,-18.8606,-19.3693,-19.8738, -20.3745,-20.8677,-21.6,-22.3216, -22.7981,-23.2681,-23.7351,-24.1974, -24.8829,-25.5612,-26.0073,-26.4519, -26.8897,-27.5439,-27.9736,-28.6154, -29.0367,-29.6679,-30.0806,-30.4941, -30.9066,-31.3109,-31.7158,-32.3206, -33.1128,-33.9074,-34.3055,-34.7042, -35.1033,-35.503,-35.9032,-36.304, -36.7051,-37.3076,-37.5087,-37.5263)
FOOTPRINT_POINT_LONGITUDE = (307.245,306.731,306.201,305.584, 305.566,305.518,305.544,305.564,305.589 ,305.603,305.615,305.627,305.647, 305.671,305.691,305.7,305.706,305.713, 305.72,305.726,305.731,305.737,305.741, 305.747,305.749,305.751,305.752,305.754 ,305.754,305.753,305.752,305.749, 305.745,305.74,305.736,305.727,305.717, 305.71,305.701,305.692,305.682,305.671, 305.66,305.647,305.634,305.62,305.565, 305.553,305.552,306.185,306.738,307.174 ,307.753,307.774,307.785,307.778, 307.773,307.766,307.758,307.75,307.742, 307.734,307.725,307.717,307.708,307.7, 307.687,307.673,307.664,307.655,307.645 ,307.636,307.621,307.606,307.596, 307.585,307.575,307.559,307.548,307.532 ,307.521,307.503,307.492,307.479, 307.468,307.455,307.443,307.424,307.398 ,307.371,307.356,307.342,307.327, 307.312,307.297,307.282,307.265,307.24, 307.232,307.245)
ORBIT_NUMBER = 23172
ORBITAL_ECCENTRICITY = 0.576
ORBITAL_INCLINATION = 87.01
ORBITAL_SEMIMAJOR_AXIS = 8789.55
PERIAPSIS_ALTITUDE = 341.87
PERIAPSIS_ARGUMENT_ANGLE = 309.72
PERIAPSIS_TIME = 2022-05-06T00:00:24.000Z
SPACECRAFT_ORIENTATION = (0.0,1.0,0.0)
^MEX_ORIENTATION_DESC = "MEX_ORIENTATION_DESC.TXT"
SPACECRAFT_POINTING_MODE = ACROSSTRACK
^MEX_POINTING_DESC = "MEX_POINTING_DESC.TXT"
RIGHT_ASCENSION = -1e+32
DECLINATION = -1e+32
OFFSET_ANGLE = 1.3
SPACECRAFT_SOLAR_DISTANCE = 2.0893e+08
TARGET_NAME = MARS
/* CAMERA DATA ELEMENTS */
DETECTOR_TEMPERATURE = 16.7393
FOCAL_PLANE_TEMPERATURE = 8.7872
INST_CMPRS_NAME = "DISCRETE COSINE TRANSFORMATION (DCT)"
INST_CMPRS_RATIO = 6.31756
INST_CMPRS_QUALITY = 0
INST_CMPRS_QUANTZ_TBL_ID = 0
INSTRUMENT_TEMPERATURE = 11.234
LENS_TEMPERATURE = 9.195
MACROPIXEL_SIZE = 1
MISSING_FRAMES = 0
PIXEL_SUBSAMPLING_FLAG = N
SIGNAL_CHAIN_ID = 0
/* RADIOMETRIC DATA ELEMENTS */
BANDWIDTH = 177.0
CENTER_FILTER_WAVELENGTH = 677.5
RADIANCE_OFFSET = 4.03294
RADIANCE_SCALING_FACTOR = 0.0246503
REFLECTANCE_SCALING_FACTOR = 0.000571622
MEX:REFLECTANCE_OFFSET = 0.0935209
/* IMAGE OBJECT DEFINITIONS */
OBJECT = IMAGE
  INTERCHANGE_FORMAT = BINARY
  LINES = 106203
  LINE_SAMPLES = 10219
  SAMPLE_TYPE = UNSIGNED_INTEGER
  SAMPLE_BITS = 8
  BANDS = 1
  BAND_STORAGE_TYPE = BAND_SEQUENTIAL
  MAXIMUM = 254
  MEAN = 70.7279
  MINIMUM = 1
  STANDARD_DEVIATION = 15.9002
END_OBJECT = IMAGE
/* MAP OBJECT DEFINITIONS */
OBJECT = IMAGE_MAP_PROJECTION
  ^DATA_SET_MAP_PROJECTION_CATALOG= "DSMAP.CAT"
  A_AXIS_RADIUS = 3396.0
  B_AXIS_RADIUS = 3396.0
  C_AXIS_RADIUS = 3396.0
  CENTER_LATITUDE = 0.0
  CENTER_LONGITUDE = 307.0
  COORDINATE_SYSTEM_NAME = PLANETOGRAPHIC
  COORDINATE_SYSTEM_TYPE = "BODY-FIXED ROTATING"
  EASTERNMOST_LONGITUDE = 307.785
  FIRST_STANDARD_PARALLEL = "N/A"
  LINE_FIRST_PIXEL = 1
  LINE_LAST_PIXEL = 106203
  LINE_PROJECTION_OFFSET = -71733.0
  MAP_PROJECTION_ROTATION = 0.0
  MAP_PROJECTION_TYPE = SINUSOIDAL
  MAP_RESOLUTION = 4741.71043093333
  MAP_SCALE = 0.0125
  MAXIMUM_LATITUDE = -15.1278
  MINIMUM_LATITUDE = -37.5263
  POSITIVE_LONGITUDE_DIRECTION = EAST
  REFERENCE_LATITUDE = "N/A"
  REFERENCE_LONGITUDE = "N/A"
  SAMPLE_FIRST_PIXEL = 1
  SAMPLE_LAST_PIXEL = 10219
  SAMPLE_PROJECTION_OFFSET = 6625.0
  SECOND_STANDARD_PARALLEL = "N/A"
  WESTERNMOST_LONGITUDE = 305.518
END_OBJECT = IMAGE_MAP_PROJECTION
END
