PDS_VERSION_ID = PDS3
/* FILE DATA ELEMENTS */
RECORD_TYPE = UNDEFINED
/* POINTERS TO DATA OBJECTS */
^IMAGE = ("HN164_0009_ND4.TIF")
/* IDENTIFICATION DATA ELEMENTS */
DATA_SET_ID = "MEX-M-HRSC-4-REFDR-MAPPROJECT-EXT8-V4.0"
DATA_SET_NAME = "MARS EXPRESS HRSC MAP PROJECTED REFDR EXTENSION8 V4.0"
DETECTOR_ID = MEX_HRSC_NADIR
EVENT_TYPE = "MARS-REGIONAL-MAPPING-Im-Fl-Mw"
INSTRUMENT_HOST_ID = MEX
INSTRUMENT_HOST_NAME = "MARS EXPRESS"
INSTRUMENT_ID = HRSC
INSTRUMENT_NAME = "HIGH RESOLUTION STEREO CAMERA"
MISSION_NAME = "MARS EXPRESS"
MISSION_PHASE_NAME = ME_Phase_46
PROCESSING_LEVEL_ID = 4
PRODUCT_CREATION_TIME = 2023-01-28T22:22:56.000Z
PRODUCT_ID = "HN164_0009_ND4.TIF"
RELEASE_ID = 0004
REVISION_ID = 0000
/* QUALITY DATA ELEMENTS */
DATA_QUALITY_ID = 1
DATA_QUALITY_DESC = "Data calculated based on original SPICE kernels"
/* TIME DATA ELEMENTS */
SPACECRAFT_CLOCK_START_COUNT = "1/0599674215.25685"
SPACECRAFT_CLOCK_STOP_COUNT = "1/0599674444.47052"
START_TIME = 2022-05-03T16:11:22.352Z
STOP_TIME = 2022-05-03T16:13:54.333Z
/* ORBITAL DATA ELEMENTS */
ASCENDING_NODE_LONGITUDE = 142.3
MAXIMUM_RESOLUTION = 0.0146
FOOTPRINT_POINT_LATITUDE = (-37.2635,-37.262,-37.2582,-37.2531, -37.2487,-37.2484,-37.2472,-36.9998, -36.5875,-36.2362,-36.0398,-35.8434, -35.6472,-35.451,-35.255,-35.0591, -34.8633,-34.6676,-34.472,-34.2766, -34.0812,-33.8861,-33.691,-33.496, -33.3012,-33.1064,-32.9119,-32.7174, -32.5231,-32.3289,-32.1348,-31.9408, -31.5534,-31.1666,-30.7803,-30.3946, -30.0095,-29.7145,-29.5171,-29.32, -29.1231,-28.9265,-28.7298,-28.5286, -28.3272,-28.126,-27.925,-27.7241, -27.6238,-27.6201,-27.6211,-27.6217, -27.6217,-27.6208,-27.6183,-27.6181, -27.6183,-27.8195,-28.0208,-28.2223, -28.424,-28.7266,-28.9236,-29.1207, -29.318,-29.5154,-29.713,-30.0087, -30.3945,-30.7809,-31.1679,-31.3616, -31.5554,-31.7494,-31.9435,-32.1378, -32.3322,-32.5268,-32.7215,-32.9162, -33.1111,-33.3061,-33.599,-33.7944, -33.9899,-34.1855,-34.3813,-34.577, -34.773,-34.9691,-35.1653,-35.3615, -35.5579,-35.8529,-36.0496,-36.4338, -36.764,-37.1769,-37.2596,-37.2635)
FOOTPRINT_POINT_LONGITUDE = (46.1413,45.7973,45.3146,44.881,44.5872 ,44.5718,44.5535,44.5584,44.5642, 44.5677,44.5707,44.5728,44.5753,44.5777 ,44.5799,44.582,44.5836,44.585,44.5867, 44.5884,44.5896,44.5911,44.5923,44.5934 ,44.594,44.5947,44.5952,44.5955,44.5958 ,44.5961,44.5958,44.5955,44.595,44.5945 ,44.5934,44.5912,44.5893,44.5888, 44.5856,44.5842,44.5834,44.5832,44.5811 ,44.5791,44.5773,44.5753,44.5734, 44.5714,44.5703,44.5703,44.8191,45.1019 ,45.3683,45.7694,46.2384,46.2552, 46.2635,46.2621,46.2606,46.2586,46.2571 ,46.2541,46.2527,46.2511,46.2495, 46.2477,46.2473,46.2444,46.2407,46.2367 ,46.232,46.2292,46.2277,46.2257,46.2239 ,46.2219,46.2196,46.2169,46.2142, 46.2149,46.213,46.2109,46.2064,46.2042, 46.2029,46.2002,46.1975,46.1973,46.1969 ,46.1946,46.192,46.1945,46.1913,46.184, 46.1811,46.1754,46.1709,46.1735,46.1727 ,46.1413)
ORBIT_NUMBER = 23164
ORBITAL_ECCENTRICITY = 0.576
ORBITAL_INCLINATION = 87.01
ORBITAL_SEMIMAJOR_AXIS = 8795.49
PERIAPSIS_ALTITUDE = 341.89
PERIAPSIS_ARGUMENT_ANGLE = 311.06
PERIAPSIS_TIME = 2022-05-03T16:08:24.000Z
SPACECRAFT_ORIENTATION = (0.0,1.0,0.0)
^MEX_ORIENTATION_DESC = "MEX_ORIENTATION_DESC.TXT"
SPACECRAFT_POINTING_MODE = ACROSSTRACK
^MEX_POINTING_DESC = "MEX_POINTING_DESC.TXT"
RIGHT_ASCENSION = -1e+32
DECLINATION = -1e+32
OFFSET_ANGLE = -0.2
SPACECRAFT_SOLAR_DISTANCE = 2.09159e+08
TARGET_NAME = MARS
/* CAMERA DATA ELEMENTS */
DETECTOR_TEMPERATURE = 18.3705
FOCAL_PLANE_TEMPERATURE = 8.7872
INST_CMPRS_NAME = "DISCRETE COSINE TRANSFORMATION (DCT)"
INST_CMPRS_RATIO = 7.38446
INST_CMPRS_QUALITY = 0
INST_CMPRS_QUANTZ_TBL_ID = 0
INSTRUMENT_TEMPERATURE = 12.4574
LENS_TEMPERATURE = 9.6028
MACROPIXEL_SIZE = 1
MISSING_FRAMES = 0
PIXEL_SUBSAMPLING_FLAG = N
SIGNAL_CHAIN_ID = 0
/* RADIOMETRIC DATA ELEMENTS */
BANDWIDTH = 177.0
CENTER_FILTER_WAVELENGTH = 677.5
RADIANCE_OFFSET = 5.79312
RADIANCE_SCALING_FACTOR = 0.0166811
REFLECTANCE_SCALING_FACTOR = 0.000387669
MEX:REFLECTANCE_OFFSET = 0.134632
/* IMAGE OBJECT DEFINITIONS */
OBJECT = IMAGE
  INTERCHANGE_FORMAT = BINARY
  LINES = 45731
  LINE_SAMPLES = 7116
  SAMPLE_TYPE = UNSIGNED_INTEGER
  SAMPLE_BITS = 8
  BANDS = 1
  BAND_STORAGE_TYPE = BAND_SEQUENTIAL
  MAXIMUM = 254
  MEAN = 148.066
  MINIMUM = 1
  STANDARD_DEVIATION = 45.5116
END_OBJECT = IMAGE
/* MAP OBJECT DEFINITIONS */
OBJECT = IMAGE_MAP_PROJECTION
  ^DATA_SET_MAP_PROJECTION_CATALOG= "DSMAP.CAT"
  A_AXIS_RADIUS = 3396.0
  B_AXIS_RADIUS = 3396.0
  C_AXIS_RADIUS = 3396.0
  CENTER_LATITUDE = 0.0
  CENTER_LONGITUDE = 45.0
  COORDINATE_SYSTEM_NAME = PLANETOGRAPHIC
  COORDINATE_SYSTEM_TYPE = "BODY-FIXED ROTATING"
  EASTERNMOST_LONGITUDE = 46.2635
  FIRST_STANDARD_PARALLEL = "N/A"
  LINE_FIRST_PIXEL = 1
  LINE_LAST_PIXEL = 45731
  LINE_PROJECTION_OFFSET = -130959.0
  MAP_PROJECTION_ROTATION = 0.0
  MAP_PROJECTION_TYPE = SINUSOIDAL
  MAP_RESOLUTION = 4741.71043093333
  MAP_SCALE = 0.0125
  MAXIMUM_LATITUDE = -27.6181
  MINIMUM_LATITUDE = -37.2635
  POSITIVE_LONGITUDE_DIRECTION = EAST
  REFERENCE_LATITUDE = "N/A"
  REFERENCE_LONGITUDE = "N/A"
  SAMPLE_FIRST_PIXEL = 1
  SAMPLE_LAST_PIXEL = 7116
  SAMPLE_PROJECTION_OFFSET = 1805.0
  SECOND_STANDARD_PARALLEL = "N/A"
  WESTERNMOST_LONGITUDE = 44.5535
END_OBJECT = IMAGE_MAP_PROJECTION
END
