PDS_VERSION_ID = PDS3
/* FILE DATA ELEMENTS */
RECORD_TYPE = UNDEFINED
/* POINTERS TO DATA OBJECTS */
^IMAGE = ("HN164_0009_BL4.TIF")
/* IDENTIFICATION DATA ELEMENTS */
DATA_SET_ID = "MEX-M-HRSC-4-REFDR-MAPPROJECT-EXT8-V4.0"
DATA_SET_NAME = "MARS EXPRESS HRSC MAP PROJECTED REFDR EXTENSION8 V4.0"
DETECTOR_ID = MEX_HRSC_BLUE
EVENT_TYPE = "MARS-REGIONAL-MAPPING-Im-Fl-Mw"
INSTRUMENT_HOST_ID = MEX
INSTRUMENT_HOST_NAME = "MARS EXPRESS"
INSTRUMENT_ID = HRSC
INSTRUMENT_NAME = "HIGH RESOLUTION STEREO CAMERA"
MISSION_NAME = "MARS EXPRESS"
MISSION_PHASE_NAME = ME_Phase_46
PROCESSING_LEVEL_ID = 4
PRODUCT_CREATION_TIME = 2023-01-28T22:22:56.000Z
PRODUCT_ID = "HN164_0009_BL4.TIF"
RELEASE_ID = 0004
REVISION_ID = 0000
/* QUALITY DATA ELEMENTS */
DATA_QUALITY_ID = 1
DATA_QUALITY_DESC = "Data calculated based on original SPICE kernels"
/* TIME DATA ELEMENTS */
SPACECRAFT_CLOCK_START_COUNT = "1/0599674215.25685"
SPACECRAFT_CLOCK_STOP_COUNT = "1/0599674444.47052"
START_TIME = 2022-05-03T16:11:16.739Z
STOP_TIME = 2022-05-03T16:13:47.525Z
/* ORBITAL DATA ELEMENTS */
ASCENDING_NODE_LONGITUDE = 142.3
MAXIMUM_RESOLUTION = 0.0583
FOOTPRINT_POINT_LATITUDE = (-37.2721,-37.2708,-37.2693,-37.265, -37.2592,-37.259,-37.2499,-36.9192, -36.5041,-36.0072,-35.8097,-35.6126, -35.4155,-35.2184,-35.0214,-34.8243, -34.5291,-34.2341,-34.0375,-33.8413, -33.547,-33.2523,-33.0564,-32.8603, -32.6644,-32.4686,-32.175,-31.9791, -31.7836,-31.5883,-31.3934,-31.1984, -31.0036,-30.8087,-30.6143,-30.4189, -30.2242,-30.0301,-29.8373,-29.6429, -29.4449,-29.2461,-29.0487,-28.8498, -28.5519,-28.3537,-28.1517,-27.9487, -27.7457,-27.6444,-27.6256,-27.6264, -27.6266,-27.6261,-27.6249,-27.6223, -27.6222,-27.6232,-27.8262,-28.0296, -28.3342,-28.533,-28.831,-29.1294, -29.3285,-29.6254,-29.8196,-30.0141, -30.2087,-30.4034,-30.5983,-30.7934, -30.9886,-31.282,-31.5751,-31.7706, -31.9663,-32.1621,-32.3581,-32.5545, -32.7508,-33.0441,-33.2404,-33.437, -33.6341,-33.9291,-34.1261,-34.4217, -34.6178,-34.8147,-35.012,-35.3066, -35.5045,-35.7026,-36.0859,-36.4179, -36.7499,-37.1622,-37.2452,-37.2721)
FOOTPRINT_POINT_LONGITUDE = (46.138,45.7283,45.4949,45.0301,44.596, 44.5816,44.5673,44.574,44.5791,44.5854, 44.5876,44.5903,44.5927,44.5948,44.5969 ,44.5986,44.6011,44.6035,44.6048, 44.6064,44.6083,44.6091,44.6102,44.6107 ,44.6111,44.6114,44.6116,44.6113, 44.6112,44.611,44.611,44.6108,44.6105, 44.6099,44.6095,44.6076,44.6065,44.6057 ,44.6064,44.6048,44.6022,44.6011, 44.6015,44.5997,44.5969,44.5952,44.5933 ,44.5915,44.5895,44.5885,44.5883, 44.8813,45.3156,45.5489,45.8296,46.2358 ,46.2514,46.2566,46.2554,46.2539, 46.2514,46.2491,46.247,46.2449,46.2434, 46.2419,46.2405,46.2386,46.2367,46.235, 46.2331,46.231,46.2288,46.2248,46.222, 46.2202,46.2185,46.2165,46.2144,46.2116 ,46.2092,46.2088,46.2071,46.205,46.2017 ,46.199,46.1965,46.1932,46.1936,46.1923 ,46.1901,46.1909,46.1877,46.1843,46.177 ,46.1722,46.1677,46.1704,46.1697, 46.138)
ORBIT_NUMBER = 23164
ORBITAL_ECCENTRICITY = 0.576
ORBITAL_INCLINATION = 87.01
ORBITAL_SEMIMAJOR_AXIS = 8795.49
PERIAPSIS_ALTITUDE = 341.89
PERIAPSIS_ARGUMENT_ANGLE = 311.06
PERIAPSIS_TIME = 2022-05-03T16:08:24.000Z
SPACECRAFT_ORIENTATION = (0.0,1.0,0.0)
^MEX_ORIENTATION_DESC = "MEX_ORIENTATION_DESC.TXT"
SPACECRAFT_POINTING_MODE = ACROSSTRACK
^MEX_POINTING_DESC = "MEX_POINTING_DESC.TXT"
RIGHT_ASCENSION = -1e+32
DECLINATION = -1e+32
OFFSET_ANGLE = -0.2
SPACECRAFT_SOLAR_DISTANCE = 2.09159e+08
TARGET_NAME = MARS
/* CAMERA DATA ELEMENTS */
DETECTOR_TEMPERATURE = 18.3705
FOCAL_PLANE_TEMPERATURE = 8.7872
INST_CMPRS_NAME = "DISCRETE COSINE TRANSFORMATION (DCT)"
INST_CMPRS_RATIO = 5.85214
INST_CMPRS_QUALITY = 0
INST_CMPRS_QUANTZ_TBL_ID = 0
INSTRUMENT_TEMPERATURE = 12.4574
LENS_TEMPERATURE = 9.6028
MACROPIXEL_SIZE = 4
MISSING_FRAMES = 0
PIXEL_SUBSAMPLING_FLAG = N
SIGNAL_CHAIN_ID = 2
/* RADIOMETRIC DATA ELEMENTS */
BANDWIDTH = 76.0
CENTER_FILTER_WAVELENGTH = 444.0
RADIANCE_OFFSET = 0.911886
RADIANCE_SCALING_FACTOR = 0.00148274
REFLECTANCE_SCALING_FACTOR = 6.66459e-05
MEX:REFLECTANCE_OFFSET = 0.0409872
/* IMAGE OBJECT DEFINITIONS */
OBJECT = IMAGE
  INTERCHANGE_FORMAT = BINARY
  LINES = 11433
  LINE_SAMPLES = 1779
  SAMPLE_TYPE = UNSIGNED_INTEGER
  SAMPLE_BITS = 8
  BANDS = 1
  BAND_STORAGE_TYPE = BAND_SEQUENTIAL
  MAXIMUM = 255
  MEAN = 124.67
  MINIMUM = 2
  STANDARD_DEVIATION = 33.9177
END_OBJECT = IMAGE
/* MAP OBJECT DEFINITIONS */
OBJECT = IMAGE_MAP_PROJECTION
  ^DATA_SET_MAP_PROJECTION_CATALOG= "DSMAP.CAT"
  A_AXIS_RADIUS = 3396.0
  B_AXIS_RADIUS = 3396.0
  C_AXIS_RADIUS = 3396.0
  CENTER_LATITUDE = 0.0
  CENTER_LONGITUDE = 45.0
  COORDINATE_SYSTEM_NAME = PLANETOGRAPHIC
  COORDINATE_SYSTEM_TYPE = "BODY-FIXED ROTATING"
  EASTERNMOST_LONGITUDE = 46.2566
  FIRST_STANDARD_PARALLEL = "N/A"
  LINE_FIRST_PIXEL = 1
  LINE_LAST_PIXEL = 11433
  LINE_PROJECTION_OFFSET = -32740.125
  MAP_PROJECTION_ROTATION = 0.0
  MAP_PROJECTION_TYPE = SINUSOIDAL
  MAP_RESOLUTION = 1185.42760773333
  MAP_SCALE = 0.05
  MAXIMUM_LATITUDE = -27.6222
  MINIMUM_LATITUDE = -37.2721
  POSITIVE_LONGITUDE_DIRECTION = EAST
  REFERENCE_LATITUDE = "N/A"
  REFERENCE_LONGITUDE = "N/A"
  SAMPLE_FIRST_PIXEL = 1
  SAMPLE_LAST_PIXEL = 1779
  SAMPLE_PROJECTION_OFFSET = 450.875
  SECOND_STANDARD_PARALLEL = "N/A"
  WESTERNMOST_LONGITUDE = 44.5673
END_OBJECT = IMAGE_MAP_PROJECTION
END
