PDS_VERSION_ID = PDS3
/* FILE DATA ELEMENTS */
RECORD_TYPE = UNDEFINED
/* POINTERS TO DATA OBJECTS */
^IMAGE = ("HN154_0009_RE4.TIF")
/* IDENTIFICATION DATA ELEMENTS */
DATA_SET_ID = "MEX-M-HRSC-4-REFDR-MAPPROJECT-EXT8-V4.0"
DATA_SET_NAME = "MARS EXPRESS HRSC MAP PROJECTED REFDR EXTENSION8 V4.0"
DETECTOR_ID = MEX_HRSC_RED
EVENT_TYPE = "MARS-REGIONAL-MAPPING-Im-Gl-Pf"
INSTRUMENT_HOST_ID = MEX
INSTRUMENT_HOST_NAME = "MARS EXPRESS"
INSTRUMENT_ID = HRSC
INSTRUMENT_NAME = "HIGH RESOLUTION STEREO CAMERA"
MISSION_NAME = "MARS EXPRESS"
MISSION_PHASE_NAME = ME_Phase_46
PROCESSING_LEVEL_ID = 4
PRODUCT_CREATION_TIME = 2023-01-28T22:22:56.000Z
PRODUCT_ID = "HN154_0009_RE4.TIF"
RELEASE_ID = 0004
REVISION_ID = 0000
/* QUALITY DATA ELEMENTS */
DATA_QUALITY_ID = 1
DATA_QUALITY_DESC = "Data calculated based on original SPICE kernels"
/* TIME DATA ELEMENTS */
SPACECRAFT_CLOCK_START_COUNT = "1/0599422689.24859"
SPACECRAFT_CLOCK_STOP_COUNT = "1/0599422942.64269"
START_TIME = 2022-04-30T18:18:49.358Z
STOP_TIME = 2022-04-30T18:21:49.381Z
/* ORBITAL DATA ELEMENTS */
ASCENDING_NODE_LONGITUDE = 142.49
MAXIMUM_RESOLUTION = 0.057
FOOTPRINT_POINT_LATITUDE = (-43.482,-43.5042,-43.5173,-43.5274, -43.5277,-43.4854,-43.0314,-42.8025, -42.574,-42.3448,-42.1158,-41.8848, -41.5431,-41.199,-40.9691,-40.7399, -40.5103,-40.2806,-40.0512,-39.8217, -39.5919,-39.3621,-39.1329,-38.9043, -38.6743,-38.4446,-38.2146,-37.9841, -37.752,-37.4009,-37.0563,-36.8266, -36.5968,-36.2542,-35.6873,-35.3421, -35.1111,-34.8812,-34.6495,-34.4184, -34.0761,-33.8462,-33.4575,-33.1833, -32.9096,-32.6347,-32.3611,-32.0857, -31.8113,-31.6743,-31.6515,-31.6371, -31.6239,-31.5899,-31.5892,-31.59, -32.0009,-32.4133,-32.6871,-32.9616, -33.2364,-33.5112,-33.7667,-34.2249, -34.4572,-34.8021,-35.0324,-35.3775, -35.6077,-35.953,-36.183,-36.4134, -36.6435,-36.8739,-37.1035,-37.3339, -37.5648,-37.9102,-38.1405,-38.4857, -38.7158,-39.0608,-39.291,-39.521, -39.7509,-40.0954,-40.325,-40.5548, -40.8998,-41.13,-41.3596,-41.5894, -41.8179,-42.047,-42.2758,-42.5049, -42.9629,-43.3081,-43.4233,-43.482)
FOOTPRINT_POINT_LONGITUDE = (348.341,347.679,347.187,346.706, 346.691,346.7,346.711,346.716,346.721, 346.727,346.732,346.737,346.743,346.75, 346.754,346.758,346.762,346.765,346.768 ,346.772,346.775,346.778,346.78,346.783 ,346.785,346.787,346.789,346.792, 346.794,346.798,346.8,346.801,346.802, 346.803,346.803,346.803,346.804,346.804 ,346.804,346.804,346.803,346.803, 346.802,346.801,346.799,346.798,346.797 ,346.795,346.794,346.793,346.792, 347.252,347.589,348.355,348.37,348.375, 348.377,348.377,348.378,348.379,348.38, 348.38,348.381,348.384,348.382,348.383, 348.384,348.385,348.385,348.386,348.387 ,348.387,348.388,348.388,348.389, 348.389,348.389,348.389,348.39,348.39, 348.39,348.391,348.391,348.391,348.391, 348.392,348.392,348.393,348.392,348.392 ,348.392,348.392,348.393,348.393, 348.394,348.394,348.394,348.392,348.391 ,348.341)
ORBIT_NUMBER = 23154
ORBITAL_ECCENTRICITY = 0.576
ORBITAL_INCLINATION = 87.01
ORBITAL_SEMIMAJOR_AXIS = 8794.93
PERIAPSIS_ALTITUDE = 342.05
PERIAPSIS_ARGUMENT_ANGLE = 312.73
PERIAPSIS_TIME = 2022-04-30T18:18:18.000Z
SPACECRAFT_ORIENTATION = (0.0,1.0,0.0)
^MEX_ORIENTATION_DESC = "MEX_ORIENTATION_DESC.TXT"
SPACECRAFT_POINTING_MODE = ACROSSTRACK
^MEX_POINTING_DESC = "MEX_POINTING_DESC.TXT"
RIGHT_ASCENSION = -1e+32
DECLINATION = -1e+32
OFFSET_ANGLE = -0.9
SPACECRAFT_SOLAR_DISTANCE = 2.09458e+08
TARGET_NAME = MARS
/* CAMERA DATA ELEMENTS */
DETECTOR_TEMPERATURE = 19.1861
FOCAL_PLANE_TEMPERATURE = 9.6028
INST_CMPRS_NAME = "DISCRETE COSINE TRANSFORMATION (DCT)"
INST_CMPRS_RATIO = 16.2662
INST_CMPRS_QUALITY = 0
INST_CMPRS_QUANTZ_TBL_ID = 0
INSTRUMENT_TEMPERATURE = 12.4574
LENS_TEMPERATURE = 10.0106
MACROPIXEL_SIZE = 4
MISSING_FRAMES = 0
PIXEL_SUBSAMPLING_FLAG = N
SIGNAL_CHAIN_ID = 2
/* RADIOMETRIC DATA ELEMENTS */
BANDWIDTH = 48.0
CENTER_FILTER_WAVELENGTH = 748.0
RADIANCE_OFFSET = 1.04621
RADIANCE_SCALING_FACTOR = 0.00298791
REFLECTANCE_SCALING_FACTOR = 0.000299148
MEX:REFLECTANCE_OFFSET = 0.104747
/* IMAGE OBJECT DEFINITIONS */
OBJECT = IMAGE
  INTERCHANGE_FORMAT = BINARY
  LINES = 14032
  LINE_SAMPLES = 1640
  SAMPLE_TYPE = UNSIGNED_INTEGER
  SAMPLE_BITS = 8
  BANDS = 1
  BAND_STORAGE_TYPE = BAND_SEQUENTIAL
  MAXIMUM = 255
  MEAN = 127.724
  MINIMUM = 1
  STANDARD_DEVIATION = 20.1969
END_OBJECT = IMAGE
/* MAP OBJECT DEFINITIONS */
OBJECT = IMAGE_MAP_PROJECTION
  ^DATA_SET_MAP_PROJECTION_CATALOG= "DSMAP.CAT"
  A_AXIS_RADIUS = 3396.0
  B_AXIS_RADIUS = 3396.0
  C_AXIS_RADIUS = 3396.0
  CENTER_LATITUDE = 0.0
  CENTER_LONGITUDE = 348.0
  COORDINATE_SYSTEM_NAME = PLANETOGRAPHIC
  COORDINATE_SYSTEM_TYPE = "BODY-FIXED ROTATING"
  EASTERNMOST_LONGITUDE = 348.394
  FIRST_STANDARD_PARALLEL = "N/A"
  LINE_FIRST_PIXEL = 1
  LINE_LAST_PIXEL = 14032
  LINE_PROJECTION_OFFSET = -37488.125
  MAP_PROJECTION_ROTATION = 0.0
  MAP_PROJECTION_TYPE = SINUSOIDAL
  MAP_RESOLUTION = 1185.42760773333
  MAP_SCALE = 0.05
  MAXIMUM_LATITUDE = -31.5892
  MINIMUM_LATITUDE = -43.5277
  POSITIVE_LONGITUDE_DIRECTION = EAST
  REFERENCE_LATITUDE = "N/A"
  REFERENCE_LONGITUDE = "N/A"
  SAMPLE_FIRST_PIXEL = 1
  SAMPLE_LAST_PIXEL = 1640
  SAMPLE_PROJECTION_OFFSET = 1247.875
  SECOND_STANDARD_PARALLEL = "N/A"
  WESTERNMOST_LONGITUDE = 346.691
END_OBJECT = IMAGE_MAP_PROJECTION
END
