PDS_VERSION_ID = PDS3
/* FILE DATA ELEMENTS */
RECORD_TYPE = UNDEFINED
/* POINTERS TO DATA OBJECTS */
^IMAGE = ("HN154_0009_P24.TIF")
/* IDENTIFICATION DATA ELEMENTS */
DATA_SET_ID = "MEX-M-HRSC-4-REFDR-MAPPROJECT-EXT8-V4.0"
DATA_SET_NAME = "MARS EXPRESS HRSC MAP PROJECTED REFDR EXTENSION8 V4.0"
DETECTOR_ID = MEX_HRSC_P2
EVENT_TYPE = "MARS-REGIONAL-MAPPING-Im-Gl-Pf"
INSTRUMENT_HOST_ID = MEX
INSTRUMENT_HOST_NAME = "MARS EXPRESS"
INSTRUMENT_ID = HRSC
INSTRUMENT_NAME = "HIGH RESOLUTION STEREO CAMERA"
MISSION_NAME = "MARS EXPRESS"
MISSION_PHASE_NAME = ME_Phase_46
PROCESSING_LEVEL_ID = 4
PRODUCT_CREATION_TIME = 2023-01-28T22:22:56.000Z
PRODUCT_ID = "HN154_0009_P24.TIF"
RELEASE_ID = 0004
REVISION_ID = 0000
/* QUALITY DATA ELEMENTS */
DATA_QUALITY_ID = 1
DATA_QUALITY_DESC = "Data calculated based on original SPICE kernels"
/* TIME DATA ELEMENTS */
SPACECRAFT_CLOCK_START_COUNT = "1/0599422689.24859"
SPACECRAFT_CLOCK_STOP_COUNT = "1/0599422942.64269"
START_TIME = 2022-04-30T18:18:54.705Z
STOP_TIME = 2022-04-30T18:21:55.076Z
/* ORBITAL DATA ELEMENTS */
ASCENDING_NODE_LONGITUDE = 142.49
MAXIMUM_RESOLUTION = 0.0281
FOOTPRINT_POINT_LATITUDE = (-43.4744,-43.4908,-43.5011,-43.5082, -43.5084,-43.4752,-43.1359,-42.7945, -42.4529,-42.225,-41.9951,-41.5404, -41.3126,-41.084,-40.8559,-40.6278, -40.3992,-40.171,-39.9429,-39.6003, -39.3719,-39.1439,-38.9165,-38.688, -38.4597,-38.2314,-38.0024,-37.7723, -37.4248,-37.1967,-36.9686,-36.7405, -36.2858,-35.7216,-35.3791,-35.1502, -34.9222,-34.6927,-34.2376,-33.9938, -33.7219,-33.4502,-33.0427,-32.7707, -32.3634,-32.0909,-31.8192,-31.6832, -31.6533,-31.6439,-31.6331,-31.6202, -31.6034,-31.6027,-31.603,-32.0101, -32.4185,-32.6899,-32.9619,-33.2342, -33.5066,-33.7789,-34.0494,-34.2765, -34.5063,-34.8487,-35.077,-35.4195, -35.6479,-35.8764,-36.219,-36.4475, -36.6761,-36.9048,-37.1329,-37.4764, -37.7058,-37.9339,-38.1627,-38.3913, -38.62,-38.9628,-39.306,-39.5346, -39.7631,-40.1058,-40.3342,-40.5628, -40.7915,-41.0203,-41.3633,-41.5918, -41.9335,-42.1616,-42.3895,-42.6178, -42.9596,-43.3031,-43.4177,-43.4744)
FOOTPRINT_POINT_LONGITUDE = (348.339,347.715,347.203,346.702, 346.687,346.694,346.702,346.71,346.717, 346.722,346.728,346.736,346.741,346.745 ,346.749,346.752,346.756,346.759, 346.763,346.767,346.77,346.773,346.775, 346.777,346.779,346.781,346.784,346.786 ,346.79,346.791,346.792,346.793,346.794 ,346.794,346.795,346.795,346.795, 346.795,346.795,346.794,346.793,346.793 ,346.791,346.79,346.787,346.786,346.784 ,346.783,346.783,347.188,347.54,347.913 ,348.355,348.371,348.376,348.378, 348.378,348.38,348.38,348.38,348.381, 348.381,348.383,348.385,348.383,348.384 ,348.384,348.385,348.386,348.386, 348.387,348.387,348.388,348.388,348.389 ,348.389,348.388,348.389,348.389, 348.389,348.389,348.39,348.39,348.39, 348.39,348.391,348.391,348.391,348.391, 348.391,348.39,348.39,348.391,348.391, 348.392,348.391,348.392,348.389,348.388 ,348.339)
ORBIT_NUMBER = 23154
ORBITAL_ECCENTRICITY = 0.576
ORBITAL_INCLINATION = 87.01
ORBITAL_SEMIMAJOR_AXIS = 8794.93
PERIAPSIS_ALTITUDE = 342.05
PERIAPSIS_ARGUMENT_ANGLE = 312.73
PERIAPSIS_TIME = 2022-04-30T18:18:18.000Z
SPACECRAFT_ORIENTATION = (0.0,1.0,0.0)
^MEX_ORIENTATION_DESC = "MEX_ORIENTATION_DESC.TXT"
SPACECRAFT_POINTING_MODE = ACROSSTRACK
^MEX_POINTING_DESC = "MEX_POINTING_DESC.TXT"
RIGHT_ASCENSION = -1e+32
DECLINATION = -1e+32
OFFSET_ANGLE = -0.9
SPACECRAFT_SOLAR_DISTANCE = 2.09458e+08
TARGET_NAME = MARS
/* CAMERA DATA ELEMENTS */
DETECTOR_TEMPERATURE = 19.1861
FOCAL_PLANE_TEMPERATURE = 9.6028
INST_CMPRS_NAME = "DISCRETE COSINE TRANSFORMATION (DCT)"
INST_CMPRS_RATIO = 6.14956
INST_CMPRS_QUALITY = 0
INST_CMPRS_QUANTZ_TBL_ID = 0
INSTRUMENT_TEMPERATURE = 12.4574
LENS_TEMPERATURE = 10.0106
MACROPIXEL_SIZE = 2
MISSING_FRAMES = 0
PIXEL_SUBSAMPLING_FLAG = N
SIGNAL_CHAIN_ID = 3
/* RADIOMETRIC DATA ELEMENTS */
BANDWIDTH = 177.0
CENTER_FILTER_WAVELENGTH = 676.5
RADIANCE_OFFSET = 3.72342
RADIANCE_SCALING_FACTOR = 0.0106552
REFLECTANCE_SCALING_FACTOR = 0.000247863
MEX:REFLECTANCE_OFFSET = 0.0866145
/* IMAGE OBJECT DEFINITIONS */
OBJECT = IMAGE
  INTERCHANGE_FORMAT = BINARY
  LINES = 28064
  LINE_SAMPLES = 3280
  SAMPLE_TYPE = UNSIGNED_INTEGER
  SAMPLE_BITS = 8
  BANDS = 1
  BAND_STORAGE_TYPE = BAND_SEQUENTIAL
  MAXIMUM = 255
  MEAN = 132.537
  MINIMUM = 1
  STANDARD_DEVIATION = 20.6289
END_OBJECT = IMAGE
/* MAP OBJECT DEFINITIONS */
OBJECT = IMAGE_MAP_PROJECTION
  ^DATA_SET_MAP_PROJECTION_CATALOG= "DSMAP.CAT"
  A_AXIS_RADIUS = 3396.0
  B_AXIS_RADIUS = 3396.0
  C_AXIS_RADIUS = 3396.0
  CENTER_LATITUDE = 0.0
  CENTER_LONGITUDE = 348.0
  COORDINATE_SYSTEM_NAME = PLANETOGRAPHIC
  COORDINATE_SYSTEM_TYPE = "BODY-FIXED ROTATING"
  EASTERNMOST_LONGITUDE = 348.392
  FIRST_STANDARD_PARALLEL = "N/A"
  LINE_FIRST_PIXEL = 1
  LINE_LAST_PIXEL = 28064
  LINE_PROJECTION_OFFSET = -74975.75
  MAP_PROJECTION_ROTATION = 0.0
  MAP_PROJECTION_TYPE = SINUSOIDAL
  MAP_RESOLUTION = 2370.85521546667
  MAP_SCALE = 0.025
  MAXIMUM_LATITUDE = -31.6027
  MINIMUM_LATITUDE = -43.5084
  POSITIVE_LONGITUDE_DIRECTION = EAST
  REFERENCE_LATITUDE = "N/A"
  REFERENCE_LONGITUDE = "N/A"
  SAMPLE_FIRST_PIXEL = 1
  SAMPLE_LAST_PIXEL = 3280
  SAMPLE_PROJECTION_OFFSET = 2496.25
  SECOND_STANDARD_PARALLEL = "N/A"
  WESTERNMOST_LONGITUDE = 346.687
END_OBJECT = IMAGE_MAP_PROJECTION
END
