PDS_VERSION_ID = PDS3
/* FILE DATA ELEMENTS */
RECORD_TYPE = UNDEFINED
/* POINTERS TO DATA OBJECTS */
^IMAGE = ("HN154_0009_IR4.TIF")
/* IDENTIFICATION DATA ELEMENTS */
DATA_SET_ID = "MEX-M-HRSC-4-REFDR-MAPPROJECT-EXT8-V4.0"
DATA_SET_NAME = "MARS EXPRESS HRSC MAP PROJECTED REFDR EXTENSION8 V4.0"
DETECTOR_ID = MEX_HRSC_IR
EVENT_TYPE = "MARS-REGIONAL-MAPPING-Im-Gl-Pf"
INSTRUMENT_HOST_ID = MEX
INSTRUMENT_HOST_NAME = "MARS EXPRESS"
INSTRUMENT_ID = HRSC
INSTRUMENT_NAME = "HIGH RESOLUTION STEREO CAMERA"
MISSION_NAME = "MARS EXPRESS"
MISSION_PHASE_NAME = ME_Phase_46
PROCESSING_LEVEL_ID = 4
PRODUCT_CREATION_TIME = 2023-01-28T22:22:56.000Z
PRODUCT_ID = "HN154_0009_IR4.TIF"
RELEASE_ID = 0004
REVISION_ID = 0000
/* QUALITY DATA ELEMENTS */
DATA_QUALITY_ID = 1
DATA_QUALITY_DESC = "Data calculated based on original SPICE kernels"
/* TIME DATA ELEMENTS */
SPACECRAFT_CLOCK_START_COUNT = "1/0599422689.24859"
SPACECRAFT_CLOCK_STOP_COUNT = "1/0599422942.64269"
START_TIME = 2022-04-30T18:19:41.315Z
STOP_TIME = 2022-04-30T18:22:48.994Z
/* ORBITAL DATA ELEMENTS */
ASCENDING_NODE_LONGITUDE = 142.49
MAXIMUM_RESOLUTION = 0.0578
FOOTPRINT_POINT_LATITUDE = (-43.4317,-43.4057,-43.3846,-43.3625, -43.3618,-43.4004,-43.0651,-42.8437, -42.5116,-42.291,-41.9614,-41.7385, -41.5192,-41.2986,-41.0791,-40.859, -40.6394,-40.3105,-40.0912,-39.8721, -39.6534,-39.4348,-39.1065,-38.8876, -38.6698,-38.452,-38.0181,-37.5915, -37.011,-36.753,-36.3661,-36.1065, -35.8438,-35.5861,-35.3309,-35.0762, -34.8206,-34.4406,-34.1845,-33.9305, -33.6769,-33.2968,-32.9174,-32.6657, -32.2878,-32.038,-31.7873,-31.6623, -31.5947,-31.6142,-31.63,-31.6449, -31.6453,-31.6464,-31.8979,-32.2748, -32.5268,-32.7798,-33.0323,-33.2851, -33.5383,-33.7917,-34.0471,-34.4286, -34.6842,-34.9393,-35.1954,-35.4516, -35.7083,-36.094,-36.3513,-36.6091, -36.8671,-37.1257,-37.4805,-37.9142, -38.1315,-38.3493,-38.5673,-38.8947, -39.113,-39.3315,-39.5504,-39.7695, -39.9896,-40.2087,-40.4284,-40.6482, -40.9778,-41.308,-41.5283,-41.8604, -42.0817,-42.3033,-42.6356,-42.8575, -43.0794,-43.2999,-43.4104,-43.4317)
FOOTPRINT_POINT_LONGITUDE = (348.354,347.685,347.188,346.703, 346.688,346.694,346.701,346.705,346.712 ,346.716,346.723,346.726,346.73,346.733 ,346.736,346.74,346.743,346.747,346.749 ,346.752,346.754,346.756,346.759,346.76 ,346.762,346.764,346.766,346.77,346.772 ,346.772,346.772,346.772,346.771,346.77 ,346.77,346.77,346.769,346.768,346.766, 346.765,346.764,346.761,346.758,346.756 ,346.753,346.751,346.748,346.747, 346.746,347.374,347.876,348.405,348.421 ,348.427,348.427,348.426,348.426, 348.426,348.426,348.425,348.424,348.424 ,348.425,348.424,348.424,348.423, 348.423,348.423,348.423,348.422,348.422 ,348.422,348.421,348.421,348.421, 348.419,348.419,348.418,348.418,348.417 ,348.417,348.416,348.416,348.415, 348.416,348.415,348.414,348.414,348.412 ,348.411,348.41,348.41,348.41,348.41, 348.409,348.408,348.408,348.405,348.404 ,348.354)
ORBIT_NUMBER = 23154
ORBITAL_ECCENTRICITY = 0.576
ORBITAL_INCLINATION = 87.01
ORBITAL_SEMIMAJOR_AXIS = 8794.93
PERIAPSIS_ALTITUDE = 342.05
PERIAPSIS_ARGUMENT_ANGLE = 312.73
PERIAPSIS_TIME = 2022-04-30T18:18:18.000Z
SPACECRAFT_ORIENTATION = (0.0,1.0,0.0)
^MEX_ORIENTATION_DESC = "MEX_ORIENTATION_DESC.TXT"
SPACECRAFT_POINTING_MODE = ACROSSTRACK
^MEX_POINTING_DESC = "MEX_POINTING_DESC.TXT"
RIGHT_ASCENSION = -1e+32
DECLINATION = -1e+32
OFFSET_ANGLE = -0.9
SPACECRAFT_SOLAR_DISTANCE = 2.09458e+08
TARGET_NAME = MARS
/* CAMERA DATA ELEMENTS */
DETECTOR_TEMPERATURE = 18.3705
FOCAL_PLANE_TEMPERATURE = 9.6028
INST_CMPRS_NAME = "DISCRETE COSINE TRANSFORMATION (DCT)"
INST_CMPRS_RATIO = 9.44422
INST_CMPRS_QUALITY = 0
INST_CMPRS_QUANTZ_TBL_ID = 0
INSTRUMENT_TEMPERATURE = 12.4574
LENS_TEMPERATURE = 10.0106
MACROPIXEL_SIZE = 4
MISSING_FRAMES = 0
PIXEL_SUBSAMPLING_FLAG = N
SIGNAL_CHAIN_ID = 2
/* RADIOMETRIC DATA ELEMENTS */
BANDWIDTH = 81.0
CENTER_FILTER_WAVELENGTH = 955.5
RADIANCE_OFFSET = 0.856802
RADIANCE_SCALING_FACTOR = 0.00278635
REFLECTANCE_SCALING_FACTOR = 0.000263727
MEX:REFLECTANCE_OFFSET = 0.081096
/* IMAGE OBJECT DEFINITIONS */
OBJECT = IMAGE
  INTERCHANGE_FORMAT = BINARY
  LINES = 14032
  LINE_SAMPLES = 1640
  SAMPLE_TYPE = UNSIGNED_INTEGER
  SAMPLE_BITS = 8
  BANDS = 1
  BAND_STORAGE_TYPE = BAND_SEQUENTIAL
  MAXIMUM = 255
  MEAN = 124.7
  MINIMUM = 1
  STANDARD_DEVIATION = 23.1877
END_OBJECT = IMAGE
/* MAP OBJECT DEFINITIONS */
OBJECT = IMAGE_MAP_PROJECTION
  ^DATA_SET_MAP_PROJECTION_CATALOG= "DSMAP.CAT"
  A_AXIS_RADIUS = 3396.0
  B_AXIS_RADIUS = 3396.0
  C_AXIS_RADIUS = 3396.0
  CENTER_LATITUDE = 0.0
  CENTER_LONGITUDE = 348.0
  COORDINATE_SYSTEM_NAME = PLANETOGRAPHIC
  COORDINATE_SYSTEM_TYPE = "BODY-FIXED ROTATING"
  EASTERNMOST_LONGITUDE = 348.427
  FIRST_STANDARD_PARALLEL = "N/A"
  LINE_FIRST_PIXEL = 1
  LINE_LAST_PIXEL = 14032
  LINE_PROJECTION_OFFSET = -37488.125
  MAP_PROJECTION_ROTATION = 0.0
  MAP_PROJECTION_TYPE = SINUSOIDAL
  MAP_RESOLUTION = 1185.42760773333
  MAP_SCALE = 0.05
  MAXIMUM_LATITUDE = -31.5947
  MINIMUM_LATITUDE = -43.4317
  POSITIVE_LONGITUDE_DIRECTION = EAST
  REFERENCE_LATITUDE = "N/A"
  REFERENCE_LONGITUDE = "N/A"
  SAMPLE_FIRST_PIXEL = 1
  SAMPLE_LAST_PIXEL = 1640
  SAMPLE_PROJECTION_OFFSET = 1247.875
  SECOND_STANDARD_PARALLEL = "N/A"
  WESTERNMOST_LONGITUDE = 346.688
END_OBJECT = IMAGE_MAP_PROJECTION
END
