PDS_VERSION_ID = PDS3
/* FILE DATA ELEMENTS */
RECORD_TYPE = UNDEFINED
/* POINTERS TO DATA OBJECTS */
^IMAGE = ("HN152_0001_P24.TIF")
/* IDENTIFICATION DATA ELEMENTS */
DATA_SET_ID = "MEX-M-HRSC-4-REFDR-MAPPROJECT-EXT8-V4.0"
DATA_SET_NAME = "MARS EXPRESS HRSC MAP PROJECTED REFDR EXTENSION8 V4.0"
DETECTOR_ID = MEX_HRSC_P2
EVENT_TYPE = "MARS-REGIONAL-CARTOGRAPHY-Te-Gl-Pf"
INSTRUMENT_HOST_ID = MEX
INSTRUMENT_HOST_NAME = "MARS EXPRESS"
INSTRUMENT_ID = HRSC
INSTRUMENT_NAME = "HIGH RESOLUTION STEREO CAMERA"
MISSION_NAME = "MARS EXPRESS"
MISSION_PHASE_NAME = ME_Phase_46
PROCESSING_LEVEL_ID = 4
PRODUCT_CREATION_TIME = 2023-01-28T22:22:56.000Z
PRODUCT_ID = "HN152_0001_P24.TIF"
RELEASE_ID = 0004
REVISION_ID = 0000
/* QUALITY DATA ELEMENTS */
DATA_QUALITY_ID = 1
DATA_QUALITY_DESC = "Data calculated based on original SPICE kernels"
/* TIME DATA ELEMENTS */
SPACECRAFT_CLOCK_START_COUNT = "1/0599371967.25674"
SPACECRAFT_CLOCK_STOP_COUNT = "1/0599372343.65314"
START_TIME = 2022-04-30T04:13:39.574Z
STOP_TIME = 2022-04-30T04:18:44.724Z
/* ORBITAL DATA ELEMENTS */
ASCENDING_NODE_LONGITUDE = 142.51
MAXIMUM_RESOLUTION = 0.0288
FOOTPRINT_POINT_LATITUDE = (-70.5077,-70.4552,-70.396,-70.3232, -70.3207,-70.2514,-69.8278,-69.4055, -68.9879,-68.5708,-68.1604,-67.7487, -67.1414,-66.7344,-66.1391,-65.7416, -65.1532,-64.76,-64.3751,-63.989, -63.598,-63.0351,-62.6547,-62.0911, -61.7188,-61.3455,-60.9711,-60.5963, -60.2204,-59.8435,-59.466,-59.0874, -58.7083,-58.3281,-57.9471,-57.5658, -57.1833,-56.8021,-56.4176,-56.0482, -55.0802,-54.4327,-54.1033,-53.6124, -53.2875,-52.962,-52.3152,-51.8233, -51.6584,-51.6575,-51.6724,-51.6961, -51.6962,-51.6967,-52.0256,-52.3505, -52.6806,-53.1717,-53.4991,-53.8253, -54.3135,-54.6393,-54.9654,-55.2895, -55.6141,-55.9382,-56.4744,-56.8618, -57.4365,-57.8213,-58.201,-58.5852, -59.157,-59.5373,-59.9171,-60.2958, -60.674,-61.0518,-61.4285,-61.9922, -62.3673,-62.9403,-63.3248,-63.7062, -64.0973,-64.4815,-65.0714,-65.468, -65.8642,-66.2685,-66.671,-67.0782, -67.4886,-68.1024,-68.7288,-69.3721, -69.7972,-70.2264,-70.4417,-70.5077)
FOOTPRINT_POINT_LONGITUDE = (189.932,188.107,186.589,185.088, 185.041,185.001,185.224,185.437,185.637 ,185.828,186.008,186.181,186.421, 186.573,186.787,186.922,187.112,187.232 ,187.346,187.456,187.56,187.711,187.806 ,187.94,188.026,188.108,188.188,188.266 ,188.341,188.414,188.484,188.552, 188.618,188.682,188.744,188.805,188.863 ,188.92,188.974,189.026,189.152,189.231 ,189.268,189.321,189.357,189.392,189.46 ,189.506,189.521,189.521,190.131, 191.477,191.497,191.504,191.493,191.486 ,191.473,191.456,191.444,191.433, 191.416,191.403,191.389,191.377,191.363 ,191.349,191.323,191.303,191.277, 191.257,191.241,191.218,191.187,191.165 ,191.142,191.119,191.095,191.07,191.044 ,191.004,190.976,190.93,190.896,190.865 ,190.829,190.803,190.745,190.707, 190.667,190.622,190.581,190.532,190.485 ,190.418,190.335,190.23,190.168,190.105 ,190.07,189.932)
ORBIT_NUMBER = 23152
ORBITAL_ECCENTRICITY = 0.576
ORBITAL_INCLINATION = 87.01
ORBITAL_SEMIMAJOR_AXIS = 8794.73
PERIAPSIS_ALTITUDE = 342.15
PERIAPSIS_ARGUMENT_ANGLE = 313.09
PERIAPSIS_TIME = 2022-04-30T04:20:20.000Z
SPACECRAFT_ORIENTATION = (0.0,1.0,0.0)
^MEX_ORIENTATION_DESC = "MEX_ORIENTATION_DESC.TXT"
SPACECRAFT_POINTING_MODE = ACROSSTRACK
^MEX_POINTING_DESC = "MEX_POINTING_DESC.TXT"
RIGHT_ASCENSION = -1e+32
DECLINATION = -1e+32
OFFSET_ANGLE = -0.269
SPACECRAFT_SOLAR_DISTANCE = 2.09519e+08
TARGET_NAME = MARS
/* CAMERA DATA ELEMENTS */
DETECTOR_TEMPERATURE = 18.9822
FOCAL_PLANE_TEMPERATURE = 8.9911
INST_CMPRS_NAME = "DISCRETE COSINE TRANSFORMATION (DCT)"
INST_CMPRS_RATIO = 8.4582
INST_CMPRS_QUALITY = 0
INST_CMPRS_QUANTZ_TBL_ID = 0
INSTRUMENT_TEMPERATURE = 12.0496
LENS_TEMPERATURE = 9.3989
MACROPIXEL_SIZE = 2
MISSING_FRAMES = 0
PIXEL_SUBSAMPLING_FLAG = N
SIGNAL_CHAIN_ID = 3
/* RADIOMETRIC DATA ELEMENTS */
BANDWIDTH = 177.0
CENTER_FILTER_WAVELENGTH = 676.5
RADIANCE_OFFSET = 3.59613
RADIANCE_SCALING_FACTOR = 0.026957
REFLECTANCE_SCALING_FACTOR = 0.000627449
MEX:REFLECTANCE_OFFSET = 0.0837035
/* IMAGE OBJECT DEFINITIONS */
OBJECT = IMAGE
  INTERCHANGE_FORMAT = BINARY
  LINES = 44548
  LINE_SAMPLES = 6106
  SAMPLE_TYPE = UNSIGNED_INTEGER
  SAMPLE_BITS = 8
  BANDS = 1
  BAND_STORAGE_TYPE = BAND_SEQUENTIAL
  MAXIMUM = 255
  MEAN = 72.4609
  MINIMUM = 1
  STANDARD_DEVIATION = 57.1942
END_OBJECT = IMAGE
/* MAP OBJECT DEFINITIONS */
OBJECT = IMAGE_MAP_PROJECTION
  ^DATA_SET_MAP_PROJECTION_CATALOG= "DSMAP.CAT"
  A_AXIS_RADIUS = 3396.0
  B_AXIS_RADIUS = 3396.0
  C_AXIS_RADIUS = 3396.0
  CENTER_LATITUDE = 0.0
  CENTER_LONGITUDE = 190.0
  COORDINATE_SYSTEM_NAME = PLANETOGRAPHIC
  COORDINATE_SYSTEM_TYPE = "BODY-FIXED ROTATING"
  EASTERNMOST_LONGITUDE = 191.504
  FIRST_STANDARD_PARALLEL = "N/A"
  LINE_FIRST_PIXEL = 1
  LINE_LAST_PIXEL = 44548
  LINE_PROJECTION_OFFSET = -122435.25
  MAP_PROJECTION_ROTATION = 0.0
  MAP_PROJECTION_TYPE = SINUSOIDAL
  MAP_RESOLUTION = 2370.85521546667
  MAP_SCALE = 0.025
  MAXIMUM_LATITUDE = -51.6575
  MINIMUM_LATITUDE = -70.5077
  POSITIVE_LONGITUDE_DIRECTION = EAST
  REFERENCE_LATITUDE = "N/A"
  REFERENCE_LONGITUDE = "N/A"
  SAMPLE_FIRST_PIXEL = 1
  SAMPLE_LAST_PIXEL = 6106
  SAMPLE_PROJECTION_OFFSET = 3915.25
  SECOND_STANDARD_PARALLEL = "N/A"
  WESTERNMOST_LONGITUDE = 185.001
END_OBJECT = IMAGE_MAP_PROJECTION
END
