PDS_VERSION_ID = PDS3
/* FILE DATA ELEMENTS */
RECORD_TYPE = UNDEFINED
/* POINTERS TO DATA OBJECTS */
^IMAGE = ("HN147_0000_RE4.TIF")
/* IDENTIFICATION DATA ELEMENTS */
DATA_SET_ID = "MEX-M-HRSC-4-REFDR-MAPPROJECT-EXT8-V4.0"
DATA_SET_NAME = "MARS EXPRESS HRSC MAP PROJECTED REFDR EXTENSION8 V4.0"
DETECTOR_ID = MEX_HRSC_RED
EVENT_TYPE = "MARS-REGIONAL-MAPPING-Lc-Eb-La"
INSTRUMENT_HOST_ID = MEX
INSTRUMENT_HOST_NAME = "MARS EXPRESS"
INSTRUMENT_ID = HRSC
INSTRUMENT_NAME = "HIGH RESOLUTION STEREO CAMERA"
MISSION_NAME = "MARS EXPRESS"
MISSION_PHASE_NAME = ME_Phase_46
PROCESSING_LEVEL_ID = 4
PRODUCT_CREATION_TIME = 2023-01-28T22:22:56.000Z
PRODUCT_ID = "HN147_0000_RE4.TIF"
RELEASE_ID = 0004
REVISION_ID = 0000
/* QUALITY DATA ELEMENTS */
DATA_QUALITY_ID = 1
DATA_QUALITY_DESC = "Data calculated based on original SPICE kernels"
/* TIME DATA ELEMENTS */
SPACECRAFT_CLOCK_START_COUNT = "1/0599246863.25696"
SPACECRAFT_CLOCK_STOP_COUNT = "1/0599247091.05690"
START_TIME = 2022-04-28T17:28:23.544Z
STOP_TIME = 2022-04-28T17:30:44.093Z
/* ORBITAL DATA ELEMENTS */
ASCENDING_NODE_LONGITUDE = 142.61
MAXIMUM_RESOLUTION = 0.0616
FOOTPRINT_POINT_LATITUDE = (-32.1109,-32.1009,-32.0903,-32.079, -32.0669,-32.0541,-32.0316,-32.0307, -32.0001,-31.7266,-31.5428,-31.1805, -30.9976,-30.8149,-30.6324,-30.3589, -30.1771,-29.9946,-29.6318,-29.4496, -29.1767,-28.9034,-28.7216,-28.4493, -28.2673,-28.0855,-27.7226,-27.5407, -27.3591,-27.0869,-26.7244,-26.4524, -26.2711,-25.909,-25.5467,-25.3622, -25.1752,-24.8954,-24.6175,-24.4319, -24.2466,-24.0583,-23.8678,-23.5828, -23.3926,-23.2028,-23.0132,-22.9182, -22.8235,-22.8358,-22.8454,-22.8622, -22.8718,-22.8819,-22.8895,-22.8902, -22.8915,-23.1788,-23.3692,-23.655, -23.9397,-24.1297,-24.4111,-24.5976, -24.7835,-24.9697,-25.2486,-25.4334, -25.7093,-25.891,-26.0723,-26.2538, -26.5266,-26.7084,-27.0706,-27.2526, -27.4347,-27.6174,-27.8865,-28.068, -28.2523,-28.528,-28.8014,-29.0747, -29.2572,-29.4393,-29.7121,-29.895, -30.0775,-30.2606,-30.4434,-30.7171, -30.8998,-31.0821,-31.2647,-31.4472, -31.6299,-31.9047,-31.9946,-32.1109)
FOOTPRINT_POINT_LONGITUDE = (341.182,340.96,340.736,340.509,340.281 ,340.051,339.671,339.656,339.626, 339.631,339.633,339.641,339.644,339.646 ,339.648,339.652,339.655,339.656, 339.662,339.664,339.666,339.669,339.67, 339.673,339.674,339.675,339.677,339.678 ,339.679,339.68,339.681,339.682,339.682 ,339.682,339.682,339.682,339.68,339.679 ,339.678,339.678,339.677,339.676, 339.675,339.674,339.672,339.671,339.67, 339.669,339.669,339.937,340.142,340.546 ,340.808,341.067,341.309,341.324,341.33 ,341.326,341.324,341.32,341.316,341.314 ,341.31,341.308,341.305,341.303,341.299 ,341.296,341.292,341.289,341.287, 341.284,341.28,341.277,341.271,341.269, 341.266,341.263,341.258,341.255,341.252 ,341.248,341.243,341.238,341.235, 341.231,341.226,341.223,341.22,341.216, 341.213,341.207,341.204,341.2,341.196, 341.192,341.189,341.183,341.181, 341.182)
ORBIT_NUMBER = 23147
ORBITAL_ECCENTRICITY = 0.576
ORBITAL_INCLINATION = 87.01
ORBITAL_SEMIMAJOR_AXIS = 8796.37
PERIAPSIS_ALTITUDE = 342.19
PERIAPSIS_ARGUMENT_ANGLE = 313.92
PERIAPSIS_TIME = 2022-04-28T17:25:17.000Z
SPACECRAFT_ORIENTATION = (0.0,1.0,0.0)
^MEX_ORIENTATION_DESC = "MEX_ORIENTATION_DESC.TXT"
SPACECRAFT_POINTING_MODE = ACROSSTRACK
^MEX_POINTING_DESC = "MEX_POINTING_DESC.TXT"
RIGHT_ASCENSION = -1e+32
DECLINATION = -1e+32
OFFSET_ANGLE = 0.808
SPACECRAFT_SOLAR_DISTANCE = 2.09676e+08
TARGET_NAME = MARS
/* CAMERA DATA ELEMENTS */
DETECTOR_TEMPERATURE = 18.7783
FOCAL_PLANE_TEMPERATURE = 8.1755
INST_CMPRS_NAME = "DISCRETE COSINE TRANSFORMATION (DCT)"
INST_CMPRS_RATIO = 10.2994
INST_CMPRS_QUALITY = 0
INST_CMPRS_QUANTZ_TBL_ID = 0
INSTRUMENT_TEMPERATURE = 11.0301
LENS_TEMPERATURE = 8.5833
MACROPIXEL_SIZE = 4
MISSING_FRAMES = 0
PIXEL_SUBSAMPLING_FLAG = N
SIGNAL_CHAIN_ID = 2
/* RADIOMETRIC DATA ELEMENTS */
BANDWIDTH = 48.0
CENTER_FILTER_WAVELENGTH = 748.0
RADIANCE_OFFSET = 1.06363
RADIANCE_SCALING_FACTOR = 0.0026359
REFLECTANCE_SCALING_FACTOR = 0.000264455
MEX:REFLECTANCE_OFFSET = 0.106712
/* IMAGE OBJECT DEFINITIONS */
OBJECT = IMAGE
  INTERCHANGE_FORMAT = BINARY
  LINES = 10881
  LINE_SAMPLES = 1891
  SAMPLE_TYPE = UNSIGNED_INTEGER
  SAMPLE_BITS = 8
  BANDS = 1
  BAND_STORAGE_TYPE = BAND_SEQUENTIAL
  MAXIMUM = 255
  MEAN = 145.939
  MINIMUM = 1
  STANDARD_DEVIATION = 22.223
END_OBJECT = IMAGE
/* MAP OBJECT DEFINITIONS */
OBJECT = IMAGE_MAP_PROJECTION
  ^DATA_SET_MAP_PROJECTION_CATALOG= "DSMAP.CAT"
  A_AXIS_RADIUS = 3396.0
  B_AXIS_RADIUS = 3396.0
  C_AXIS_RADIUS = 3396.0
  CENTER_LATITUDE = 0.0
  CENTER_LONGITUDE = 340.0
  COORDINATE_SYSTEM_NAME = PLANETOGRAPHIC
  COORDINATE_SYSTEM_TYPE = "BODY-FIXED ROTATING"
  EASTERNMOST_LONGITUDE = 341.33
  FIRST_STANDARD_PARALLEL = "N/A"
  LINE_FIRST_PIXEL = 1
  LINE_LAST_PIXEL = 10881
  LINE_PROJECTION_OFFSET = -27105.125
  MAP_PROJECTION_ROTATION = 0.0
  MAP_PROJECTION_TYPE = SINUSOIDAL
  MAP_RESOLUTION = 1185.42760773333
  MAP_SCALE = 0.05
  MAXIMUM_LATITUDE = -22.8235
  MINIMUM_LATITUDE = -32.1109
  POSITIVE_LONGITUDE_DIRECTION = EAST
  REFERENCE_LATITUDE = "N/A"
  REFERENCE_LONGITUDE = "N/A"
  SAMPLE_FIRST_PIXEL = 1
  SAMPLE_LAST_PIXEL = 1891
  SAMPLE_PROJECTION_OFFSET = 397.375
  SECOND_STANDARD_PARALLEL = "N/A"
  WESTERNMOST_LONGITUDE = 339.626
END_OBJECT = IMAGE_MAP_PROJECTION
END
