PDS_VERSION_ID = PDS3
/* FILE DATA ELEMENTS */
RECORD_TYPE = UNDEFINED
/* POINTERS TO DATA OBJECTS */
^IMAGE = ("HN139_0000_S14.TIF")
/* IDENTIFICATION DATA ELEMENTS */
DATA_SET_ID = "MEX-M-HRSC-4-REFDR-MAPPROJECT-EXT8-V4.0"
DATA_SET_NAME = "MARS EXPRESS HRSC MAP PROJECTED REFDR EXTENSION8 V4.0"
DETECTOR_ID = MEX_HRSC_S1
EVENT_TYPE = "MARS-REGIONAL-MAPPING-Fl-Gl-Pf"
INSTRUMENT_HOST_ID = MEX
INSTRUMENT_HOST_NAME = "MARS EXPRESS"
INSTRUMENT_ID = HRSC
INSTRUMENT_NAME = "HIGH RESOLUTION STEREO CAMERA"
MISSION_NAME = "MARS EXPRESS"
MISSION_PHASE_NAME = ME_Phase_46
PROCESSING_LEVEL_ID = 4
PRODUCT_CREATION_TIME = 2023-01-28T22:22:56.000Z
PRODUCT_ID = "HN139_0000_S14.TIF"
RELEASE_ID = 0004
REVISION_ID = 0000
/* QUALITY DATA ELEMENTS */
DATA_QUALITY_ID = 1
DATA_QUALITY_DESC = "Data calculated based on original SPICE kernels"
/* TIME DATA ELEMENTS */
SPACECRAFT_CLOCK_START_COUNT = "1/0599045367.25681"
SPACECRAFT_CLOCK_STOP_COUNT = "1/0599045645.48272"
START_TIME = 2022-04-26T09:31:10.296Z
STOP_TIME = 2022-04-26T09:34:38.278Z
/* ORBITAL DATA ELEMENTS */
ASCENDING_NODE_LONGITUDE = 142.75
MAXIMUM_RESOLUTION = 0.0295
FOOTPRINT_POINT_LATITUDE = (-55.4117,-55.376,-55.3435,-55.3088, -55.3077,-55.4027,-55.1287,-54.718, -54.4438,-54.0335,-53.7641,-53.491, -53.0815,-52.8085,-52.5362,-52.2637, -51.9905,-51.5806,-51.3079,-50.8974, -50.6235,-50.2146,-49.9415,-49.6682, -49.3947,-48.9854,-48.7126,-48.3039, -48.0319,-47.6235,-47.3506,-47.0782, -46.8071,-46.5351,-46.264,-45.9935, -45.7225,-45.4499,-45.1765,-44.907, -44.638,-44.3695,-44.1,-43.6961, -43.2911,-43.0223,-42.6191,-42.2173, -41.9493,-41.8158,-41.7962,-41.8305, -41.8503,-41.8731,-41.8738,-41.8745, -42.143,-42.6789,-42.9476,-43.2176, -43.6222,-43.892,-44.2961,-44.5668, -44.8388,-45.109,-45.38,-45.7868, -46.1945,-46.4666,-46.7378,-47.011, -47.2831,-47.5559,-47.8291,-48.1014, -48.5113,-48.922,-49.332,-49.6054, -49.8779,-50.1524,-50.5638,-50.838, -51.2485,-51.5232,-51.7939,-52.0677, -52.4751,-52.7448,-53.0221,-53.2966, -53.7076,-54.1131,-54.3846,-54.658, -55.0616,-55.3461,-55.4844,-55.4117)
FOOTPRINT_POINT_LONGITUDE = (79.9901,79.1657,78.4888,77.8265,77.806 ,77.8101,77.8368,77.8756,77.9006, 77.9371,77.9611,77.9841,78.0174,78.0389 ,78.06,78.0804,78.1003,78.129,78.1475, 78.1742,78.1914,78.2164,78.2325,78.248, 78.2631,78.285,78.299,78.3194,78.3325, 78.3513,78.3633,78.3749,78.3863,78.3972 ,78.4078,78.4182,78.4281,78.4375, 78.4463,78.4554,78.4642,78.4727,78.4808 ,78.4923,78.5029,78.5098,78.5195, 78.5287,78.5344,78.5372,78.5376,79.23, 79.6755,80.2149,80.2319,80.2381,80.2377 ,80.2349,80.2338,80.2338,80.2329, 80.2319,80.2294,80.2288,80.2291,80.2274 ,80.2263,80.2245,80.2231,80.222,80.2199 ,80.2196,80.2178,80.2167,80.2157, 80.2135,80.2114,80.2096,80.2065,80.2042 ,80.2008,80.1993,80.1962,80.1939, 80.1891,80.1868,80.1797,80.1759,80.166, 80.1568,80.1565,80.1526,80.1455,80.1313 ,80.1229,80.1166,80.099,80.1057,80.1042 ,79.9901)
ORBIT_NUMBER = 23139
ORBITAL_ECCENTRICITY = 0.577
ORBITAL_INCLINATION = 87.02
ORBITAL_SEMIMAJOR_AXIS = 8802.57
PERIAPSIS_ALTITUDE = 341.6
PERIAPSIS_ARGUMENT_ANGLE = 315.28
PERIAPSIS_TIME = 2022-04-26T09:33:24.000Z
SPACECRAFT_ORIENTATION = (0.0,1.0,0.0)
^MEX_ORIENTATION_DESC = "MEX_ORIENTATION_DESC.TXT"
SPACECRAFT_POINTING_MODE = ACROSSTRACK
^MEX_POINTING_DESC = "MEX_POINTING_DESC.TXT"
RIGHT_ASCENSION = -1e+32
DECLINATION = -1e+32
OFFSET_ANGLE = -0.82
SPACECRAFT_SOLAR_DISTANCE = 2.09934e+08
TARGET_NAME = MARS
/* CAMERA DATA ELEMENTS */
DETECTOR_TEMPERATURE = 17.5549
FOCAL_PLANE_TEMPERATURE = 7.9716
INST_CMPRS_NAME = "DISCRETE COSINE TRANSFORMATION (DCT)"
INST_CMPRS_RATIO = 12.2119
INST_CMPRS_QUALITY = 0
INST_CMPRS_QUANTZ_TBL_ID = 0
INSTRUMENT_TEMPERATURE = 11.0301
LENS_TEMPERATURE = 7.156
MACROPIXEL_SIZE = 2
MISSING_FRAMES = 0
PIXEL_SUBSAMPLING_FLAG = N
SIGNAL_CHAIN_ID = 1
/* RADIOMETRIC DATA ELEMENTS */
BANDWIDTH = 180.0
CENTER_FILTER_WAVELENGTH = 677.0
RADIANCE_OFFSET = 4.71237
RADIANCE_SCALING_FACTOR = 0.0114575
REFLECTANCE_SCALING_FACTOR = 0.000263451
MEX:REFLECTANCE_OFFSET = 0.108355
/* IMAGE OBJECT DEFINITIONS */
OBJECT = IMAGE
  INTERCHANGE_FORMAT = BINARY
  LINES = 32453
  LINE_SAMPLES = 3809
  SAMPLE_TYPE = UNSIGNED_INTEGER
  SAMPLE_BITS = 8
  BANDS = 1
  BAND_STORAGE_TYPE = BAND_SEQUENTIAL
  MAXIMUM = 255
  MEAN = 188.969
  MINIMUM = 1
  STANDARD_DEVIATION = 28.6
END_OBJECT = IMAGE
/* MAP OBJECT DEFINITIONS */
OBJECT = IMAGE_MAP_PROJECTION
  ^DATA_SET_MAP_PROJECTION_CATALOG= "DSMAP.CAT"
  A_AXIS_RADIUS = 3396.0
  B_AXIS_RADIUS = 3396.0
  C_AXIS_RADIUS = 3396.0
  CENTER_LATITUDE = 0.0
  CENTER_LONGITUDE = 79.0
  COORDINATE_SYSTEM_NAME = PLANETOGRAPHIC
  COORDINATE_SYSTEM_TYPE = "BODY-FIXED ROTATING"
  EASTERNMOST_LONGITUDE = 80.2381
  FIRST_STANDARD_PARALLEL = "N/A"
  LINE_FIRST_PIXEL = 1
  LINE_LAST_PIXEL = 32453
  LINE_PROJECTION_OFFSET = -99068.75
  MAP_PROJECTION_ROTATION = 0.0
  MAP_PROJECTION_TYPE = SINUSOIDAL
  MAP_RESOLUTION = 2370.85521546667
  MAP_SCALE = 0.025
  MAXIMUM_LATITUDE = -41.7962
  MINIMUM_LATITUDE = -55.4844
  POSITIVE_LONGITUDE_DIRECTION = EAST
  REFERENCE_LATITUDE = "N/A"
  REFERENCE_LONGITUDE = "N/A"
  SAMPLE_FIRST_PIXEL = 1
  SAMPLE_LAST_PIXEL = 3809
  SAMPLE_PROJECTION_OFFSET = 1659.25
  SECOND_STANDARD_PARALLEL = "N/A"
  WESTERNMOST_LONGITUDE = 77.806
END_OBJECT = IMAGE_MAP_PROJECTION
END
