PDS_VERSION_ID = PDS3
/* FILE DATA ELEMENTS */
RECORD_TYPE = UNDEFINED
/* POINTERS TO DATA OBJECTS */
^IMAGE = ("HN137_0000_RE4.TIF")
/* IDENTIFICATION DATA ELEMENTS */
DATA_SET_ID = "MEX-M-HRSC-4-REFDR-MAPPROJECT-EXT8-V4.0"
DATA_SET_NAME = "MARS EXPRESS HRSC MAP PROJECTED REFDR EXTENSION8 V4.0"
DETECTOR_ID = MEX_HRSC_RED
EVENT_TYPE = "MARS-LOCAL-CARTOGRAPHY-Te-Gl-Ts"
INSTRUMENT_HOST_ID = MEX
INSTRUMENT_HOST_NAME = "MARS EXPRESS"
INSTRUMENT_ID = HRSC
INSTRUMENT_NAME = "HIGH RESOLUTION STEREO CAMERA"
MISSION_NAME = "MARS EXPRESS"
MISSION_PHASE_NAME = ME_Phase_46
PROCESSING_LEVEL_ID = 4
PRODUCT_CREATION_TIME = 2023-01-28T22:22:56.000Z
PRODUCT_ID = "HN137_0000_RE4.TIF"
RELEASE_ID = 0004
REVISION_ID = 0000
/* QUALITY DATA ELEMENTS */
DATA_QUALITY_ID = 1
DATA_QUALITY_DESC = "Data calculated based on original SPICE kernels"
/* TIME DATA ELEMENTS */
SPACECRAFT_CLOCK_START_COUNT = "1/0598995069.24899"
SPACECRAFT_CLOCK_STOP_COUNT = "1/0598995455.65179"
START_TIME = 2022-04-25T19:31:50.297Z
STOP_TIME = 2022-04-25T19:37:10.004Z
/* ORBITAL DATA ELEMENTS */
ASCENDING_NODE_LONGITUDE = 142.79
MAXIMUM_RESOLUTION = 0.0565
FOOTPRINT_POINT_LATITUDE = (-56.6831,-56.6402,-56.6013,-56.6002, -56.5315,-56.0775,-55.6226,-55.1661, -54.709,-54.2534,-53.7953,-53.1072, -52.7111,-52.1257,-51.7392,-51.3561, -50.9661,-50.3791,-49.9859,-49.3957, -49.0013,-48.4098,-48.0144,-47.4204, -46.8229,-46.2291,-45.831,-45.4321, -45.0325,-44.4323,-43.831,-43.4299, -42.8273,-42.4255,-41.8201,-41.4184, -40.8128,-40.2068,-39.8025,-39.195, -38.7896,-38.3873,-37.9819,-37.5769, -37.1726,-36.7672,-36.361,-36.1578, -36.0762,-36.0863,-36.0941,-36.0937, -36.0946,-36.6985,-37.1106,-37.7187, -38.1238,-38.7336,-39.342,-39.7479, -40.1533,-40.5586,-40.9627,-41.3605, -41.7658,-42.3732,-42.7815,-43.1832, -43.7869,-44.1896,-44.59,-44.9908, -45.3919,-45.792,-46.1918,-46.7906, -47.1887,-47.5864,-47.9841,-48.3808, -48.7773,-49.1729,-49.568,-49.962, -50.3547,-50.7487,-51.3386,-51.7315, -52.1235,-52.5149,-52.9037,-53.3091, -53.7701,-54.4619,-54.9225,-55.3818, -55.8401,-56.2987,-56.5271,-56.6831)
FOOTPRINT_POINT_LONGITUDE = (282.681,281.255,280.322,280.299, 280.261,280.334,280.403,280.471,280.536 ,280.6,280.661,280.748,280.79,280.856, 280.9,280.945,280.986,281.045,281.082, 281.135,281.17,281.22,281.252,281.298, 281.341,281.383,281.41,281.436,281.46, 281.496,281.529,281.55,281.581,281.6, 281.627,281.645,281.67,281.693,281.708, 281.728,281.741,281.755,281.767,281.778 ,281.789,281.8,281.809,281.813,281.815, 282.327,283.284,283.298,283.303,283.298 ,283.29,283.283,283.277,283.268,283.259 ,283.252,283.245,283.238,283.232, 283.228,283.22,283.207,283.197,283.189, 283.176,283.167,283.159,283.15,283.14, 283.13,283.12,283.105,283.094,283.083, 283.072,283.06,283.048,283.036,283.024, 283.011,282.999,282.985,282.963,282.948 ,282.932,282.916,282.901,282.885, 282.867,282.837,282.815,282.793,282.77, 282.746,282.733,282.681)
ORBIT_NUMBER = 23137
ORBITAL_ECCENTRICITY = 0.576
ORBITAL_INCLINATION = 87.0
ORBITAL_SEMIMAJOR_AXIS = 8802.76
PERIAPSIS_ALTITUDE = 342.43
PERIAPSIS_ARGUMENT_ANGLE = 315.64
PERIAPSIS_TIME = 2022-04-25T19:35:30.000Z
SPACECRAFT_ORIENTATION = (0.0,1.0,0.0)
^MEX_ORIENTATION_DESC = "MEX_ORIENTATION_DESC.TXT"
SPACECRAFT_POINTING_MODE = NADIR
^MEX_POINTING_DESC = "MEX_POINTING_DESC.TXT"
RIGHT_ASCENSION = -1e+32
DECLINATION = -1e+32
OFFSET_ANGLE = -1e+32
SPACECRAFT_SOLAR_DISTANCE = 2.1e+08
TARGET_NAME = MARS
/* CAMERA DATA ELEMENTS */
DETECTOR_TEMPERATURE = 18.5744
FOCAL_PLANE_TEMPERATURE = 8.9911
INST_CMPRS_NAME = "DISCRETE COSINE TRANSFORMATION (DCT)"
INST_CMPRS_RATIO = 13.1532
INST_CMPRS_QUALITY = 0
INST_CMPRS_QUANTZ_TBL_ID = 0
INSTRUMENT_TEMPERATURE = 11.4379
LENS_TEMPERATURE = 8.9911
MACROPIXEL_SIZE = 4
MISSING_FRAMES = 0
PIXEL_SUBSAMPLING_FLAG = N
SIGNAL_CHAIN_ID = 2
/* RADIOMETRIC DATA ELEMENTS */
BANDWIDTH = 48.0
CENTER_FILTER_WAVELENGTH = 748.0
RADIANCE_OFFSET = 0.678735
RADIANCE_SCALING_FACTOR = 0.0044153
REFLECTANCE_SCALING_FACTOR = 0.000444353
MEX:REFLECTANCE_OFFSET = 0.0683075
/* IMAGE OBJECT DEFINITIONS */
OBJECT = IMAGE
  INTERCHANGE_FORMAT = BINARY
  LINES = 24360
  LINE_SAMPLES = 2373
  SAMPLE_TYPE = UNSIGNED_INTEGER
  SAMPLE_BITS = 8
  BANDS = 1
  BAND_STORAGE_TYPE = BAND_SEQUENTIAL
  MAXIMUM = 255
  MEAN = 108.979
  MINIMUM = 1
  STANDARD_DEVIATION = 22.9976
END_OBJECT = IMAGE
/* MAP OBJECT DEFINITIONS */
OBJECT = IMAGE_MAP_PROJECTION
  ^DATA_SET_MAP_PROJECTION_CATALOG= "DSMAP.CAT"
  A_AXIS_RADIUS = 3396.0
  B_AXIS_RADIUS = 3396.0
  C_AXIS_RADIUS = 3396.0
  CENTER_LATITUDE = 0.0
  CENTER_LONGITUDE = 282.0
  COORDINATE_SYSTEM_NAME = PLANETOGRAPHIC
  COORDINATE_SYSTEM_TYPE = "BODY-FIXED ROTATING"
  EASTERNMOST_LONGITUDE = 283.303
  FIRST_STANDARD_PARALLEL = "N/A"
  LINE_FIRST_PIXEL = 1
  LINE_LAST_PIXEL = 24360
  LINE_PROJECTION_OFFSET = -42734.125
  MAP_PROJECTION_ROTATION = 0.0
  MAP_PROJECTION_TYPE = SINUSOIDAL
  MAP_RESOLUTION = 1185.42760773333
  MAP_SCALE = 0.05
  MAXIMUM_LATITUDE = -36.0762
  MINIMUM_LATITUDE = -56.6831
  POSITIVE_LONGITUDE_DIRECTION = EAST
  REFERENCE_LATITUDE = "N/A"
  REFERENCE_LONGITUDE = "N/A"
  SAMPLE_FIRST_PIXEL = 1
  SAMPLE_LAST_PIXEL = 2373
  SAMPLE_PROJECTION_OFFSET = 1115.125
  SECOND_STANDARD_PARALLEL = "N/A"
  WESTERNMOST_LONGITUDE = 280.261
END_OBJECT = IMAGE_MAP_PROJECTION
END
