PDS_VERSION_ID = PDS3
/* FILE DATA ELEMENTS */
RECORD_TYPE = UNDEFINED
/* POINTERS TO DATA OBJECTS */
^IMAGE = ("HN137_0000_P24.TIF")
/* IDENTIFICATION DATA ELEMENTS */
DATA_SET_ID = "MEX-M-HRSC-4-REFDR-MAPPROJECT-EXT8-V4.0"
DATA_SET_NAME = "MARS EXPRESS HRSC MAP PROJECTED REFDR EXTENSION8 V4.0"
DETECTOR_ID = MEX_HRSC_P2
EVENT_TYPE = "MARS-LOCAL-CARTOGRAPHY-Te-Gl-Ts"
INSTRUMENT_HOST_ID = MEX
INSTRUMENT_HOST_NAME = "MARS EXPRESS"
INSTRUMENT_ID = HRSC
INSTRUMENT_NAME = "HIGH RESOLUTION STEREO CAMERA"
MISSION_NAME = "MARS EXPRESS"
MISSION_PHASE_NAME = ME_Phase_46
PROCESSING_LEVEL_ID = 4
PRODUCT_CREATION_TIME = 2023-01-28T22:22:56.000Z
PRODUCT_ID = "HN137_0000_P24.TIF"
RELEASE_ID = 0004
REVISION_ID = 0000
/* QUALITY DATA ELEMENTS */
DATA_QUALITY_ID = 1
DATA_QUALITY_DESC = "Data calculated based on original SPICE kernels"
/* TIME DATA ELEMENTS */
SPACECRAFT_CLOCK_START_COUNT = "1/0598995069.24899"
SPACECRAFT_CLOCK_STOP_COUNT = "1/0598995455.65179"
START_TIME = 2022-04-25T19:31:56.552Z
STOP_TIME = 2022-04-25T19:37:15.411Z
/* ORBITAL DATA ELEMENTS */
ASCENDING_NODE_LONGITUDE = 142.79
MAXIMUM_RESOLUTION = 0.0278
FOOTPRINT_POINT_LATITUDE = (-56.6687,-56.6506,-56.5886,-56.5876, -56.5327,-56.073,-55.612,-55.1501, -54.4574,-53.7619,-53.3274,-52.9366, -52.5353,-52.1417,-51.7506,-51.3615, -50.9685,-50.5743,-50.1776,-49.7805, -49.3836,-48.9856,-48.5876,-47.9902, -47.3913,-46.7898,-46.1906,-45.7898, -45.3881,-44.9857,-44.583,-44.1799, -43.7766,-43.373,-42.9692,-42.5649, -41.9581,-41.5535,-41.1479,-40.5395, -39.9308,-39.5245,-39.1178,-38.7115, -38.3069,-37.9004,-37.2914,-36.8853, -36.2746,-36.0713,-36.0652,-36.0766, -36.0844,-36.0844,-36.0848,-36.4847, -36.896,-37.3046,-37.711,-38.3211, -38.7292,-39.3399,-39.7471,-40.1541, -40.7641,-41.368,-41.7743,-42.3842, -42.7943,-43.1985,-43.8058,-44.2106, -44.6137,-45.0171,-45.622,-46.0247, -46.4272,-46.8291,-47.2302,-47.631, -48.2318,-48.6319,-49.0312,-49.4299, -50.0266,-50.6223,-51.218,-51.6148, -52.0104,-52.6031,-52.9962,-53.3873, -53.8208,-54.288,-54.7539,-55.4517, -55.9157,-56.3792,-56.6108,-56.6687)
FOOTPRINT_POINT_LONGITUDE = (282.672,281.982,280.328,280.305, 280.263,280.336,280.406,280.474,280.573 ,280.666,280.72,280.768,280.809,280.853 ,280.898,280.943,280.985,281.025, 281.062,281.099,281.135,281.169,281.203 ,281.251,281.298,281.341,281.383,281.41 ,281.435,281.46,281.484,281.506,281.528 ,281.55,281.57,281.59,281.618,281.636, 281.652,281.676,281.699,281.713,281.726 ,281.739,281.752,281.764,281.781, 281.791,281.805,281.81,281.81,282.474, 283.283,283.298,283.303,283.302,283.295 ,283.289,283.284,283.275,283.269, 283.259,283.252,283.246,283.235,283.227 ,283.219,283.207,283.196,283.188, 283.175,283.165,283.157,283.147,283.133 ,283.122,283.112,283.101,283.09,283.079 ,283.062,283.049,283.037,283.024, 283.005,282.984,282.962,282.947,282.931 ,282.907,282.891,282.876,282.858, 282.837,282.816,282.781,282.757,282.732 ,282.719,282.672)
ORBIT_NUMBER = 23137
ORBITAL_ECCENTRICITY = 0.576
ORBITAL_INCLINATION = 87.0
ORBITAL_SEMIMAJOR_AXIS = 8802.76
PERIAPSIS_ALTITUDE = 342.43
PERIAPSIS_ARGUMENT_ANGLE = 315.64
PERIAPSIS_TIME = 2022-04-25T19:35:30.000Z
SPACECRAFT_ORIENTATION = (0.0,1.0,0.0)
^MEX_ORIENTATION_DESC = "MEX_ORIENTATION_DESC.TXT"
SPACECRAFT_POINTING_MODE = NADIR
^MEX_POINTING_DESC = "MEX_POINTING_DESC.TXT"
RIGHT_ASCENSION = -1e+32
DECLINATION = -1e+32
OFFSET_ANGLE = -1e+32
SPACECRAFT_SOLAR_DISTANCE = 2.1e+08
TARGET_NAME = MARS
/* CAMERA DATA ELEMENTS */
DETECTOR_TEMPERATURE = 18.5744
FOCAL_PLANE_TEMPERATURE = 8.9911
INST_CMPRS_NAME = "DISCRETE COSINE TRANSFORMATION (DCT)"
INST_CMPRS_RATIO = 5.87439
INST_CMPRS_QUALITY = 0
INST_CMPRS_QUANTZ_TBL_ID = 0
INSTRUMENT_TEMPERATURE = 11.4379
LENS_TEMPERATURE = 8.9911
MACROPIXEL_SIZE = 2
MISSING_FRAMES = 0
PIXEL_SUBSAMPLING_FLAG = N
SIGNAL_CHAIN_ID = 3
/* RADIOMETRIC DATA ELEMENTS */
BANDWIDTH = 177.0
CENTER_FILTER_WAVELENGTH = 676.5
RADIANCE_OFFSET = 2.4279
RADIANCE_SCALING_FACTOR = 0.0154372
REFLECTANCE_SCALING_FACTOR = 0.000360967
MEX:REFLECTANCE_OFFSET = 0.0567712
/* IMAGE OBJECT DEFINITIONS */
OBJECT = IMAGE
  INTERCHANGE_FORMAT = BINARY
  LINES = 48719
  LINE_SAMPLES = 4746
  SAMPLE_TYPE = UNSIGNED_INTEGER
  SAMPLE_BITS = 8
  BANDS = 1
  BAND_STORAGE_TYPE = BAND_SEQUENTIAL
  MAXIMUM = 255
  MEAN = 114.75
  MINIMUM = 1
  STANDARD_DEVIATION = 22.3792
END_OBJECT = IMAGE
/* MAP OBJECT DEFINITIONS */
OBJECT = IMAGE_MAP_PROJECTION
  ^DATA_SET_MAP_PROJECTION_CATALOG= "DSMAP.CAT"
  A_AXIS_RADIUS = 3396.0
  B_AXIS_RADIUS = 3396.0
  C_AXIS_RADIUS = 3396.0
  CENTER_LATITUDE = 0.0
  CENTER_LONGITUDE = 282.0
  COORDINATE_SYSTEM_NAME = PLANETOGRAPHIC
  COORDINATE_SYSTEM_TYPE = "BODY-FIXED ROTATING"
  EASTERNMOST_LONGITUDE = 283.303
  FIRST_STANDARD_PARALLEL = "N/A"
  LINE_FIRST_PIXEL = 1
  LINE_LAST_PIXEL = 48719
  LINE_PROJECTION_OFFSET = -85467.75
  MAP_PROJECTION_ROTATION = 0.0
  MAP_PROJECTION_TYPE = SINUSOIDAL
  MAP_RESOLUTION = 2370.85521546667
  MAP_SCALE = 0.025
  MAXIMUM_LATITUDE = -36.0652
  MINIMUM_LATITUDE = -56.6687
  POSITIVE_LONGITUDE_DIRECTION = EAST
  REFERENCE_LATITUDE = "N/A"
  REFERENCE_LONGITUDE = "N/A"
  SAMPLE_FIRST_PIXEL = 1
  SAMPLE_LAST_PIXEL = 4746
  SAMPLE_PROJECTION_OFFSET = 2230.75
  SECOND_STANDARD_PARALLEL = "N/A"
  WESTERNMOST_LONGITUDE = 280.263
END_OBJECT = IMAGE_MAP_PROJECTION
END
