PDS_VERSION_ID = PDS3
/* FILE DATA ELEMENTS */
RECORD_TYPE = UNDEFINED
/* POINTERS TO DATA OBJECTS */
^IMAGE = ("HN134_0000_BL4.TIF")
/* IDENTIFICATION DATA ELEMENTS */
DATA_SET_ID = "MEX-M-HRSC-4-REFDR-MAPPROJECT-EXT8-V4.0"
DATA_SET_NAME = "MARS EXPRESS HRSC MAP PROJECTED REFDR EXTENSION8 V4.0"
DETECTOR_ID = MEX_HRSC_BLUE
EVENT_TYPE = "MARS-REGIONAL-CARTOGRAPHY-Te-Gl-Pf"
INSTRUMENT_HOST_ID = MEX
INSTRUMENT_HOST_NAME = "MARS EXPRESS"
INSTRUMENT_ID = HRSC
INSTRUMENT_NAME = "HIGH RESOLUTION STEREO CAMERA"
MISSION_NAME = "MARS EXPRESS"
MISSION_PHASE_NAME = ME_Phase_46
PROCESSING_LEVEL_ID = 4
PRODUCT_CREATION_TIME = 2023-01-28T22:22:56.000Z
PRODUCT_ID = "HN134_0000_BL4.TIF"
RELEASE_ID = 0004
REVISION_ID = 0000
/* QUALITY DATA ELEMENTS */
DATA_QUALITY_ID = 1
DATA_QUALITY_DESC = "Data calculated based on original SPICE kernels"
/* TIME DATA ELEMENTS */
SPACECRAFT_CLOCK_START_COUNT = "1/0598919291.25678"
SPACECRAFT_CLOCK_STOP_COUNT = "1/0598919699.01775"
START_TIME = 2022-04-24T22:29:41.390Z
STOP_TIME = 2022-04-24T22:34:51.584Z
/* ORBITAL DATA ELEMENTS */
ASCENDING_NODE_LONGITUDE = 142.84
MAXIMUM_RESOLUTION = 0.0614
FOOTPRINT_POINT_LATITUDE = (-75.954,-75.8702,-75.801,-75.5777, -75.5729,-75.544,-74.9031,-74.4796, -74.0589,-73.6395,-73.2254,-72.6084, -71.9975,-71.5932,-71.1937,-70.795, -70.4,-69.8136,-69.4235,-69.0396, -68.6564,-68.0903,-67.7128,-67.3404, -66.7832,-66.4171,-65.8691,-65.3289, -64.9688,-64.6153,-64.2612,-63.9087, -63.5611,-63.2129,-62.8659,-62.525, -62.1836,-61.8416,-61.5052,-61.171, -60.8355,-60.4989,-59.8446,-59.1868, -58.5272,-58.1965,-57.8654,-57.3678, -57.2017,-57.1281,-57.1802,-57.2108, -57.2114,-57.2126,-57.7135,-58.047, -58.3801,-58.7128,-59.2113,-59.8739, -60.5349,-60.8708,-61.2089,-61.5465, -61.8834,-62.2287,-62.5734,-62.9175, -63.2659,-63.6178,-64.1444,-64.6822, -65.0401,-65.4029,-65.7679,-66.1322, -66.5037,-67.0606,-67.4388,-67.8165, -68.391,-68.7755,-69.1657,-69.5559, -69.9524,-70.3492,-70.7517,-71.1547, -71.5634,-72.1815,-72.597,-73.0187, -73.4418,-73.8696,-74.3004,-74.7346, -75.1742,-75.6178,-75.8403,-75.954)
FOOTPRINT_POINT_LONGITUDE = (225.899,223.594,222.05,218.157,218.086 ,217.972,218.698,219.139,219.553,219.94 ,220.304,220.808,221.269,221.555, 221.825,222.077,222.317,222.656,222.87, 223.069,223.265,223.539,223.709,223.869 ,224.099,224.243,224.449,224.642, 224.765,224.882,224.995,225.104,225.207 ,225.307,225.404,225.496,225.586, 225.673,225.755,225.836,225.913,225.984 ,226.129,226.263,226.391,226.452, 226.511,226.597,226.625,226.638,227.987 ,229.063,229.086,229.094,229.064, 229.044,229.023,229.001,228.966,228.919 ,228.868,228.842,228.814,228.786, 228.757,228.727,228.696,228.664,228.631 ,228.596,228.54,228.482,228.441,228.398 ,228.354,228.308,228.26,228.182,228.128 ,228.072,227.982,227.916,227.851, 227.784,227.71,227.634,227.55,227.465, 227.375,227.227,227.122,227.009,226.888 ,226.762,226.633,226.488,226.332, 226.163,226.074,225.899)
ORBIT_NUMBER = 23134
ORBITAL_ECCENTRICITY = 0.576
ORBITAL_INCLINATION = 87.02
ORBITAL_SEMIMAJOR_AXIS = 8801.94
PERIAPSIS_ALTITUDE = 341.87
PERIAPSIS_ARGUMENT_ANGLE = 316.12
PERIAPSIS_TIME = 2022-04-24T22:38:25.000Z
SPACECRAFT_ORIENTATION = (0.0,1.0,0.0)
^MEX_ORIENTATION_DESC = "MEX_ORIENTATION_DESC.TXT"
SPACECRAFT_POINTING_MODE = NADIR
^MEX_POINTING_DESC = "MEX_POINTING_DESC.TXT"
RIGHT_ASCENSION = -1e+32
DECLINATION = -1e+32
OFFSET_ANGLE = -1e+32
SPACECRAFT_SOLAR_DISTANCE = 2.10101e+08
TARGET_NAME = MARS
/* CAMERA DATA ELEMENTS */
DETECTOR_TEMPERATURE = 18.3705
FOCAL_PLANE_TEMPERATURE = 8.1755
INST_CMPRS_NAME = "DISCRETE COSINE TRANSFORMATION (DCT)"
INST_CMPRS_RATIO = 10.3104
INST_CMPRS_QUALITY = 0
INST_CMPRS_QUANTZ_TBL_ID = 0
INSTRUMENT_TEMPERATURE = 11.0301
LENS_TEMPERATURE = 8.7872
MACROPIXEL_SIZE = 4
MISSING_FRAMES = 0
PIXEL_SUBSAMPLING_FLAG = N
SIGNAL_CHAIN_ID = 2
/* RADIOMETRIC DATA ELEMENTS */
BANDWIDTH = 76.0
CENTER_FILTER_WAVELENGTH = 444.0
RADIANCE_OFFSET = 0.474309
RADIANCE_SCALING_FACTOR = 0.00357699
REFLECTANCE_SCALING_FACTOR = 0.00016223
MEX:REFLECTANCE_OFFSET = 0.0215117
/* IMAGE OBJECT DEFINITIONS */
OBJECT = IMAGE
  INTERCHANGE_FORMAT = BINARY
  LINES = 22282
  LINE_SAMPLES = 4354
  SAMPLE_TYPE = UNSIGNED_INTEGER
  SAMPLE_BITS = 8
  BANDS = 1
  BAND_STORAGE_TYPE = BAND_SEQUENTIAL
  MAXIMUM = 255
  MEAN = 160.013
  MINIMUM = 1
  STANDARD_DEVIATION = 81.905
END_OBJECT = IMAGE
/* MAP OBJECT DEFINITIONS */
OBJECT = IMAGE_MAP_PROJECTION
  ^DATA_SET_MAP_PROJECTION_CATALOG= "DSMAP.CAT"
  A_AXIS_RADIUS = 3396.0
  B_AXIS_RADIUS = 3396.0
  C_AXIS_RADIUS = 3396.0
  CENTER_LATITUDE = 0.0
  CENTER_LONGITUDE = 226.0
  COORDINATE_SYSTEM_NAME = PLANETOGRAPHIC
  COORDINATE_SYSTEM_TYPE = "BODY-FIXED ROTATING"
  EASTERNMOST_LONGITUDE = 229.094
  FIRST_STANDARD_PARALLEL = "N/A"
  LINE_FIRST_PIXEL = 1
  LINE_LAST_PIXEL = 22282
  LINE_PROJECTION_OFFSET = -67721.125
  MAP_PROJECTION_ROTATION = 0.0
  MAP_PROJECTION_TYPE = SINUSOIDAL
  MAP_RESOLUTION = 1185.42760773333
  MAP_SCALE = 0.05
  MAXIMUM_LATITUDE = -57.1281
  MINIMUM_LATITUDE = -75.95399999999999
  POSITIVE_LONGITUDE_DIRECTION = EAST
  REFERENCE_LATITUDE = "N/A"
  REFERENCE_LONGITUDE = "N/A"
  SAMPLE_FIRST_PIXEL = 1
  SAMPLE_LAST_PIXEL = 4354
  SAMPLE_PROJECTION_OFFSET = 2371.625
  SECOND_STANDARD_PARALLEL = "N/A"
  WESTERNMOST_LONGITUDE = 217.972
END_OBJECT = IMAGE_MAP_PROJECTION
END
