PDS_VERSION_ID = PDS3
/* FILE DATA ELEMENTS */
RECORD_TYPE = UNDEFINED
/* POINTERS TO DATA OBJECTS */
^IMAGE = ("HN132_0000_BL4.TIF")
/* IDENTIFICATION DATA ELEMENTS */
DATA_SET_ID = "MEX-M-HRSC-4-REFDR-MAPPROJECT-EXT8-V4.0"
DATA_SET_NAME = "MARS EXPRESS HRSC MAP PROJECTED REFDR EXTENSION8 V4.0"
DETECTOR_ID = MEX_HRSC_BLUE
EVENT_TYPE = "MARS-REGIONAL-MAPPING-Im-Mw-La"
INSTRUMENT_HOST_ID = MEX
INSTRUMENT_HOST_NAME = "MARS EXPRESS"
INSTRUMENT_ID = HRSC
INSTRUMENT_NAME = "HIGH RESOLUTION STEREO CAMERA"
MISSION_NAME = "MARS EXPRESS"
MISSION_PHASE_NAME = ME_Phase_46
PROCESSING_LEVEL_ID = 4
PRODUCT_CREATION_TIME = 2023-01-28T22:22:56.000Z
PRODUCT_ID = "HN132_0000_BL4.TIF"
RELEASE_ID = 0004
REVISION_ID = 0000
/* QUALITY DATA ELEMENTS */
DATA_QUALITY_ID = 1
DATA_QUALITY_DESC = "Data calculated based on original SPICE kernels"
/* TIME DATA ELEMENTS */
SPACECRAFT_CLOCK_START_COUNT = "1/0598869783.25674"
SPACECRAFT_CLOCK_STOP_COUNT = "1/0598870039.07680"
START_TIME = 2022-04-24T08:44:05.749Z
STOP_TIME = 2022-04-24T08:46:56.242Z
/* ORBITAL DATA ELEMENTS */
ASCENDING_NODE_LONGITUDE = 142.87
MAXIMUM_RESOLUTION = 0.0609
FOOTPRINT_POINT_LATITUDE = (-29.2844,-29.2862,-29.2855,-29.2835, -29.2834,-29.2728,-29.0638,-28.8552, -28.5419,-28.3324,-28.124,-27.9157, -27.7079,-27.3965,-27.0859,-26.8786, -26.6711,-26.3599,-26.1528,-25.9456, -25.5317,-25.1193,-24.5006,-24.0899, -23.8778,-23.6664,-23.4556,-23.2453, -22.9298,-22.6084,-22.393,-22.1765, -21.9611,-21.7465,-21.4183,-21.1999, -20.9811,-20.7624,-20.4294,-20.205, -19.9809,-19.6451,-19.4173,-19.1885, -18.9607,-18.7324,-18.6183,-18.5173, -18.5149,-18.5135,-18.5113,-18.5067, -18.5006,-18.5004,-18.5015,-18.7317, -18.9602,-19.1891,-19.4183,-19.6452, -19.9818,-20.2062,-20.4309,-20.6546, -20.8741,-21.0918,-21.3116,-21.532, -21.7509,-21.9661,-22.182,-22.3979, -22.6142,-22.8291,-23.0403,-23.3566, -23.5689,-23.7807,-23.9912,-24.303, -24.7148,-25.1285,-25.4389,-25.6471, -26.0614,-26.269,-26.4764,-26.7859, -26.9943,-27.2019,-27.4092,-27.7202, -27.9282,-28.1372,-28.4505,-28.6595, -28.8688,-29.0773,-29.1812,-29.2844)
FOOTPRINT_POINT_LONGITUDE = (74.2116,73.6004,73.1581,72.7447, 72.7309,72.7149,72.7146,72.7145,72.7133 ,72.7114,72.7106,72.7098,72.7094, 72.7086,72.7082,72.7073,72.7059,72.7033 ,72.7017,72.6998,72.6957,72.6924, 72.6851,72.6823,72.6783,72.6748,72.6719 ,72.6693,72.6648,72.6601,72.6567, 72.6515,72.6474,72.6439,72.6387,72.6365 ,72.6335,72.6302,72.6235,72.6189, 72.6143,72.607,72.6008,72.5956,72.5914, 72.586,72.5833,72.5809,72.9241,73.1594, 73.4104,73.8039,74.2458,74.2616,74.2669 ,74.2655,74.2651,74.2645,74.2637, 74.2628,74.2614,74.261,74.2603,74.2589, 74.2586,74.2624,74.2623,74.2616,74.2605 ,74.2597,74.2581,74.2566,74.255,74.2565 ,74.2557,74.2544,74.2511,74.2489, 74.2502,74.2499,74.25,74.2472,74.2458, 74.2424,74.2412,74.2398,74.2394,74.2428 ,74.2409,74.241,74.242,74.2439,74.2442, 74.2424,74.2404,74.2393,74.2378,74.2381 ,74.2393,74.2116)
ORBIT_NUMBER = 23132
ORBITAL_ECCENTRICITY = 0.577
ORBITAL_INCLINATION = 87.02
ORBITAL_SEMIMAJOR_AXIS = 8804.4
PERIAPSIS_ALTITUDE = 341.93
PERIAPSIS_ARGUMENT_ANGLE = 316.48
PERIAPSIS_TIME = 2022-04-24T08:40:33.000Z
SPACECRAFT_ORIENTATION = (0.0,1.0,0.0)
^MEX_ORIENTATION_DESC = "MEX_ORIENTATION_DESC.TXT"
SPACECRAFT_POINTING_MODE = ACROSSTRACK
^MEX_POINTING_DESC = "MEX_POINTING_DESC.TXT"
RIGHT_ASCENSION = -1e+32
DECLINATION = -1e+32
OFFSET_ANGLE = -0.17
SPACECRAFT_SOLAR_DISTANCE = 2.10168e+08
TARGET_NAME = MARS
/* CAMERA DATA ELEMENTS */
DETECTOR_TEMPERATURE = 17.7588
FOCAL_PLANE_TEMPERATURE = 8.1755
INST_CMPRS_NAME = "DISCRETE COSINE TRANSFORMATION (DCT)"
INST_CMPRS_RATIO = 5.31726
INST_CMPRS_QUALITY = 0
INST_CMPRS_QUANTZ_TBL_ID = 0
INSTRUMENT_TEMPERATURE = 11.0301
LENS_TEMPERATURE = 9.3989
MACROPIXEL_SIZE = 4
MISSING_FRAMES = 0
PIXEL_SUBSAMPLING_FLAG = N
SIGNAL_CHAIN_ID = 2
/* RADIOMETRIC DATA ELEMENTS */
BANDWIDTH = 76.0
CENTER_FILTER_WAVELENGTH = 444.0
RADIANCE_OFFSET = 0.581257
RADIANCE_SCALING_FACTOR = 0.00140155
REFLECTANCE_SCALING_FACTOR = 6.36058e-05
MEX:REFLECTANCE_OFFSET = 0.0263789
/* IMAGE OBJECT DEFINITIONS */
OBJECT = IMAGE
  INTERCHANGE_FORMAT = BINARY
  LINES = 12771
  LINE_SAMPLES = 1927
  SAMPLE_TYPE = UNSIGNED_INTEGER
  SAMPLE_BITS = 8
  BANDS = 1
  BAND_STORAGE_TYPE = BAND_SEQUENTIAL
  MAXIMUM = 255
  MEAN = 152.758
  MINIMUM = 1
  STANDARD_DEVIATION = 33.7496
END_OBJECT = IMAGE
/* MAP OBJECT DEFINITIONS */
OBJECT = IMAGE_MAP_PROJECTION
  ^DATA_SET_MAP_PROJECTION_CATALOG= "DSMAP.CAT"
  A_AXIS_RADIUS = 3396.0
  B_AXIS_RADIUS = 3396.0
  C_AXIS_RADIUS = 3396.0
  CENTER_LATITUDE = 0.0
  CENTER_LONGITUDE = 73.0
  COORDINATE_SYSTEM_NAME = PLANETOGRAPHIC
  COORDINATE_SYSTEM_TYPE = "BODY-FIXED ROTATING"
  EASTERNMOST_LONGITUDE = 74.26690000000001
  FIRST_STANDARD_PARALLEL = "N/A"
  LINE_FIRST_PIXEL = 1
  LINE_LAST_PIXEL = 12771
  LINE_PROJECTION_OFFSET = -21942.125
  MAP_PROJECTION_ROTATION = 0.0
  MAP_PROJECTION_TYPE = SINUSOIDAL
  MAP_RESOLUTION = 1185.42760773333
  MAP_SCALE = 0.05
  MAXIMUM_LATITUDE = -18.5004
  MINIMUM_LATITUDE = -29.2862
  POSITIVE_LONGITUDE_DIRECTION = EAST
  REFERENCE_LATITUDE = "N/A"
  REFERENCE_LONGITUDE = "N/A"
  SAMPLE_FIRST_PIXEL = 1
  SAMPLE_LAST_PIXEL = 1927
  SAMPLE_PROJECTION_OFFSET = 492.375
  SECOND_STANDARD_PARALLEL = "N/A"
  WESTERNMOST_LONGITUDE = 72.5809
END_OBJECT = IMAGE_MAP_PROJECTION
END
