PDS_VERSION_ID = PDS3
/* FILE DATA ELEMENTS */
RECORD_TYPE = UNDEFINED
/* POINTERS TO DATA OBJECTS */
^IMAGE = ("HN131_0000_P14.TIF")
/* IDENTIFICATION DATA ELEMENTS */
DATA_SET_ID = "MEX-M-HRSC-4-REFDR-MAPPROJECT-EXT8-V4.0"
DATA_SET_NAME = "MARS EXPRESS HRSC MAP PROJECTED REFDR EXTENSION8 V4.0"
DETECTOR_ID = MEX_HRSC_P1
EVENT_TYPE = "MARS-REGIONAL-MAPPING-Vo-Im-Fl"
INSTRUMENT_HOST_ID = MEX
INSTRUMENT_HOST_NAME = "MARS EXPRESS"
INSTRUMENT_ID = HRSC
INSTRUMENT_NAME = "HIGH RESOLUTION STEREO CAMERA"
MISSION_NAME = "MARS EXPRESS"
MISSION_PHASE_NAME = ME_Phase_46
PROCESSING_LEVEL_ID = 4
PRODUCT_CREATION_TIME = 2023-01-28T22:22:56.000Z
PRODUCT_ID = "HN131_0000_P14.TIF"
RELEASE_ID = 0004
REVISION_ID = 0000
/* QUALITY DATA ELEMENTS */
DATA_QUALITY_ID = 1
DATA_QUALITY_DESC = "Data calculated based on original SPICE kernels"
/* TIME DATA ELEMENTS */
SPACECRAFT_CLOCK_START_COUNT = "1/0598844895.25666"
SPACECRAFT_CLOCK_STOP_COUNT = "1/0598845264.07051"
START_TIME = 2022-04-24T01:50:16.462Z
STOP_TIME = 2022-04-24T01:54:20.114Z
/* ORBITAL DATA ELEMENTS */
ASCENDING_NODE_LONGITUDE = 142.89
MAXIMUM_RESOLUTION = 0.0466
FOOTPRINT_POINT_LATITUDE = (-12.7927,-12.8058,-12.819,-12.8324, -12.8459,-12.8595,-12.8786,-12.8795, -12.8957,-12.5657,-12.123,-11.7901, -11.4521,-10.9995,-10.5444,-10.083, -9.61659,-9.02655,-8.66968,-8.31111, -8.07143,-7.83035,-7.58841,-7.34203, -6.97278,-6.72416,-6.47623,-6.22932, -5.98331,-5.73819,-5.49408,-5.25129, -4.88721,-4.6316,-4.35619,-4.08233, -3.80955,-3.53786,-3.26683,-2.99662, -2.72716,-2.45625,-2.18444,-1.91108, -1.63526,-1.35813,-1.07983,-0.659033, -0.518133,-0.48438,-0.468662,-0.446739, -0.428416,-0.411321,-0.389258,-0.360248 ,-0.340264,-0.339055,-0.339422, -0.623293,-0.904781,-1.18512,-1.46342, -1.73968,-2.01496,-2.42558,-2.83267, -3.10382,-3.51284,-3.78583,-4.06022, -4.33573,-4.73434,-4.97847,-5.22329, -5.4689,-5.71542,-5.96265,-6.21051, -6.45994,-6.70833,-6.956,-7.20105, -7.44292,-7.80551,-8.16627,-8.40644, -8.64471,-8.88399,-9.12138,-9.3584, -9.82834,-10.2953,-10.7578,-11.1022, -11.6691,-12.2283,-12.6695,-12.7802, -12.7927)
FOOTPRINT_POINT_LONGITUDE = (175.111,174.801,174.488,174.171, 173.852,173.53,173.08,173.06,173.036, 173.025,173.011,172.998,172.987,172.971 ,172.953,172.935,172.917,172.894, 172.878,172.863,172.851,172.839,172.827 ,172.817,172.8,172.788,172.776,172.764, 172.751,172.738,172.725,172.711,172.691 ,172.678,172.663,172.648,172.633, 172.617,172.602,172.586,172.57,172.554, 172.537,172.521,172.504,172.486,172.468 ,172.441,172.432,172.43,172.712,173.106 ,173.441,173.774,174.216,174.818, 175.252,175.279,175.289,175.284,175.28, 175.275,175.271,175.266,175.262,175.255 ,175.249,175.245,175.239,175.235,175.23 ,175.226,175.221,175.217,175.214,175.21 ,175.206,175.203,175.2,175.196,175.193, 175.189,175.186,175.182,175.177,175.172 ,175.169,175.166,175.163,175.159, 175.156,175.15,175.144,175.138,175.133, 175.125,175.118,175.112,175.11,175.111)
ORBIT_NUMBER = 23131
ORBITAL_ECCENTRICITY = 0.576
ORBITAL_INCLINATION = 87.01
ORBITAL_SEMIMAJOR_AXIS = 8800.67
PERIAPSIS_ALTITUDE = 343.11
PERIAPSIS_ARGUMENT_ANGLE = 316.67
PERIAPSIS_TIME = 2022-04-24T01:41:37.000Z
SPACECRAFT_ORIENTATION = (0.0,1.0,0.0)
^MEX_ORIENTATION_DESC = "MEX_ORIENTATION_DESC.TXT"
SPACECRAFT_POINTING_MODE = ACROSSTRACK
^MEX_POINTING_DESC = "MEX_POINTING_DESC.TXT"
RIGHT_ASCENSION = -1e+32
DECLINATION = -1e+32
OFFSET_ANGLE = 1.145
SPACECRAFT_SOLAR_DISTANCE = 2.10202e+08
TARGET_NAME = MARS
/* CAMERA DATA ELEMENTS */
DETECTOR_TEMPERATURE = 17.351
FOCAL_PLANE_TEMPERATURE = 8.3794
INST_CMPRS_NAME = "DISCRETE COSINE TRANSFORMATION (DCT)"
INST_CMPRS_RATIO = 9.38682
INST_CMPRS_QUALITY = 0
INST_CMPRS_QUANTZ_TBL_ID = 0
INSTRUMENT_TEMPERATURE = 11.0301
LENS_TEMPERATURE = 8.5833
MACROPIXEL_SIZE = 2
MISSING_FRAMES = 0
PIXEL_SUBSAMPLING_FLAG = N
SIGNAL_CHAIN_ID = 3
/* RADIOMETRIC DATA ELEMENTS */
BANDWIDTH = 174.0
CENTER_FILTER_WAVELENGTH = 675.0
RADIANCE_OFFSET = 3.93482
RADIANCE_SCALING_FACTOR = 0.0228799
REFLECTANCE_SCALING_FACTOR = 0.000543763
MEX:REFLECTANCE_OFFSET = 0.0935146
/* IMAGE OBJECT DEFINITIONS */
OBJECT = IMAGE
  INTERCHANGE_FORMAT = BINARY
  LINES = 14814
  LINE_SAMPLES = 3113
  SAMPLE_TYPE = UNSIGNED_INTEGER
  SAMPLE_BITS = 8
  BANDS = 1
  BAND_STORAGE_TYPE = BAND_SEQUENTIAL
  MAXIMUM = 255
  MEAN = 110.079
  MINIMUM = 1
  STANDARD_DEVIATION = 22.4
END_OBJECT = IMAGE
/* MAP OBJECT DEFINITIONS */
OBJECT = IMAGE_MAP_PROJECTION
  ^DATA_SET_MAP_PROJECTION_CATALOG= "DSMAP.CAT"
  A_AXIS_RADIUS = 3396.0
  B_AXIS_RADIUS = 3396.0
  C_AXIS_RADIUS = 3396.0
  CENTER_LATITUDE = 0.0
  CENTER_LONGITUDE = 174.0
  COORDINATE_SYSTEM_NAME = PLANETOGRAPHIC
  COORDINATE_SYSTEM_TYPE = "BODY-FIXED ROTATING"
  EASTERNMOST_LONGITUDE = 175.289
  FIRST_STANDARD_PARALLEL = "N/A"
  LINE_FIRST_PIXEL = 1
  LINE_LAST_PIXEL = 14814
  LINE_PROJECTION_OFFSET = -421.25
  MAP_PROJECTION_ROTATION = 0.0
  MAP_PROJECTION_TYPE = SINUSOIDAL
  MAP_RESOLUTION = 1185.42760773333
  MAP_SCALE = 0.05
  MAXIMUM_LATITUDE = -0.339055
  MINIMUM_LATITUDE = -12.8957
  POSITIVE_LONGITUDE_DIRECTION = EAST
  REFERENCE_LATITUDE = "N/A"
  REFERENCE_LONGITUDE = "N/A"
  SAMPLE_FIRST_PIXEL = 1
  SAMPLE_LAST_PIXEL = 3113
  SAMPLE_PROJECTION_OFFSET = 1721.75
  SECOND_STANDARD_PARALLEL = "N/A"
  WESTERNMOST_LONGITUDE = 172.43
END_OBJECT = IMAGE_MAP_PROJECTION
END
