PDS_VERSION_ID = PDS3
/* FILE DATA ELEMENTS */
RECORD_TYPE = UNDEFINED
/* POINTERS TO DATA OBJECTS */
^IMAGE = ("HN123_0000_S24.TIF")
/* IDENTIFICATION DATA ELEMENTS */
DATA_SET_ID = "MEX-M-HRSC-4-REFDR-MAPPROJECT-EXT8-V4.0"
DATA_SET_NAME = "MARS EXPRESS HRSC MAP PROJECTED REFDR EXTENSION8 V4.0"
DETECTOR_ID = MEX_HRSC_S2
EVENT_TYPE = "MARS-LOCAL-CARTOGRAPHY-Vo-Te-La"
INSTRUMENT_HOST_ID = MEX
INSTRUMENT_HOST_NAME = "MARS EXPRESS"
INSTRUMENT_ID = HRSC
INSTRUMENT_NAME = "HIGH RESOLUTION STEREO CAMERA"
MISSION_NAME = "MARS EXPRESS"
MISSION_PHASE_NAME = ME_Phase_46
PROCESSING_LEVEL_ID = 4
PRODUCT_CREATION_TIME = 2023-01-28T22:22:56.000Z
PRODUCT_ID = "HN123_0000_S24.TIF"
RELEASE_ID = 0004
REVISION_ID = 0000
/* QUALITY DATA ELEMENTS */
DATA_QUALITY_ID = 1
DATA_QUALITY_DESC = "Data calculated based on original SPICE kernels"
/* TIME DATA ELEMENTS */
SPACECRAFT_CLOCK_START_COUNT = "1/0598643403.25667"
SPACECRAFT_CLOCK_STOP_COUNT = "1/0598643964.60218"
START_TIME = 2022-04-21T17:50:37.887Z
STOP_TIME = 2022-04-21T17:59:21.487Z
/* ORBITAL DATA ELEMENTS */
ASCENDING_NODE_LONGITUDE = 143.04
MAXIMUM_RESOLUTION = 0.0287
FOOTPRINT_POINT_LATITUDE = (-37.1077,-37.0864,-37.0861,-37.0762, -35.427,-34.3338,-33.7775,-33.2264, -32.6727,-31.8408,-31.2894,-30.7362, -30.184,-29.6316,-29.0789,-28.5267, -27.9732,-27.4205,-26.7644,-25.776, -25.1171,-24.4591,-23.8013,-23.1443, -22.1584,-21.5022,-20.8468,-20.1779, -19.5061,-18.8195,-17.778,-17.0745, -16.355,-15.6275,-14.8913,-14.1394, -13.3739,-12.6028,-11.816,-11.0146, -10.1987,-9.36779,-8.52306,-7.66159, -6.74102,-5.87182,-4.93145,-3.55646, -3.0844,-3.07104,-3.06262,-3.04667, -3.02704,-3.02648,-3.02703,-4.40648, -5.83658,-6.70816,-7.61271,-8.48027, -9.32831,-10.1612,-10.9786,-11.7819, -12.571,-13.3474,-14.1124,-14.8648, -15.6029,-16.3321,-17.0531,-17.7581, -18.8013,-19.4896,-20.1589,-20.8327, -21.4893,-22.1469,-23.1336,-23.7916, -24.4509,-25.4398,-26.0993,-26.7596, -27.4185,-28.249,-28.8026,-29.633, -30.1861,-31.0162,-31.5698,-32.1219, -32.9502,-33.7808,-34.3348,-34.8878, -35.7175,-36.8124,-37.0884,-37.1077)
FOOTPRINT_POINT_LONGITUDE = (272.978,271.516,271.502,271.494, 271.533,271.557,271.565,271.573,271.58, 271.588,271.594,271.599,271.602,271.605 ,271.608,271.609,271.61,271.61,271.609, 271.606,271.603,271.599,271.594,271.588 ,271.577,271.569,271.56,271.55,271.539, 271.527,271.507,271.492,271.476,271.459 ,271.441,271.421,271.399,271.378, 271.354,271.328,271.301,271.272,271.242 ,271.21,271.163,271.135,271.088,271.036 ,271.014,271.013,271.607,272.385, 273.104,273.124,273.132,273.137,273.121 ,273.126,273.117,273.115,273.113, 273.111,273.109,273.108,273.106,273.104 ,273.103,273.102,273.1,273.099,273.097, 273.096,273.093,273.092,273.091,273.088 ,273.086,273.084,273.081,273.079, 273.076,273.072,273.069,273.066,273.063 ,273.058,273.055,273.05,273.046,273.04, 273.036,273.032,273.026,273.018,273.012 ,273.006,272.996,272.986,272.982, 272.978)
ORBIT_NUMBER = 23123
ORBITAL_ECCENTRICITY = 0.577
ORBITAL_INCLINATION = 87.0
ORBITAL_SEMIMAJOR_AXIS = 8808.1
PERIAPSIS_ALTITUDE = 342.75
PERIAPSIS_ARGUMENT_ANGLE = 318.02
PERIAPSIS_TIME = 2022-04-21T17:49:55.000Z
SPACECRAFT_ORIENTATION = (0.0,1.0,0.0)
^MEX_ORIENTATION_DESC = "MEX_ORIENTATION_DESC.TXT"
SPACECRAFT_POINTING_MODE = NADIR
^MEX_POINTING_DESC = "MEX_POINTING_DESC.TXT"
RIGHT_ASCENSION = -1e+32
DECLINATION = -1e+32
OFFSET_ANGLE = -1e+32
SPACECRAFT_SOLAR_DISTANCE = 2.10479e+08
TARGET_NAME = MARS
/* CAMERA DATA ELEMENTS */
DETECTOR_TEMPERATURE = 18.7783
FOCAL_PLANE_TEMPERATURE = 8.7872
INST_CMPRS_NAME = "DISCRETE COSINE TRANSFORMATION (DCT)"
INST_CMPRS_RATIO = 8.60618
INST_CMPRS_QUALITY = 0
INST_CMPRS_QUANTZ_TBL_ID = 0
INSTRUMENT_TEMPERATURE = 11.0301
LENS_TEMPERATURE = 9.3989
MACROPIXEL_SIZE = 2
MISSING_FRAMES = 0
PIXEL_SUBSAMPLING_FLAG = N
SIGNAL_CHAIN_ID = 1
/* RADIOMETRIC DATA ELEMENTS */
BANDWIDTH = 178.0
CENTER_FILTER_WAVELENGTH = 679.0
RADIANCE_OFFSET = 2.23234
RADIANCE_SCALING_FACTOR = 0.0271608
REFLECTANCE_SCALING_FACTOR = 0.000637217
MEX:REFLECTANCE_OFFSET = 0.0523729
/* IMAGE OBJECT DEFINITIONS */
OBJECT = IMAGE
  INTERCHANGE_FORMAT = BINARY
  LINES = 80767
  LINE_SAMPLES = 5449
  SAMPLE_TYPE = UNSIGNED_INTEGER
  SAMPLE_BITS = 8
  BANDS = 1
  BAND_STORAGE_TYPE = BAND_SEQUENTIAL
  MAXIMUM = 255
  MEAN = 90.4846
  MINIMUM = 1
  STANDARD_DEVIATION = 25.7204
END_OBJECT = IMAGE
/* MAP OBJECT DEFINITIONS */
OBJECT = IMAGE_MAP_PROJECTION
  ^DATA_SET_MAP_PROJECTION_CATALOG= "DSMAP.CAT"
  A_AXIS_RADIUS = 3396.0
  B_AXIS_RADIUS = 3396.0
  C_AXIS_RADIUS = 3396.0
  CENTER_LATITUDE = 0.0
  CENTER_LONGITUDE = 272.0
  COORDINATE_SYSTEM_NAME = PLANETOGRAPHIC
  COORDINATE_SYSTEM_TYPE = "BODY-FIXED ROTATING"
  EASTERNMOST_LONGITUDE = 273.137
  FIRST_STANDARD_PARALLEL = "N/A"
  LINE_FIRST_PIXEL = 1
  LINE_LAST_PIXEL = 80767
  LINE_PROJECTION_OFFSET = -7086.25
  MAP_PROJECTION_ROTATION = 0.0
  MAP_PROJECTION_TYPE = SINUSOIDAL
  MAP_RESOLUTION = 2370.85521546667
  MAP_SCALE = 0.025
  MAXIMUM_LATITUDE = -3.02648
  MINIMUM_LATITUDE = -37.1077
  POSITIVE_LONGITUDE_DIRECTION = EAST
  REFERENCE_LATITUDE = "N/A"
  REFERENCE_LONGITUDE = "N/A"
  SAMPLE_FIRST_PIXEL = 1
  SAMPLE_LAST_PIXEL = 5449
  SAMPLE_PROJECTION_OFFSET = 2562.25
  SECOND_STANDARD_PARALLEL = "N/A"
  WESTERNMOST_LONGITUDE = 271.013
END_OBJECT = IMAGE_MAP_PROJECTION
END
