PDS_VERSION_ID = PDS3
/* FILE DATA ELEMENTS */
RECORD_TYPE = UNDEFINED
/* POINTERS TO DATA OBJECTS */
^IMAGE = ("HN123_0000_P14.TIF")
/* IDENTIFICATION DATA ELEMENTS */
DATA_SET_ID = "MEX-M-HRSC-4-REFDR-MAPPROJECT-EXT8-V4.0"
DATA_SET_NAME = "MARS EXPRESS HRSC MAP PROJECTED REFDR EXTENSION8 V4.0"
DETECTOR_ID = MEX_HRSC_P1
EVENT_TYPE = "MARS-LOCAL-CARTOGRAPHY-Vo-Te-La"
INSTRUMENT_HOST_ID = MEX
INSTRUMENT_HOST_NAME = "MARS EXPRESS"
INSTRUMENT_ID = HRSC
INSTRUMENT_NAME = "HIGH RESOLUTION STEREO CAMERA"
MISSION_NAME = "MARS EXPRESS"
MISSION_PHASE_NAME = ME_Phase_46
PROCESSING_LEVEL_ID = 4
PRODUCT_CREATION_TIME = 2023-01-28T22:22:56.000Z
PRODUCT_ID = "HN123_0000_P14.TIF"
RELEASE_ID = 0004
REVISION_ID = 0000
/* QUALITY DATA ELEMENTS */
DATA_QUALITY_ID = 1
DATA_QUALITY_DESC = "Data calculated based on original SPICE kernels"
/* TIME DATA ELEMENTS */
SPACECRAFT_CLOCK_START_COUNT = "1/0598643403.25667"
SPACECRAFT_CLOCK_STOP_COUNT = "1/0598643964.60218"
START_TIME = 2022-04-21T17:51:29.312Z
STOP_TIME = 2022-04-21T18:01:14.915Z
/* ORBITAL DATA ELEMENTS */
ASCENDING_NODE_LONGITUDE = 143.04
MAXIMUM_RESOLUTION = 0.0565
FOOTPRINT_POINT_LATITUDE = (-37.0261,-37.01,-37.0097,-37.0146, -36.1895,-35.0924,-34.5416,-33.7239, -32.9076,-32.0968,-31.0153,-30.3614, -29.7201,-29.081,-28.4434,-27.809, -27.176,-26.5448,-25.9158,-25.2894, -24.3453,-23.7077,-23.0627,-22.414, -21.7535,-21.0896,-20.4165,-19.7335, -19.0443,-18.3465,-17.6392,-16.921, -16.1932,-15.4559,-14.7079,-13.9484, -13.1774,-12.3942,-11.5974,-10.7884, -9.96706,-9.13447,-8.30794,-7.4895, -6.27954,-5.10349,-4.31044,-3.51758, -3.13091,-3.01924,-3.0006,-2.97717, -2.96575,-2.96531,-2.96636,-3.74282, -4.55683,-5.31845,-6.11785,-7.33989, -8.15271,-9.39566,-10.2284,-11.0488, -11.8552,-12.6477,-13.4282,-14.1967, -14.9544,-15.7002,-16.4351,-17.1603, -17.8755,-18.5825,-19.2801,-19.9659, -20.6459,-21.3195,-21.9815,-22.9633, -23.6117,-24.2497,-24.8841,-25.5107, -26.1393,-26.7699,-27.4026,-28.0374, -28.6742,-29.313,-29.9538,-30.6204, -31.215,-32.2993,-33.3883,-34.7522, -35.8497,-36.6781,-36.9539,-37.0261)
FOOTPRINT_POINT_LONGITUDE = (272.988,271.513,271.499,271.492,271.51 ,271.531,271.542,271.552,271.562, 271.568,271.575,271.578,271.58,271.581, 271.581,271.579,271.577,271.573,271.569 ,271.564,271.555,271.548,271.54,271.53, 271.52,271.508,271.496,271.482,271.467, 271.451,271.434,271.415,271.395,271.374 ,271.351,271.327,271.301,271.273, 271.244,271.212,271.179,271.144,271.108 ,271.071,271.012,270.942,270.903, 270.866,270.844,270.837,271.575,272.683 ,273.284,273.307,273.315,273.304, 273.308,273.282,273.272,273.262,273.251 ,273.239,273.231,273.224,273.216,273.21 ,273.203,273.197,273.192,273.186, 273.181,273.176,273.171,273.166,273.161 ,273.156,273.152,273.147,273.142, 273.135,273.131,273.126,273.121,273.116 ,273.111,273.106,273.101,273.095,273.09 ,273.084,273.078,273.071,273.065, 273.054,273.041,273.023,273.008,272.997 ,272.993,272.988)
ORBIT_NUMBER = 23123
ORBITAL_ECCENTRICITY = 0.577
ORBITAL_INCLINATION = 87.0
ORBITAL_SEMIMAJOR_AXIS = 8808.1
PERIAPSIS_ALTITUDE = 342.75
PERIAPSIS_ARGUMENT_ANGLE = 318.02
PERIAPSIS_TIME = 2022-04-21T17:49:55.000Z
SPACECRAFT_ORIENTATION = (0.0,1.0,0.0)
^MEX_ORIENTATION_DESC = "MEX_ORIENTATION_DESC.TXT"
SPACECRAFT_POINTING_MODE = NADIR
^MEX_POINTING_DESC = "MEX_POINTING_DESC.TXT"
RIGHT_ASCENSION = -1e+32
DECLINATION = -1e+32
OFFSET_ANGLE = -1e+32
SPACECRAFT_SOLAR_DISTANCE = 2.10479e+08
TARGET_NAME = MARS
/* CAMERA DATA ELEMENTS */
DETECTOR_TEMPERATURE = 16.7393
FOCAL_PLANE_TEMPERATURE = 8.7872
INST_CMPRS_NAME = "DISCRETE COSINE TRANSFORMATION (DCT)"
INST_CMPRS_RATIO = 8.22637
INST_CMPRS_QUALITY = 0
INST_CMPRS_QUANTZ_TBL_ID = 0
INSTRUMENT_TEMPERATURE = 11.0301
LENS_TEMPERATURE = 9.3989
MACROPIXEL_SIZE = 4
PIXEL_SUBSAMPLING_FLAG = N
SIGNAL_CHAIN_ID = 3
/* RADIOMETRIC DATA ELEMENTS */
BANDWIDTH = 174.0
CENTER_FILTER_WAVELENGTH = 675.0
RADIANCE_OFFSET = 2.18255
RADIANCE_SCALING_FACTOR = 0.0242506
REFLECTANCE_SCALING_FACTOR = 0.000577863
MEX:REFLECTANCE_OFFSET = 0.0520077
/* IMAGE OBJECT DEFINITIONS */
OBJECT = IMAGE
  INTERCHANGE_FORMAT = BINARY
  LINES = 40384
  LINE_SAMPLES = 2725
  SAMPLE_TYPE = UNSIGNED_INTEGER
  SAMPLE_BITS = 8
  BANDS = 1
  BAND_STORAGE_TYPE = BAND_SEQUENTIAL
  MAXIMUM = 255
  MEAN = 93.3037
  MINIMUM = 1
  STANDARD_DEVIATION = 26.804
END_OBJECT = IMAGE
/* MAP OBJECT DEFINITIONS */
OBJECT = IMAGE_MAP_PROJECTION
  ^DATA_SET_MAP_PROJECTION_CATALOG= "DSMAP.CAT"
  A_AXIS_RADIUS = 3396.0
  B_AXIS_RADIUS = 3396.0
  C_AXIS_RADIUS = 3396.0
  CENTER_LATITUDE = 0.0
  CENTER_LONGITUDE = 272.0
  COORDINATE_SYSTEM_NAME = PLANETOGRAPHIC
  COORDINATE_SYSTEM_TYPE = "BODY-FIXED ROTATING"
  EASTERNMOST_LONGITUDE = 273.315
  FIRST_STANDARD_PARALLEL = "N/A"
  LINE_FIRST_PIXEL = 1
  LINE_LAST_PIXEL = 40384
  LINE_PROJECTION_OFFSET = -3543.375
  MAP_PROJECTION_ROTATION = 0.0
  MAP_PROJECTION_TYPE = SINUSOIDAL
  MAP_RESOLUTION = 1185.42760773333
  MAP_SCALE = 0.05
  MAXIMUM_LATITUDE = -2.96531
  MINIMUM_LATITUDE = -37.0261
  POSITIVE_LONGITUDE_DIRECTION = EAST
  REFERENCE_LATITUDE = "N/A"
  REFERENCE_LONGITUDE = "N/A"
  SAMPLE_FIRST_PIXEL = 1
  SAMPLE_LAST_PIXEL = 2725
  SAMPLE_PROJECTION_OFFSET = 1280.875
  SECOND_STANDARD_PARALLEL = "N/A"
  WESTERNMOST_LONGITUDE = 270.837
END_OBJECT = IMAGE_MAP_PROJECTION
END
