PDS_VERSION_ID = PDS3
/* FILE DATA ELEMENTS */
RECORD_TYPE = UNDEFINED
/* POINTERS TO DATA OBJECTS */
^IMAGE = ("HN121_0000_P24.TIF")
/* IDENTIFICATION DATA ELEMENTS */
DATA_SET_ID = "MEX-M-HRSC-4-REFDR-MAPPROJECT-EXT8-V4.0"
DATA_SET_NAME = "MARS EXPRESS HRSC MAP PROJECTED REFDR EXTENSION8 V4.0"
DETECTOR_ID = MEX_HRSC_P2
EVENT_TYPE = "MARS-REGIONAL-MAPPING-Te-Im-Eo"
INSTRUMENT_HOST_ID = MEX
INSTRUMENT_HOST_NAME = "MARS EXPRESS"
INSTRUMENT_ID = HRSC
INSTRUMENT_NAME = "HIGH RESOLUTION STEREO CAMERA"
MISSION_NAME = "MARS EXPRESS"
MISSION_PHASE_NAME = ME_Phase_46
PROCESSING_LEVEL_ID = 4
PRODUCT_CREATION_TIME = 2023-01-28T22:22:56.000Z
PRODUCT_ID = "HN121_0000_P24.TIF"
RELEASE_ID = 0004
REVISION_ID = 0000
/* QUALITY DATA ELEMENTS */
DATA_QUALITY_ID = 1
DATA_QUALITY_DESC = "Data calculated based on original SPICE kernels"
/* TIME DATA ELEMENTS */
SPACECRAFT_CLOCK_START_COUNT = "1/0598592903.25706"
SPACECRAFT_CLOCK_STOP_COUNT = "1/0598593137.18072"
START_TIME = 2022-04-21T03:49:09.903Z
STOP_TIME = 2022-04-21T03:51:58.785Z
/* ORBITAL DATA ELEMENTS */
ASCENDING_NODE_LONGITUDE = 143.07
MAXIMUM_RESOLUTION = 0.0281
FOOTPRINT_POINT_LATITUDE = (-50.8506,-50.8343,-50.8181,-50.8035, -50.8028,-50.7598,-50.4411,-50.2285, -49.9111,-49.6992,-49.4857,-49.2732, -49.0578,-48.7362,-48.5263,-48.312, -48.0938,-47.7679,-47.4458,-47.2307, -47.0154,-46.7998,-46.4761,-46.2598, -45.9357,-45.7195,-45.5034,-45.2871, -45.0704,-44.8534,-44.5293,-44.3135, -44.0953,-43.8785,-43.5535,-43.3337, -43.1131,-42.8947,-42.6762,-42.4602, -42.24,-42.0198,-41.8009,-41.4728, -41.2537,-40.9251,-40.7043,-40.3767, -40.0477,-39.9383,-39.9237,-39.9322, -39.9434,-39.945,-39.945,-39.9454, -40.2733,-40.4922,-40.8226,-41.1509, -41.4799,-41.6992,-41.919,-42.2484, -42.5761,-42.9043,-43.1231,-43.4546, -43.6722,-43.8905,-44.1087,-44.3273, -44.5439,-44.7598,-44.9769,-45.1954, -45.4133,-45.7381,-45.9548,-46.1717, -46.3885,-46.6048,-46.8213,-47.1455, -47.3618,-47.5783,-47.9023,-48.1184, -48.3341,-48.6552,-48.8699,-49.0853, -49.4073,-49.6208,-49.8348,-50.0485, -50.3685,-50.6894,-50.796,-50.8506)
FOOTPRINT_POINT_LONGITUDE = (117.104,116.216,115.602,115.142, 115.123,115.096,115.127,115.147,115.178 ,115.198,115.217,115.237,115.255, 115.281,115.301,115.319,115.334,115.357 ,115.382,115.398,115.414,115.429, 115.452,115.466,115.488,115.502,115.516 ,115.529,115.543,115.556,115.575, 115.588,115.6,115.612,115.631,115.641, 115.651,115.662,115.672,115.683,115.693 ,115.702,115.712,115.726,115.735, 115.748,115.756,115.77,115.782,115.786, 115.787,116.449,116.916,117.325,117.341 ,117.346,117.343,117.341,117.336, 117.333,117.328,117.325,117.322,117.317 ,117.312,117.307,117.304,117.296, 117.293,117.289,117.285,117.281,117.278 ,117.276,117.272,117.268,117.263, 117.258,117.254,117.25,117.245,117.241, 117.237,117.23,117.225,117.22,117.212, 117.207,117.201,117.195,117.19,117.184, 117.176,117.171,117.166,117.16,117.152, 117.142,117.139,117.104)
ORBIT_NUMBER = 23121
ORBITAL_ECCENTRICITY = 0.577
ORBITAL_INCLINATION = 87.0
ORBITAL_SEMIMAJOR_AXIS = 8808.77
PERIAPSIS_ALTITUDE = 342.72
PERIAPSIS_ARGUMENT_ANGLE = 318.35
PERIAPSIS_TIME = 2022-04-21T03:51:54.000Z
SPACECRAFT_ORIENTATION = (0.0,1.0,0.0)
^MEX_ORIENTATION_DESC = "MEX_ORIENTATION_DESC.TXT"
SPACECRAFT_POINTING_MODE = ACROSSTRACK
^MEX_POINTING_DESC = "MEX_POINTING_DESC.TXT"
RIGHT_ASCENSION = -1e+32
DECLINATION = -1e+32
OFFSET_ANGLE = -0.1
SPACECRAFT_SOLAR_DISTANCE = 2.10549e+08
TARGET_NAME = MARS
/* CAMERA DATA ELEMENTS */
DETECTOR_TEMPERATURE = 18.3705
FOCAL_PLANE_TEMPERATURE = 8.3794
INST_CMPRS_NAME = "DISCRETE COSINE TRANSFORMATION (DCT)"
INST_CMPRS_RATIO = 6.4475
INST_CMPRS_QUALITY = 0
INST_CMPRS_QUANTZ_TBL_ID = 0
INSTRUMENT_TEMPERATURE = 11.234
LENS_TEMPERATURE = 7.7677
MACROPIXEL_SIZE = 2
MISSING_FRAMES = 0
PIXEL_SUBSAMPLING_FLAG = N
SIGNAL_CHAIN_ID = 3
/* RADIOMETRIC DATA ELEMENTS */
BANDWIDTH = 177.0
CENTER_FILTER_WAVELENGTH = 676.5
RADIANCE_OFFSET = 3.40305
RADIANCE_SCALING_FACTOR = 0.0153863
REFLECTANCE_SCALING_FACTOR = 0.000361661
MEX:REFLECTANCE_OFFSET = 0.0799898
/* IMAGE OBJECT DEFINITIONS */
OBJECT = IMAGE
  INTERCHANGE_FORMAT = BINARY
  LINES = 25815
  LINE_SAMPLES = 3770
  SAMPLE_TYPE = UNSIGNED_INTEGER
  SAMPLE_BITS = 8
  BANDS = 1
  BAND_STORAGE_TYPE = BAND_SEQUENTIAL
  MAXIMUM = 255
  MEAN = 101.495
  MINIMUM = 1
  STANDARD_DEVIATION = 27.7783
END_OBJECT = IMAGE
/* MAP OBJECT DEFINITIONS */
OBJECT = IMAGE_MAP_PROJECTION
  ^DATA_SET_MAP_PROJECTION_CATALOG= "DSMAP.CAT"
  A_AXIS_RADIUS = 3396.0
  B_AXIS_RADIUS = 3396.0
  C_AXIS_RADIUS = 3396.0
  CENTER_LATITUDE = 0.0
  CENTER_LONGITUDE = 116.0
  COORDINATE_SYSTEM_NAME = PLANETOGRAPHIC
  COORDINATE_SYSTEM_TYPE = "BODY-FIXED ROTATING"
  EASTERNMOST_LONGITUDE = 117.346
  FIRST_STANDARD_PARALLEL = "N/A"
  LINE_FIRST_PIXEL = 1
  LINE_LAST_PIXEL = 25815
  LINE_PROJECTION_OFFSET = -94627.75
  MAP_PROJECTION_ROTATION = 0.0
  MAP_PROJECTION_TYPE = SINUSOIDAL
  MAP_RESOLUTION = 2370.85521546667
  MAP_SCALE = 0.025
  MAXIMUM_LATITUDE = -39.9237
  MINIMUM_LATITUDE = -50.8506
  POSITIVE_LONGITUDE_DIRECTION = EAST
  REFERENCE_LATITUDE = "N/A"
  REFERENCE_LONGITUDE = "N/A"
  SAMPLE_FIRST_PIXEL = 1
  SAMPLE_LAST_PIXEL = 3770
  SAMPLE_PROJECTION_OFFSET = 1326.75
  SECOND_STANDARD_PARALLEL = "N/A"
  WESTERNMOST_LONGITUDE = 115.096
END_OBJECT = IMAGE_MAP_PROJECTION
END
