PDS_VERSION_ID = PDS3
/* FILE DATA ELEMENTS */
RECORD_TYPE = UNDEFINED
/* POINTERS TO DATA OBJECTS */
^IMAGE = ("HN115_0000_P14.TIF")
/* IDENTIFICATION DATA ELEMENTS */
DATA_SET_ID = "MEX-M-HRSC-4-REFDR-MAPPROJECT-EXT8-V4.0"
DATA_SET_NAME = "MARS EXPRESS HRSC MAP PROJECTED REFDR EXTENSION8 V4.0"
DETECTOR_ID = MEX_HRSC_P1
EVENT_TYPE = "MARS-REGIONAL-MAPPING-Im-Fl-Mw"
INSTRUMENT_HOST_ID = MEX
INSTRUMENT_HOST_NAME = "MARS EXPRESS"
INSTRUMENT_ID = HRSC
INSTRUMENT_NAME = "HIGH RESOLUTION STEREO CAMERA"
MISSION_NAME = "MARS EXPRESS"
MISSION_PHASE_NAME = ME_Phase_46
PROCESSING_LEVEL_ID = 4
PRODUCT_CREATION_TIME = 2023-01-28T22:22:56.000Z
PRODUCT_ID = "HN115_0000_P14.TIF"
RELEASE_ID = 0004
REVISION_ID = 0000
/* QUALITY DATA ELEMENTS */
DATA_QUALITY_ID = 1
DATA_QUALITY_DESC = "Data calculated based on original SPICE kernels"
/* TIME DATA ELEMENTS */
SPACECRAFT_CLOCK_START_COUNT = "1/0598442523.25690"
SPACECRAFT_CLOCK_STOP_COUNT = "1/0598442862.13412"
START_TIME = 2022-04-19T10:03:43.354Z
STOP_TIME = 2022-04-19T10:07:50.052Z
/* ORBITAL DATA ELEMENTS */
ASCENDING_NODE_LONGITUDE = 143.18
MAXIMUM_RESOLUTION = 0.0359
FOOTPRINT_POINT_LATITUDE = (-20.6072,-20.5908,-20.5766,-20.5622, -20.5618,-20.5693,-20.0704,-19.6998, -19.3219,-18.8187,-18.3085,-18.0524, -17.7967,-17.4068,-17.1469,-16.8877, -16.6235,-16.3589,-16.095,-15.6997, -15.4321,-15.1638,-14.8878,-14.477, -14.2019,-13.9258,-13.6546,-13.3755, -13.0951,-12.8084,-12.5245,-12.2414, -11.9537,-11.667,-11.3753,-10.9384, -10.6425,-10.3473,-10.0486,-9.6022, -9.14777,-8.84276,-8.53632,-8.22723, -7.76098,-7.44803,-7.13231,-6.81562, -6.65554,-6.6271,-6.63197,-6.63551, -6.64175,-6.64788,-6.65182,-6.65213, -6.65291,-7.13145,-7.44809,-7.76192, -8.22923,-8.53895,-8.84399,-9.14911, -9.45163,-9.75587,-10.2049,-10.6481, -10.9445,-11.2361,-11.6728,-11.9604, -12.2498,-12.5339,-12.8188,-13.2415, -13.5209,-13.9376,-14.2153,-14.4915, -14.7636,-15.0359,-15.3075,-15.5757, -15.8443,-16.1123,-16.3763,-16.7719, -17.1634,-17.4269,-17.8202,-18.0745, -18.3318,-18.589,-19.095,-19.5938, -19.9687,-20.4657,-20.5902,-20.6072)
FOOTPRINT_POINT_LONGITUDE = (11.5736,10.9352,10.4143,9.90708, 9.89144,9.88947,9.87462,9.86417,9.85332 ,9.83856,9.82313,9.81522,9.80719, 9.79491,9.78664,9.77833,9.76964,9.76077 ,9.75187,9.73981,9.73064,9.72118, 9.71063,9.69526,9.68533,9.67517,9.66593 ,9.65568,9.64487,9.63288,9.62187, 9.61076,9.59932,9.5879,9.57574,9.55772, 9.54521,9.53268,9.5198,9.50069,9.48061, 9.46696,9.45307,9.43894,9.41732,9.40265 ,9.38763,9.37241,9.36465,9.36326, 9.89082,10.2327,10.7745,11.2591,11.5713 ,11.5937,11.6018,11.5988,11.5967, 11.5944,11.5913,11.5891,11.5856,11.583, 11.5809,11.5819,11.5795,11.5764,11.5759 ,11.5749,11.5733,11.5721,11.5723, 11.5718,11.5718,11.5712,11.5693,11.5685 ,11.5697,11.5693,11.5692,11.5686, 11.5687,11.5688,11.5687,11.5694,11.5694 ,11.568,11.5675,11.5721,11.576,11.5746, 11.5767,11.578,11.5794,11.5729,11.576, 11.5796,11.5805,11.5736)
ORBIT_NUMBER = 23115
ORBITAL_ECCENTRICITY = 0.576
ORBITAL_INCLINATION = 87.0
ORBITAL_SEMIMAJOR_AXIS = 8808.03
PERIAPSIS_ALTITUDE = 343.56
PERIAPSIS_ARGUMENT_ANGLE = 319.38
PERIAPSIS_TIME = 2022-04-19T09:58:06.000Z
SPACECRAFT_ORIENTATION = (0.0,1.0,0.0)
^MEX_ORIENTATION_DESC = "MEX_ORIENTATION_DESC.TXT"
SPACECRAFT_POINTING_MODE = ACROSSTRACK
^MEX_POINTING_DESC = "MEX_POINTING_DESC.TXT"
RIGHT_ASCENSION = -1e+32
DECLINATION = -1e+32
OFFSET_ANGLE = -1.3
SPACECRAFT_SOLAR_DISTANCE = 2.10764e+08
TARGET_NAME = MARS
/* CAMERA DATA ELEMENTS */
DETECTOR_TEMPERATURE = 17.7588
FOCAL_PLANE_TEMPERATURE = 8.3794
INST_CMPRS_NAME = "DISCRETE COSINE TRANSFORMATION (DCT)"
INST_CMPRS_RATIO = 7.67392
INST_CMPRS_QUALITY = 0
INST_CMPRS_QUANTZ_TBL_ID = 0
INSTRUMENT_TEMPERATURE = 11.0301
LENS_TEMPERATURE = 8.7872
MACROPIXEL_SIZE = 2
MISSING_FRAMES = 0
PIXEL_SUBSAMPLING_FLAG = N
SIGNAL_CHAIN_ID = 3
/* RADIOMETRIC DATA ELEMENTS */
BANDWIDTH = 174.0
CENTER_FILTER_WAVELENGTH = 675.0
RADIANCE_OFFSET = 2.68724
RADIANCE_SCALING_FACTOR = 0.0133114
REFLECTANCE_SCALING_FACTOR = 0.000318056
MEX:REFLECTANCE_OFFSET = 0.0642075
/* IMAGE OBJECT DEFINITIONS */
OBJECT = IMAGE
  INTERCHANGE_FORMAT = BINARY
  LINES = 33184
  LINE_SAMPLES = 4944
  SAMPLE_TYPE = UNSIGNED_INTEGER
  SAMPLE_BITS = 8
  BANDS = 1
  BAND_STORAGE_TYPE = BAND_SEQUENTIAL
  MAXIMUM = 255
  MEAN = 98.0379
  MINIMUM = 1
  STANDARD_DEVIATION = 34.9729
END_OBJECT = IMAGE
/* MAP OBJECT DEFINITIONS */
OBJECT = IMAGE_MAP_PROJECTION
  ^DATA_SET_MAP_PROJECTION_CATALOG= "DSMAP.CAT"
  A_AXIS_RADIUS = 3396.0
  B_AXIS_RADIUS = 3396.0
  C_AXIS_RADIUS = 3396.0
  CENTER_LATITUDE = 0.0
  CENTER_LONGITUDE = 11.0
  COORDINATE_SYSTEM_NAME = PLANETOGRAPHIC
  COORDINATE_SYSTEM_TYPE = "BODY-FIXED ROTATING"
  EASTERNMOST_LONGITUDE = 11.6018
  FIRST_STANDARD_PARALLEL = "N/A"
  LINE_FIRST_PIXEL = 1
  LINE_LAST_PIXEL = 33184
  LINE_PROJECTION_OFFSET = -15675.75
  MAP_PROJECTION_ROTATION = 0.0
  MAP_PROJECTION_TYPE = SINUSOIDAL
  MAP_RESOLUTION = 2370.85521546667
  MAP_SCALE = 0.025
  MAXIMUM_LATITUDE = -6.6271
  MINIMUM_LATITUDE = -20.6072
  POSITIVE_LONGITUDE_DIRECTION = EAST
  REFERENCE_LATITUDE = "N/A"
  REFERENCE_LONGITUDE = "N/A"
  SAMPLE_FIRST_PIXEL = 1
  SAMPLE_LAST_PIXEL = 4944
  SAMPLE_PROJECTION_OFFSET = 3714.25
  SECOND_STANDARD_PARALLEL = "N/A"
  WESTERNMOST_LONGITUDE = 9.36326
END_OBJECT = IMAGE_MAP_PROJECTION
END
